* [dpdk-test-report] |SUCCESS| pw60415 [PATCH] [v2] net/mlx5: fix compilation issue with gcc pragma
@ 2019-10-02 6:41 dpdklab
0 siblings, 0 replies; 4+ messages in thread
From: dpdklab @ 2019-10-02 6:41 UTC (permalink / raw)
To: Test Report; +Cc: dpdk-test-reports
[-- Attachment #1: Type: text/plain, Size: 2015 bytes --]
Test-Label: iol-intel-Performance
Test-Status: SUCCESS
http://dpdk.org/patch/60415
_Performance Testing PASS_
Submitter: Slava Ovsiienko <viacheslavo@mellanox.com>
Date: Wednesday, October 02 2019 06:08:25
DPDK git baseline: Repo:dpdk-next-net-mlx
Branch: master
CommitID:61160e49a8a03ce8bce6d53409d4b2a3556b7a2f
60415 --> performance testing pass
Test environment and result as below:
Ubuntu 18.04
Kernel: 4.15.0-generic
GCC: 7.4
NIC: Intel Corporation Ethernet Converged Network Adapter XL710-QDA2 40000 Mbps
Target: x86_64-native-linuxapp-gcc
Fail/Total: 0/2
Detail performance results:
+------------+---------+-------------------------------------+
| frame_size | txd/rxd | throughput difference from expected |
+============+=========+=====================================+
| 64 | 512 | -0.439 |
+------------+---------+-------------------------------------+
| 64 | 2048 | -0.657 |
+------------+---------+-------------------------------------+
Ubuntu 18.04
Kernel: 4.15.0-generic
GCC: 7.4
NIC: Intel Corporation Ethernet Converged Network Adapter 82599ES 10000 Mbps
Target: x86_64-native-linuxapp-gcc
Fail/Total: 0/3
Detail performance results:
+------------+---------+-------------------------------------+
| frame_size | txd/rxd | throughput difference from expected |
+============+=========+=====================================+
| 64 | 128 | 0.162 |
+------------+---------+-------------------------------------+
| 64 | 512 | 0.077 |
+------------+---------+-------------------------------------+
| 64 | 2048 | -0.141 |
+------------+---------+-------------------------------------+
https://lab.dpdk.org/results/dashboard/patchsets/7756/
UNH-IOL DPDK Performance Test Lab
To manage your email subscriptions visit:
https://lab.dpdk.org/results/dashboard/preferences/subscriptions/
^ permalink raw reply [flat|nested] 4+ messages in thread
* [dpdk-test-report] |SUCCESS| pw60415 [PATCH] [v2] net/mlx5: fix compilation issue with gcc pragma
@ 2019-10-02 7:08 dpdklab
0 siblings, 0 replies; 4+ messages in thread
From: dpdklab @ 2019-10-02 7:08 UTC (permalink / raw)
To: Ali Alnubani, Test Report; +Cc: dpdk-test-reports
[-- Attachment #1: Type: text/plain, Size: 3930 bytes --]
Test-Label: iol-mellanox-Performance
Test-Status: SUCCESS
http://dpdk.org/patch/60415
_Performance Testing PASS_
Submitter: Slava Ovsiienko <viacheslavo@mellanox.com>
Date: Wednesday, October 02 2019 06:08:25
DPDK git baseline: Repo:dpdk-next-net-mlx
Branch: master
CommitID:61160e49a8a03ce8bce6d53409d4b2a3556b7a2f
60415 --> performance testing pass
Test environment and result as below:
Ubuntu 18.04
Kernel: 4.15.0-generic
GCC: 7.4
NIC: Mellanox ConnectX-4 Lx 40000 Mbps
Target: x86_64-native-linuxapp-gcc
Fail/Total: 0/6
Detail performance results:
+------------+---------+-------------------------------------+
| frame_size | txd/rxd | throughput difference from expected |
+============+=========+=====================================+
| 64 | 256 | 0.378 |
+------------+---------+-------------------------------------+
| 128 | 256 | -0.465 |
+------------+---------+-------------------------------------+
| 256 | 256 | -0.040 |
+------------+---------+-------------------------------------+
| 512 | 256 | 0.013 |
+------------+---------+-------------------------------------+
| 1024 | 256 | 0.003 |
+------------+---------+-------------------------------------+
| 1518 | 256 | 0.022 |
+------------+---------+-------------------------------------+
Ubuntu 18.04
Kernel: 4.15.0-generic
GCC: 7.4
NIC: Mellanox ConnectX-4 Lx 25000 Mbps
Target: x86_64-native-linuxapp-gcc
Fail/Total: 0/6
Detail performance results:
+------------+---------+-------------------------------------+
| frame_size | txd/rxd | throughput difference from expected |
+============+=========+=====================================+
| 64 | 256 | 0.079 |
+------------+---------+-------------------------------------+
| 128 | 256 | 0.125 |
+------------+---------+-------------------------------------+
| 256 | 256 | 0.018 |
+------------+---------+-------------------------------------+
| 512 | 256 | -0.001 |
+------------+---------+-------------------------------------+
| 1024 | 256 | -0.001 |
+------------+---------+-------------------------------------+
| 1518 | 256 | -0.008 |
+------------+---------+-------------------------------------+
Ubuntu 18.04
Kernel: 4.15.0-generic
GCC: 7.4
NIC: Mellanox ConnectX-5 100000 Mbps
Target: x86_64-native-linuxapp-gcc
Fail/Total: 0/6
Detail performance results:
+------------+---------+-------------------------------------+
| frame_size | txd/rxd | throughput difference from expected |
+============+=========+=====================================+
| 64 | 256 | -0.274 |
+------------+---------+-------------------------------------+
| 128 | 256 | 0.013 |
+------------+---------+-------------------------------------+
| 256 | 256 | 0.123 |
+------------+---------+-------------------------------------+
| 512 | 256 | -0.034 |
+------------+---------+-------------------------------------+
| 1024 | 256 | 0.025 |
+------------+---------+-------------------------------------+
| 1518 | 256 | -0.015 |
+------------+---------+-------------------------------------+
https://lab.dpdk.org/results/dashboard/patchsets/7756/
UNH-IOL DPDK Performance Test Lab
To manage your email subscriptions visit:
https://lab.dpdk.org/results/dashboard/preferences/subscriptions/
^ permalink raw reply [flat|nested] 4+ messages in thread
* [dpdk-test-report] |SUCCESS| pw60415 [PATCH] [v2] net/mlx5: fix compilation issue with gcc pragma
@ 2019-10-02 6:37 dpdklab
0 siblings, 0 replies; 4+ messages in thread
From: dpdklab @ 2019-10-02 6:37 UTC (permalink / raw)
To: Test Report; +Cc: dpdk-test-reports
[-- Attachment #1: Type: text/plain, Size: 1166 bytes --]
Test-Label: iol-compilation
Test-Status: SUCCESS
http://dpdk.org/patch/60415
_Compile Testing PASS_
Submitter: Slava Ovsiienko <viacheslavo@mellanox.com>
Date: Wednesday, October 02 2019 06:08:25
DPDK git baseline: Repo:dpdk-next-net-mlx
Branch: master
CommitID:61160e49a8a03ce8bce6d53409d4b2a3556b7a2f
60415 --> compile testing pass
Test environment and result as below:
+--------------+------------------+-------------------+--------------+
| Environment | dpdk_compile_ovs | dpdk_compile_spdk | dpdk_compile |
+==============+==================+===================+==============+
| Ubuntu 18.04 | PASS | PASS | PASS |
+--------------+------------------+-------------------+--------------+
| FreeBSD 11.2 | | PASS | PASS |
+--------------+------------------+-------------------+--------------+
Ubuntu 18.04
Kernel: 4.15.0-generic
GCC: 7.4
FreeBSD 11.2
Kernel: 11.2
GCC: 8.3
https://lab.dpdk.org/results/dashboard/patchsets/7756/
UNH-IOL DPDK Performance Test Lab
To manage your email subscriptions visit:
https://lab.dpdk.org/results/dashboard/preferences/subscriptions/
^ permalink raw reply [flat|nested] 4+ messages in thread
* [dpdk-test-report] |SUCCESS| pw60415 [PATCH v2] net/mlx5: fix compilation issue with gcc pragma
[not found] <1569996505-17707-1-git-send-email-viacheslavo@mellanox.com>
@ 2019-10-02 6:08 ` checkpatch
0 siblings, 0 replies; 4+ messages in thread
From: checkpatch @ 2019-10-02 6:08 UTC (permalink / raw)
To: test-report
Test-Label: checkpatch
Test-Status: SUCCESS
http://dpdk.org/patch/60415
_coding style OK_
^ permalink raw reply [flat|nested] 4+ messages in thread
end of thread, other threads:[~2019-10-02 7:08 UTC | newest]
Thread overview: 4+ messages (download: mbox.gz / follow: Atom feed)
-- links below jump to the message on this page --
2019-10-02 6:41 [dpdk-test-report] |SUCCESS| pw60415 [PATCH] [v2] net/mlx5: fix compilation issue with gcc pragma dpdklab
-- strict thread matches above, loose matches on Subject: below --
2019-10-02 7:08 dpdklab
2019-10-02 6:37 dpdklab
[not found] <1569996505-17707-1-git-send-email-viacheslavo@mellanox.com>
2019-10-02 6:08 ` [dpdk-test-report] |SUCCESS| pw60415 [PATCH v2] " checkpatch
This is a public inbox, see mirroring instructions
for how to clone and mirror all data and code used for this inbox;
as well as URLs for NNTP newsgroup(s).