* [dpdk-test-report] |SUCCESS| pw60769 [PATCH] [v2] net/dpaa2: set port in the mbuf
@ 2019-10-09 13:05 dpdklab
0 siblings, 0 replies; 4+ messages in thread
From: dpdklab @ 2019-10-09 13:05 UTC (permalink / raw)
To: Test Report; +Cc: dpdk-test-reports
[-- Attachment #1: Type: text/plain, Size: 1153 bytes --]
Test-Label: iol-compilation
Test-Status: SUCCESS
http://dpdk.org/patch/60769
_Compile Testing PASS_
Submitter: Nipun Gupta <nipun.gupta@nxp.com>
Date: Wednesday, October 09 2019 11:13:23
DPDK git baseline: Repo:dpdk-next-net
Branch: master
CommitID:57b0bf0ded66b20a4f2ffb16d5b9ab0d98096c82
60769 --> compile testing pass
Test environment and result as below:
+--------------+------------------+-------------------+--------------+
| Environment | dpdk_compile_ovs | dpdk_compile_spdk | dpdk_compile |
+==============+==================+===================+==============+
| Ubuntu 18.04 | PASS | PASS | PASS |
+--------------+------------------+-------------------+--------------+
| FreeBSD 11.2 | | PASS | PASS |
+--------------+------------------+-------------------+--------------+
Ubuntu 18.04
Kernel: 4.15.0-generic
GCC: 7.4
FreeBSD 11.2
Kernel: 11.2
GCC: 8.3
https://lab.dpdk.org/results/dashboard/patchsets/7849/
UNH-IOL DPDK Performance Test Lab
To manage your email subscriptions visit:
https://lab.dpdk.org/results/dashboard/preferences/subscriptions/
^ permalink raw reply [flat|nested] 4+ messages in thread
* [dpdk-test-report] |SUCCESS| pw60769 [PATCH] [v2] net/dpaa2: set port in the mbuf
@ 2019-10-09 14:48 dpdklab
0 siblings, 0 replies; 4+ messages in thread
From: dpdklab @ 2019-10-09 14:48 UTC (permalink / raw)
To: Ali Alnubani, Test Report; +Cc: dpdk-test-reports
[-- Attachment #1: Type: text/plain, Size: 3917 bytes --]
Test-Label: iol-mellanox-Performance
Test-Status: SUCCESS
http://dpdk.org/patch/60769
_Performance Testing PASS_
Submitter: Nipun Gupta <nipun.gupta@nxp.com>
Date: Wednesday, October 09 2019 11:13:23
DPDK git baseline: Repo:dpdk-next-net
Branch: master
CommitID:57b0bf0ded66b20a4f2ffb16d5b9ab0d98096c82
60769 --> performance testing pass
Test environment and result as below:
Ubuntu 18.04
Kernel: 4.15.0-generic
GCC: 7.4
NIC: Mellanox ConnectX-5 100000 Mbps
Target: x86_64-native-linuxapp-gcc
Fail/Total: 0/6
Detail performance results:
+------------+---------+-------------------------------------+
| frame_size | txd/rxd | throughput difference from expected |
+============+=========+=====================================+
| 64 | 256 | -0.209 |
+------------+---------+-------------------------------------+
| 128 | 256 | -0.056 |
+------------+---------+-------------------------------------+
| 256 | 256 | 0.238 |
+------------+---------+-------------------------------------+
| 512 | 256 | 0.277 |
+------------+---------+-------------------------------------+
| 1024 | 256 | 0.088 |
+------------+---------+-------------------------------------+
| 1518 | 256 | -0.064 |
+------------+---------+-------------------------------------+
Ubuntu 18.04
Kernel: 4.15.0-generic
GCC: 7.4
NIC: Mellanox ConnectX-4 Lx 25000 Mbps
Target: x86_64-native-linuxapp-gcc
Fail/Total: 0/6
Detail performance results:
+------------+---------+-------------------------------------+
| frame_size | txd/rxd | throughput difference from expected |
+============+=========+=====================================+
| 64 | 256 | -0.169 |
+------------+---------+-------------------------------------+
| 128 | 256 | 0.209 |
+------------+---------+-------------------------------------+
| 256 | 256 | 0.428 |
+------------+---------+-------------------------------------+
| 512 | 256 | 0.018 |
+------------+---------+-------------------------------------+
| 1024 | 256 | 0.008 |
+------------+---------+-------------------------------------+
| 1518 | 256 | -0.010 |
+------------+---------+-------------------------------------+
Ubuntu 18.04
Kernel: 4.15.0-generic
GCC: 7.4
NIC: Mellanox ConnectX-4 Lx 40000 Mbps
Target: x86_64-native-linuxapp-gcc
Fail/Total: 0/6
Detail performance results:
+------------+---------+-------------------------------------+
| frame_size | txd/rxd | throughput difference from expected |
+============+=========+=====================================+
| 64 | 256 | -0.785 |
+------------+---------+-------------------------------------+
| 128 | 256 | -0.114 |
+------------+---------+-------------------------------------+
| 256 | 256 | 0.644 |
+------------+---------+-------------------------------------+
| 512 | 256 | 0.003 |
+------------+---------+-------------------------------------+
| 1024 | 256 | -0.002 |
+------------+---------+-------------------------------------+
| 1518 | 256 | 0 |
+------------+---------+-------------------------------------+
https://lab.dpdk.org/results/dashboard/patchsets/7849/
UNH-IOL DPDK Performance Test Lab
To manage your email subscriptions visit:
https://lab.dpdk.org/results/dashboard/preferences/subscriptions/
^ permalink raw reply [flat|nested] 4+ messages in thread
* [dpdk-test-report] |SUCCESS| pw60769 [PATCH] [v2] net/dpaa2: set port in the mbuf
@ 2019-10-09 13:11 dpdklab
0 siblings, 0 replies; 4+ messages in thread
From: dpdklab @ 2019-10-09 13:11 UTC (permalink / raw)
To: Test Report; +Cc: dpdk-test-reports
[-- Attachment #1: Type: text/plain, Size: 2002 bytes --]
Test-Label: iol-intel-Performance
Test-Status: SUCCESS
http://dpdk.org/patch/60769
_Performance Testing PASS_
Submitter: Nipun Gupta <nipun.gupta@nxp.com>
Date: Wednesday, October 09 2019 11:13:23
DPDK git baseline: Repo:dpdk-next-net
Branch: master
CommitID:57b0bf0ded66b20a4f2ffb16d5b9ab0d98096c82
60769 --> performance testing pass
Test environment and result as below:
Ubuntu 18.04
Kernel: 4.15.0-generic
GCC: 7.4
NIC: Intel Corporation Ethernet Converged Network Adapter 82599ES 10000 Mbps
Target: x86_64-native-linuxapp-gcc
Fail/Total: 0/3
Detail performance results:
+------------+---------+-------------------------------------+
| frame_size | txd/rxd | throughput difference from expected |
+============+=========+=====================================+
| 64 | 128 | 0.326 |
+------------+---------+-------------------------------------+
| 64 | 512 | -0.333 |
+------------+---------+-------------------------------------+
| 64 | 2048 | -0.369 |
+------------+---------+-------------------------------------+
Ubuntu 18.04
Kernel: 4.15.0-generic
GCC: 7.4
NIC: Intel Corporation Ethernet Converged Network Adapter XL710-QDA2 40000 Mbps
Target: x86_64-native-linuxapp-gcc
Fail/Total: 0/2
Detail performance results:
+------------+---------+-------------------------------------+
| frame_size | txd/rxd | throughput difference from expected |
+============+=========+=====================================+
| 64 | 512 | 0.100 |
+------------+---------+-------------------------------------+
| 64 | 2048 | -0.164 |
+------------+---------+-------------------------------------+
https://lab.dpdk.org/results/dashboard/patchsets/7849/
UNH-IOL DPDK Performance Test Lab
To manage your email subscriptions visit:
https://lab.dpdk.org/results/dashboard/preferences/subscriptions/
^ permalink raw reply [flat|nested] 4+ messages in thread
* [dpdk-test-report] |SUCCESS| pw60769 [PATCH v2] net/dpaa2: set port in the mbuf
[not found] <20191009111323.11358-1-nipun.gupta@nxp.com>
@ 2019-10-09 11:29 ` checkpatch
0 siblings, 0 replies; 4+ messages in thread
From: checkpatch @ 2019-10-09 11:29 UTC (permalink / raw)
To: test-report
Test-Label: checkpatch
Test-Status: SUCCESS
http://dpdk.org/patch/60769
_coding style OK_
^ permalink raw reply [flat|nested] 4+ messages in thread
end of thread, other threads:[~2019-10-09 14:49 UTC | newest]
Thread overview: 4+ messages (download: mbox.gz / follow: Atom feed)
-- links below jump to the message on this page --
2019-10-09 13:05 [dpdk-test-report] |SUCCESS| pw60769 [PATCH] [v2] net/dpaa2: set port in the mbuf dpdklab
-- strict thread matches above, loose matches on Subject: below --
2019-10-09 14:48 dpdklab
2019-10-09 13:11 dpdklab
[not found] <20191009111323.11358-1-nipun.gupta@nxp.com>
2019-10-09 11:29 ` [dpdk-test-report] |SUCCESS| pw60769 [PATCH v2] " checkpatch
This is a public inbox, see mirroring instructions
for how to clone and mirror all data and code used for this inbox;
as well as URLs for NNTP newsgroup(s).