automatic DPDK test reports
 help / color / Atom feed
* [dpdk-test-report] |SUCCESS| pw60763 [PATCH] [v3] cryptodev: extend api of asymmetric crypto by sessionless
@ 2019-10-09 13:40 dpdklab
  0 siblings, 0 replies; 4+ messages in thread
From: dpdklab @ 2019-10-09 13:40 UTC (permalink / raw)
  To: Test Report; +Cc: dpdk-test-reports

[-- Attachment #1: Type: text/plain, Size: 2010 bytes --]

Test-Label: iol-intel-Performance
Test-Status: SUCCESS
http://dpdk.org/patch/60763

_Performance Testing PASS_

Submitter: Kusztal, ArkadiuszX <arkadiuszx.kusztal@intel.com>
Date: Wednesday, October 09 2019 08:32:55 
DPDK git baseline: Repo:dpdk
  Branch: master
  CommitID:5b5bb56532fd5dea5d6260c0a0e405c0e32da2a0

60763 --> performance testing pass

Test environment and result as below:

Ubuntu 18.04
Kernel: 4.15.0-generic
GCC: 7.4
NIC: Intel Corporation Ethernet Converged Network Adapter 82599ES 10000 Mbps
Target: x86_64-native-linuxapp-gcc
Fail/Total: 0/3

Detail performance results: 
+------------+---------+-------------------------------------+
| frame_size | txd/rxd | throughput difference from expected |
+============+=========+=====================================+
| 64         | 128     | -0.094                              |
+------------+---------+-------------------------------------+
| 64         | 512     | -0.066                              |
+------------+---------+-------------------------------------+
| 64         | 2048    | -0.051                              |
+------------+---------+-------------------------------------+

Ubuntu 18.04
Kernel: 4.15.0-generic
GCC: 7.4
NIC: Intel Corporation Ethernet Converged Network Adapter XL710-QDA2 40000 Mbps
Target: x86_64-native-linuxapp-gcc
Fail/Total: 0/2

Detail performance results: 
+------------+---------+-------------------------------------+
| frame_size | txd/rxd | throughput difference from expected |
+============+=========+=====================================+
| 64         | 512     | -0.060                              |
+------------+---------+-------------------------------------+
| 64         | 2048    | 0.133                               |
+------------+---------+-------------------------------------+

https://lab.dpdk.org/results/dashboard/patchsets/7846/

UNH-IOL DPDK Performance Test Lab

To manage your email subscriptions visit: 
https://lab.dpdk.org/results/dashboard/preferences/subscriptions/

^ permalink raw reply	[flat|nested] 4+ messages in thread

* [dpdk-test-report] |SUCCESS| pw60763 [PATCH] [v3] cryptodev: extend api of asymmetric crypto by sessionless
@ 2019-10-09 17:22 dpdklab
  0 siblings, 0 replies; 4+ messages in thread
From: dpdklab @ 2019-10-09 17:22 UTC (permalink / raw)
  To: Ali Alnubani, Test Report; +Cc: dpdk-test-reports

[-- Attachment #1: Type: text/plain, Size: 3918 bytes --]

Test-Label: iol-mellanox-Performance
Test-Status: SUCCESS
http://dpdk.org/patch/60763

_Performance Testing PASS_

Submitter: Arek Kusztal <arkadiuszx.kusztal@intel.com>
Date: Wednesday, October 09 2019 08:32:55 
DPDK git baseline: Repo:dpdk
  Branch: master
  CommitID:5b5bb56532fd5dea5d6260c0a0e405c0e32da2a0

60763 --> performance testing pass

Test environment and result as below:

Ubuntu 18.04
Kernel: 4.15.0-generic
GCC: 7.4
NIC: Mellanox ConnectX-4 Lx 40000 Mbps
Target: x86_64-native-linuxapp-gcc
Fail/Total: 0/6

Detail performance results: 
+------------+---------+-------------------------------------+
| frame_size | txd/rxd | throughput difference from expected |
+============+=========+=====================================+
| 64         | 256     | -0.297                              |
+------------+---------+-------------------------------------+
| 128        | 256     | 0.699                               |
+------------+---------+-------------------------------------+
| 256        | 256     | 0.626                               |
+------------+---------+-------------------------------------+
| 512        | 256     | 0.045                               |
+------------+---------+-------------------------------------+
| 1024       | 256     | 0.022                               |
+------------+---------+-------------------------------------+
| 1518       | 256     | -0.004                              |
+------------+---------+-------------------------------------+

Ubuntu 18.04
Kernel: 4.15.0-generic
GCC: 7.4
NIC: Mellanox ConnectX-5 100000 Mbps
Target: x86_64-native-linuxapp-gcc
Fail/Total: 0/6

Detail performance results: 
+------------+---------+-------------------------------------+
| frame_size | txd/rxd | throughput difference from expected |
+============+=========+=====================================+
| 64         | 256     | -0.094                              |
+------------+---------+-------------------------------------+
| 128        | 256     | 0.031                               |
+------------+---------+-------------------------------------+
| 256        | 256     | 0.304                               |
+------------+---------+-------------------------------------+
| 512        | 256     | 0.236                               |
+------------+---------+-------------------------------------+
| 1024       | 256     | 0.116                               |
+------------+---------+-------------------------------------+
| 1518       | 256     | -0.079                              |
+------------+---------+-------------------------------------+

Ubuntu 18.04
Kernel: 4.15.0-generic
GCC: 7.4
NIC: Mellanox ConnectX-4 Lx 25000 Mbps
Target: x86_64-native-linuxapp-gcc
Fail/Total: 0/6

Detail performance results: 
+------------+---------+-------------------------------------+
| frame_size | txd/rxd | throughput difference from expected |
+============+=========+=====================================+
| 64         | 256     | -0.215                              |
+------------+---------+-------------------------------------+
| 128        | 256     | 0.210                               |
+------------+---------+-------------------------------------+
| 256        | 256     | 0.441                               |
+------------+---------+-------------------------------------+
| 512        | 256     | -0.001                              |
+------------+---------+-------------------------------------+
| 1024       | 256     | -0.001                              |
+------------+---------+-------------------------------------+
| 1518       | 256     | -0.006                              |
+------------+---------+-------------------------------------+

https://lab.dpdk.org/results/dashboard/patchsets/7846/

UNH-IOL DPDK Performance Test Lab

To manage your email subscriptions visit: 
https://lab.dpdk.org/results/dashboard/preferences/subscriptions/

^ permalink raw reply	[flat|nested] 4+ messages in thread

* [dpdk-test-report] |SUCCESS| pw60763 [PATCH] [v3] cryptodev: extend api of asymmetric crypto by sessionless
@ 2019-10-09 13:35 dpdklab
  0 siblings, 0 replies; 4+ messages in thread
From: dpdklab @ 2019-10-09 13:35 UTC (permalink / raw)
  To: Test Report; +Cc: dpdk-test-reports

[-- Attachment #1: Type: text/plain, Size: 1161 bytes --]

Test-Label: iol-compilation
Test-Status: SUCCESS
http://dpdk.org/patch/60763

_Compile Testing PASS_

Submitter: Kusztal, ArkadiuszX <arkadiuszx.kusztal@intel.com>
Date: Wednesday, October 09 2019 08:32:55 
DPDK git baseline: Repo:dpdk
  Branch: master
  CommitID:5b5bb56532fd5dea5d6260c0a0e405c0e32da2a0

60763 --> compile testing pass

Test environment and result as below:

+--------------+------------------+-------------------+--------------+
| Environment  | dpdk_compile_ovs | dpdk_compile_spdk | dpdk_compile |
+==============+==================+===================+==============+
| Ubuntu 18.04 | PASS             | PASS              | PASS         |
+--------------+------------------+-------------------+--------------+
| FreeBSD 11.2 |                  | PASS              | PASS         |
+--------------+------------------+-------------------+--------------+

Ubuntu 18.04
	Kernel: 4.15.0-generic
	GCC: 7.4

FreeBSD 11.2
	Kernel: 11.2
	GCC: 8.3

https://lab.dpdk.org/results/dashboard/patchsets/7846/

UNH-IOL DPDK Performance Test Lab

To manage your email subscriptions visit: 
https://lab.dpdk.org/results/dashboard/preferences/subscriptions/

^ permalink raw reply	[flat|nested] 4+ messages in thread

* [dpdk-test-report] |SUCCESS| pw60763 [PATCH v3] cryptodev: extend api of asymmetric crypto by sessionless
       [not found] <20191009083255.8804-1-arkadiuszx.kusztal@intel.com>
@ 2019-10-09  8:34 ` " checkpatch
  0 siblings, 0 replies; 4+ messages in thread
From: checkpatch @ 2019-10-09  8:34 UTC (permalink / raw)
  To: test-report

Test-Label: checkpatch
Test-Status: SUCCESS
http://dpdk.org/patch/60763

_coding style OK_



^ permalink raw reply	[flat|nested] 4+ messages in thread

end of thread, back to index

Thread overview: 4+ messages (download: mbox.gz / follow: Atom feed)
-- links below jump to the message on this page --
2019-10-09 13:40 [dpdk-test-report] |SUCCESS| pw60763 [PATCH] [v3] cryptodev: extend api of asymmetric crypto by sessionless dpdklab
  -- strict thread matches above, loose matches on Subject: below --
2019-10-09 17:22 dpdklab
2019-10-09 13:35 dpdklab
     [not found] <20191009083255.8804-1-arkadiuszx.kusztal@intel.com>
2019-10-09  8:34 ` [dpdk-test-report] |SUCCESS| pw60763 [PATCH v3] " checkpatch

automatic DPDK test reports

Archives are clonable:
	git clone --mirror http://inbox.dpdk.org/test-report/0 test-report/git/0.git

	# If you have public-inbox 1.1+ installed, you may
	# initialize and index your mirror using the following commands:
	public-inbox-init -V2 test-report test-report/ http://inbox.dpdk.org/test-report \
		test-report@dpdk.org
	public-inbox-index test-report


Newsgroup available over NNTP:
	nntp://inbox.dpdk.org/inbox.dpdk.test-report


AGPL code for this site: git clone https://public-inbox.org/ public-inbox