automatic DPDK test reports
 help / color / Atom feed
* [dpdk-test-report] |SUCCESS| pw60776-60775 [PATCH] [v2, 1/4] net/virtio: reject deferred start Rx queue setup
@ 2019-10-09 14:10 dpdklab
  0 siblings, 0 replies; 3+ messages in thread
From: dpdklab @ 2019-10-09 14:10 UTC (permalink / raw)
  To: Ali Alnubani, Test Report; +Cc: dpdk-test-reports

[-- Attachment #1: Type: text/plain, Size: 3925 bytes --]

Test-Label: iol-mellanox-Performance
Test-Status: SUCCESS
http://dpdk.org/patch/60776

_Performance Testing PASS_

Submitter: Andrew Rybchenko <arybchenko@solarflare.com>
Date: Wednesday, October 09 2019 12:32:05 
DPDK git baseline: Repo:dpdk
  Branch: master
  CommitID:5b5bb56532fd5dea5d6260c0a0e405c0e32da2a0

60776-60775 --> performance testing pass

Test environment and result as below:

Ubuntu 18.04
Kernel: 4.15.0-generic
GCC: 7.4
NIC: Mellanox ConnectX-4 Lx 25000 Mbps
Target: x86_64-native-linuxapp-gcc
Fail/Total: 0/6

Detail performance results: 
+------------+---------+-------------------------------------+
| frame_size | txd/rxd | throughput difference from expected |
+============+=========+=====================================+
| 64         | 256     | -0.104                              |
+------------+---------+-------------------------------------+
| 128        | 256     | 0.072                               |
+------------+---------+-------------------------------------+
| 256        | 256     | 0.442                               |
+------------+---------+-------------------------------------+
| 512        | 256     | 0.003                               |
+------------+---------+-------------------------------------+
| 1024       | 256     | 0.004                               |
+------------+---------+-------------------------------------+
| 1518       | 256     | -0.012                              |
+------------+---------+-------------------------------------+

Ubuntu 18.04
Kernel: 4.15.0-generic
GCC: 7.4
NIC: Mellanox ConnectX-5 100000 Mbps
Target: x86_64-native-linuxapp-gcc
Fail/Total: 0/6

Detail performance results: 
+------------+---------+-------------------------------------+
| frame_size | txd/rxd | throughput difference from expected |
+============+=========+=====================================+
| 64         | 256     | -0.254                              |
+------------+---------+-------------------------------------+
| 128        | 256     | 0.073                               |
+------------+---------+-------------------------------------+
| 256        | 256     | 0.348                               |
+------------+---------+-------------------------------------+
| 512        | 256     | 0.209                               |
+------------+---------+-------------------------------------+
| 1024       | 256     | 0.119                               |
+------------+---------+-------------------------------------+
| 1518       | 256     | -0.084                              |
+------------+---------+-------------------------------------+

Ubuntu 18.04
Kernel: 4.15.0-generic
GCC: 7.4
NIC: Mellanox ConnectX-4 Lx 40000 Mbps
Target: x86_64-native-linuxapp-gcc
Fail/Total: 0/6

Detail performance results: 
+------------+---------+-------------------------------------+
| frame_size | txd/rxd | throughput difference from expected |
+============+=========+=====================================+
| 64         | 256     | -0.869                              |
+------------+---------+-------------------------------------+
| 128        | 256     | 0.245                               |
+------------+---------+-------------------------------------+
| 256        | 256     | 0.616                               |
+------------+---------+-------------------------------------+
| 512        | 256     | -0.002                              |
+------------+---------+-------------------------------------+
| 1024       | 256     | -0.003                              |
+------------+---------+-------------------------------------+
| 1518       | 256     | 0.008                               |
+------------+---------+-------------------------------------+

https://lab.dpdk.org/results/dashboard/patchsets/7851/

UNH-IOL DPDK Performance Test Lab

To manage your email subscriptions visit: 
https://lab.dpdk.org/results/dashboard/preferences/subscriptions/

^ permalink raw reply	[flat|nested] 3+ messages in thread

* [dpdk-test-report] |SUCCESS| pw60776-60775 [PATCH] [v2, 1/4] net/virtio: reject deferred start Rx queue setup
@ 2019-10-09 12:55 dpdklab
  0 siblings, 0 replies; 3+ messages in thread
From: dpdklab @ 2019-10-09 12:55 UTC (permalink / raw)
  To: Test Report; +Cc: dpdk-test-reports

[-- Attachment #1: Type: text/plain, Size: 2010 bytes --]

Test-Label: iol-intel-Performance
Test-Status: SUCCESS
http://dpdk.org/patch/60776

_Performance Testing PASS_

Submitter: Andrew Rybchenko <arybchenko@solarflare.com>
Date: Wednesday, October 09 2019 12:32:05 
DPDK git baseline: Repo:dpdk
  Branch: master
  CommitID:5b5bb56532fd5dea5d6260c0a0e405c0e32da2a0

60776-60775 --> performance testing pass

Test environment and result as below:

Ubuntu 18.04
Kernel: 4.15.0-generic
GCC: 7.4
NIC: Intel Corporation Ethernet Converged Network Adapter 82599ES 10000 Mbps
Target: x86_64-native-linuxapp-gcc
Fail/Total: 0/3

Detail performance results: 
+------------+---------+-------------------------------------+
| frame_size | txd/rxd | throughput difference from expected |
+============+=========+=====================================+
| 64         | 128     | -0.083                              |
+------------+---------+-------------------------------------+
| 64         | 512     | 0.008                               |
+------------+---------+-------------------------------------+
| 64         | 2048    | -0.211                              |
+------------+---------+-------------------------------------+

Ubuntu 18.04
Kernel: 4.15.0-generic
GCC: 7.4
NIC: Intel Corporation Ethernet Converged Network Adapter XL710-QDA2 40000 Mbps
Target: x86_64-native-linuxapp-gcc
Fail/Total: 0/2

Detail performance results: 
+------------+---------+-------------------------------------+
| frame_size | txd/rxd | throughput difference from expected |
+============+=========+=====================================+
| 64         | 512     | 0.178                               |
+------------+---------+-------------------------------------+
| 64         | 2048    | -0.127                              |
+------------+---------+-------------------------------------+

https://lab.dpdk.org/results/dashboard/patchsets/7851/

UNH-IOL DPDK Performance Test Lab

To manage your email subscriptions visit: 
https://lab.dpdk.org/results/dashboard/preferences/subscriptions/

^ permalink raw reply	[flat|nested] 3+ messages in thread

* [dpdk-test-report] |SUCCESS| pw60776-60775 [PATCH] [v2, 1/4] net/virtio: reject deferred start Rx queue setup
@ 2019-10-09 12:50 dpdklab
  0 siblings, 0 replies; 3+ messages in thread
From: dpdklab @ 2019-10-09 12:50 UTC (permalink / raw)
  To: Test Report; +Cc: dpdk-test-reports

[-- Attachment #1: Type: text/plain, Size: 1161 bytes --]

Test-Label: iol-compilation
Test-Status: SUCCESS
http://dpdk.org/patch/60776

_Compile Testing PASS_

Submitter: Andrew Rybchenko <arybchenko@solarflare.com>
Date: Wednesday, October 09 2019 12:32:05 
DPDK git baseline: Repo:dpdk
  Branch: master
  CommitID:5b5bb56532fd5dea5d6260c0a0e405c0e32da2a0

60776-60775 --> compile testing pass

Test environment and result as below:

+--------------+------------------+--------------+-------------------+
| Environment  | dpdk_compile_ovs | dpdk_compile | dpdk_compile_spdk |
+==============+==================+==============+===================+
| Ubuntu 18.04 | PASS             | PASS         | PASS              |
+--------------+------------------+--------------+-------------------+
| FreeBSD 11.2 |                  | PASS         | PASS              |
+--------------+------------------+--------------+-------------------+

Ubuntu 18.04
	Kernel: 4.15.0-generic
	GCC: 7.4

FreeBSD 11.2
	Kernel: 11.2
	GCC: 8.3

https://lab.dpdk.org/results/dashboard/patchsets/7851/

UNH-IOL DPDK Performance Test Lab

To manage your email subscriptions visit: 
https://lab.dpdk.org/results/dashboard/preferences/subscriptions/

^ permalink raw reply	[flat|nested] 3+ messages in thread

end of thread, back to index

Thread overview: 3+ messages (download: mbox.gz / follow: Atom feed)
-- links below jump to the message on this page --
2019-10-09 14:10 [dpdk-test-report] |SUCCESS| pw60776-60775 [PATCH] [v2, 1/4] net/virtio: reject deferred start Rx queue setup dpdklab
  -- strict thread matches above, loose matches on Subject: below --
2019-10-09 12:55 dpdklab
2019-10-09 12:50 dpdklab

automatic DPDK test reports

Archives are clonable:
	git clone --mirror http://inbox.dpdk.org/test-report/0 test-report/git/0.git

	# If you have public-inbox 1.1+ installed, you may
	# initialize and index your mirror using the following commands:
	public-inbox-init -V2 test-report test-report/ http://inbox.dpdk.org/test-report \
		test-report@dpdk.org
	public-inbox-index test-report


Newsgroup available over NNTP:
	nntp://inbox.dpdk.org/inbox.dpdk.test-report


AGPL code for this site: git clone https://public-inbox.org/ public-inbox