automatic DPDK test reports
 help / color / Atom feed
* [dpdk-test-report] |SUCCESS| [GIT MASTER] 5e0844938f2ed51186b75146eaa8b3358991f25e
@ 2019-10-09 19:18 dpdklab
  0 siblings, 0 replies; 3+ messages in thread
From: dpdklab @ 2019-10-09 19:18 UTC (permalink / raw)
  To: Ali Alnubani, Test Report; +Cc: dpdk-test-reports

[-- Attachment #1: Type: text/plain, Size: 3694 bytes --]

_Performance Testing PASS_

Branch: dpdk-next-crypto

5e0844938f2ed51186b75146eaa8b3358991f25e --> performance testing pass

Test environment and result as below:

Ubuntu 18.04
Kernel: 4.15.0-generic
GCC: 7.4
NIC: Mellanox ConnectX-5 100000 Mbps
Target: x86_64-native-linuxapp-gcc
Fail/Total: 0/6

Detail performance results: 
+------------+---------+-------------------------------------+
| frame_size | txd/rxd | throughput difference from expected |
+============+=========+=====================================+
| 64         | 256     | -0.325                              |
+------------+---------+-------------------------------------+
| 128        | 256     | -0.008                              |
+------------+---------+-------------------------------------+
| 256        | 256     | 0.368                               |
+------------+---------+-------------------------------------+
| 512        | 256     | 0.175                               |
+------------+---------+-------------------------------------+
| 1024       | 256     | 0.103                               |
+------------+---------+-------------------------------------+
| 1518       | 256     | -0.074                              |
+------------+---------+-------------------------------------+

Ubuntu 18.04
Kernel: 4.15.0-generic
GCC: 7.4
NIC: Mellanox ConnectX-4 Lx 40000 Mbps
Target: x86_64-native-linuxapp-gcc
Fail/Total: 0/6

Detail performance results: 
+------------+---------+-------------------------------------+
| frame_size | txd/rxd | throughput difference from expected |
+============+=========+=====================================+
| 64         | 256     | -0.617                              |
+------------+---------+-------------------------------------+
| 128        | 256     | 0.598                               |
+------------+---------+-------------------------------------+
| 256        | 256     | 0.635                               |
+------------+---------+-------------------------------------+
| 512        | 256     | 0.001                               |
+------------+---------+-------------------------------------+
| 1024       | 256     | -0.002                              |
+------------+---------+-------------------------------------+
| 1518       | 256     | 0.007                               |
+------------+---------+-------------------------------------+

Ubuntu 18.04
Kernel: 4.15.0-generic
GCC: 7.4
NIC: Mellanox ConnectX-4 Lx 25000 Mbps
Target: x86_64-native-linuxapp-gcc
Fail/Total: 0/6

Detail performance results: 
+------------+---------+-------------------------------------+
| frame_size | txd/rxd | throughput difference from expected |
+============+=========+=====================================+
| 64         | 256     | -0.068                              |
+------------+---------+-------------------------------------+
| 128        | 256     | 0.153                               |
+------------+---------+-------------------------------------+
| 256        | 256     | 0.454                               |
+------------+---------+-------------------------------------+
| 512        | 256     | 0.035                               |
+------------+---------+-------------------------------------+
| 1024       | 256     | 0.002                               |
+------------+---------+-------------------------------------+
| 1518       | 256     | -0.007                              |
+------------+---------+-------------------------------------+

https://lab.dpdk.org/results/dashboard/tarballs/6472/

UNH-IOL DPDK Performance Test Lab

To manage your email subscriptions visit: 
https://lab.dpdk.org/results/dashboard/preferences/subscriptions/

^ permalink raw reply	[flat|nested] 3+ messages in thread

* [dpdk-test-report] |SUCCESS| [GIT MASTER] 5e0844938f2ed51186b75146eaa8b3358991f25e
@ 2019-10-09 15:45 dpdklab
  0 siblings, 0 replies; 3+ messages in thread
From: dpdklab @ 2019-10-09 15:45 UTC (permalink / raw)
  To: Test Report; +Cc: dpdk-test-reports

[-- Attachment #1: Type: text/plain, Size: 1782 bytes --]

_Performance Testing PASS_

Branch: dpdk-next-crypto

5e0844938f2ed51186b75146eaa8b3358991f25e --> performance testing pass

Test environment and result as below:

Ubuntu 18.04
Kernel: 4.15.0-generic
GCC: 7.4
NIC: Intel Corporation Ethernet Converged Network Adapter 82599ES 10000 Mbps
Target: x86_64-native-linuxapp-gcc
Fail/Total: 0/3

Detail performance results: 
+------------+---------+-------------------------------------+
| frame_size | txd/rxd | throughput difference from expected |
+============+=========+=====================================+
| 64         | 128     | 0.118                               |
+------------+---------+-------------------------------------+
| 64         | 512     | 0.534                               |
+------------+---------+-------------------------------------+
| 64         | 2048    | -0.138                              |
+------------+---------+-------------------------------------+

Ubuntu 18.04
Kernel: 4.15.0-generic
GCC: 7.4
NIC: Intel Corporation Ethernet Converged Network Adapter XL710-QDA2 40000 Mbps
Target: x86_64-native-linuxapp-gcc
Fail/Total: 0/2

Detail performance results: 
+------------+---------+-------------------------------------+
| frame_size | txd/rxd | throughput difference from expected |
+============+=========+=====================================+
| 64         | 512     | -0.155                              |
+------------+---------+-------------------------------------+
| 64         | 2048    | -0.143                              |
+------------+---------+-------------------------------------+

https://lab.dpdk.org/results/dashboard/tarballs/6472/

UNH-IOL DPDK Performance Test Lab

To manage your email subscriptions visit: 
https://lab.dpdk.org/results/dashboard/preferences/subscriptions/

^ permalink raw reply	[flat|nested] 3+ messages in thread

* [dpdk-test-report] |SUCCESS| [GIT MASTER] 5e0844938f2ed51186b75146eaa8b3358991f25e
@ 2019-10-09 15:40 dpdklab
  0 siblings, 0 replies; 3+ messages in thread
From: dpdklab @ 2019-10-09 15:40 UTC (permalink / raw)
  To: Test Report; +Cc: dpdk-test-reports

[-- Attachment #1: Type: text/plain, Size: 939 bytes --]

_Compile Testing PASS_

Branch: dpdk-next-crypto

5e0844938f2ed51186b75146eaa8b3358991f25e --> compile testing pass

Test environment and result as below:

+--------------+------------------+--------------+-------------------+
| Environment  | dpdk_compile_ovs | dpdk_compile | dpdk_compile_spdk |
+==============+==================+==============+===================+
| Ubuntu 18.04 | PASS             | PASS         | PASS              |
+--------------+------------------+--------------+-------------------+
| FreeBSD 11.2 |                  | PASS         | PASS              |
+--------------+------------------+--------------+-------------------+

Ubuntu 18.04
	Kernel: 4.15.0-generic
	GCC: 7.4

FreeBSD 11.2
	Kernel: 11.2
	GCC: 8.3

https://lab.dpdk.org/results/dashboard/tarballs/6472/

UNH-IOL DPDK Performance Test Lab

To manage your email subscriptions visit: 
https://lab.dpdk.org/results/dashboard/preferences/subscriptions/

^ permalink raw reply	[flat|nested] 3+ messages in thread

end of thread, back to index

Thread overview: 3+ messages (download: mbox.gz / follow: Atom feed)
-- links below jump to the message on this page --
2019-10-09 19:18 [dpdk-test-report] |SUCCESS| [GIT MASTER] 5e0844938f2ed51186b75146eaa8b3358991f25e dpdklab
  -- strict thread matches above, loose matches on Subject: below --
2019-10-09 15:45 dpdklab
2019-10-09 15:40 dpdklab

automatic DPDK test reports

Archives are clonable:
	git clone --mirror http://inbox.dpdk.org/test-report/0 test-report/git/0.git

	# If you have public-inbox 1.1+ installed, you may
	# initialize and index your mirror using the following commands:
	public-inbox-init -V2 test-report test-report/ http://inbox.dpdk.org/test-report \
		test-report@dpdk.org
	public-inbox-index test-report


Newsgroup available over NNTP:
	nntp://inbox.dpdk.org/inbox.dpdk.test-report


AGPL code for this site: git clone https://public-inbox.org/ public-inbox