automatic DPDK test reports
 help / color / Atom feed
* [dpdk-test-report] |SUCCESS| pw60838-60846 [PATCH] [v2, 01/12] net/bnxt: fix return checks and return values
@ 2019-10-10  2:26 dpdklab
  0 siblings, 0 replies; 3+ messages in thread
From: dpdklab @ 2019-10-10  2:26 UTC (permalink / raw)
  To: Test Report; +Cc: dpdk-test-reports

[-- Attachment #1: Type: text/plain, Size: 2016 bytes --]

Test-Label: iol-intel-Performance
Test-Status: SUCCESS
http://dpdk.org/patch/60838

_Performance Testing PASS_

Submitter: Ajit Khaparde <ajit.khaparde@broadcom.com>
Date: Thursday, October 10 2019 01:41:42 
DPDK git baseline: Repo:dpdk-next-net
  Branch: master
  CommitID:ba718080c23485f1f35a7fdafd9bc6d693e8e2a8

60838-60846 --> performance testing pass

Test environment and result as below:

Ubuntu 18.04
Kernel: 4.15.0-generic
GCC: 7.4
NIC: Intel Corporation Ethernet Converged Network Adapter 82599ES 10000 Mbps
Target: x86_64-native-linuxapp-gcc
Fail/Total: 0/3

Detail performance results: 
+------------+---------+-------------------------------------+
| frame_size | txd/rxd | throughput difference from expected |
+============+=========+=====================================+
| 64         | 128     | -0.150                              |
+------------+---------+-------------------------------------+
| 64         | 512     | -0.132                              |
+------------+---------+-------------------------------------+
| 64         | 2048    | 0.028                               |
+------------+---------+-------------------------------------+

Ubuntu 18.04
Kernel: 4.15.0-generic
GCC: 7.4
NIC: Intel Corporation Ethernet Converged Network Adapter XL710-QDA2 40000 Mbps
Target: x86_64-native-linuxapp-gcc
Fail/Total: 0/2

Detail performance results: 
+------------+---------+-------------------------------------+
| frame_size | txd/rxd | throughput difference from expected |
+============+=========+=====================================+
| 64         | 512     | -0.224                              |
+------------+---------+-------------------------------------+
| 64         | 2048    | -0.001                              |
+------------+---------+-------------------------------------+

https://lab.dpdk.org/results/dashboard/patchsets/7863/

UNH-IOL DPDK Performance Test Lab

To manage your email subscriptions visit: 
https://lab.dpdk.org/results/dashboard/preferences/subscriptions/

^ permalink raw reply	[flat|nested] 3+ messages in thread

* [dpdk-test-report] |SUCCESS| pw60838-60846 [PATCH] [v2, 01/12] net/bnxt: fix return checks and return values
@ 2019-10-10  2:53 dpdklab
  0 siblings, 0 replies; 3+ messages in thread
From: dpdklab @ 2019-10-10  2:53 UTC (permalink / raw)
  To: Ali Alnubani, Test Report; +Cc: dpdk-test-reports

[-- Attachment #1: Type: text/plain, Size: 3931 bytes --]

Test-Label: iol-mellanox-Performance
Test-Status: SUCCESS
http://dpdk.org/patch/60838

_Performance Testing PASS_

Submitter: Ajit Khaparde <ajit.khaparde@broadcom.com>
Date: Thursday, October 10 2019 01:41:42 
DPDK git baseline: Repo:dpdk-next-net
  Branch: master
  CommitID:ba718080c23485f1f35a7fdafd9bc6d693e8e2a8

60838-60846 --> performance testing pass

Test environment and result as below:

Ubuntu 18.04
Kernel: 4.15.0-generic
GCC: 7.4
NIC: Mellanox ConnectX-5 100000 Mbps
Target: x86_64-native-linuxapp-gcc
Fail/Total: 0/6

Detail performance results: 
+------------+---------+-------------------------------------+
| frame_size | txd/rxd | throughput difference from expected |
+============+=========+=====================================+
| 64         | 256     | 0.316                               |
+------------+---------+-------------------------------------+
| 128        | 256     | -0.059                              |
+------------+---------+-------------------------------------+
| 256        | 256     | 0.026                               |
+------------+---------+-------------------------------------+
| 512        | 256     | -0.115                              |
+------------+---------+-------------------------------------+
| 1024       | 256     | 0.017                               |
+------------+---------+-------------------------------------+
| 1518       | 256     | -0.030                              |
+------------+---------+-------------------------------------+

Ubuntu 18.04
Kernel: 4.15.0-generic
GCC: 7.4
NIC: Mellanox ConnectX-4 Lx 25000 Mbps
Target: x86_64-native-linuxapp-gcc
Fail/Total: 0/6

Detail performance results: 
+------------+---------+-------------------------------------+
| frame_size | txd/rxd | throughput difference from expected |
+============+=========+=====================================+
| 64         | 256     | 0.247                               |
+------------+---------+-------------------------------------+
| 128        | 256     | 0.139                               |
+------------+---------+-------------------------------------+
| 256        | 256     | 0.016                               |
+------------+---------+-------------------------------------+
| 512        | 256     | 0.043                               |
+------------+---------+-------------------------------------+
| 1024       | 256     | 0                                   |
+------------+---------+-------------------------------------+
| 1518       | 256     | 0.007                               |
+------------+---------+-------------------------------------+

Ubuntu 18.04
Kernel: 4.15.0-generic
GCC: 7.4
NIC: Mellanox ConnectX-4 Lx 40000 Mbps
Target: x86_64-native-linuxapp-gcc
Fail/Total: 0/6

Detail performance results: 
+------------+---------+-------------------------------------+
| frame_size | txd/rxd | throughput difference from expected |
+============+=========+=====================================+
| 64         | 256     | -0.072                              |
+------------+---------+-------------------------------------+
| 128        | 256     | 0.255                               |
+------------+---------+-------------------------------------+
| 256        | 256     | 0.055                               |
+------------+---------+-------------------------------------+
| 512        | 256     | 0.004                               |
+------------+---------+-------------------------------------+
| 1024       | 256     | 0.001                               |
+------------+---------+-------------------------------------+
| 1518       | 256     | -0.009                              |
+------------+---------+-------------------------------------+

https://lab.dpdk.org/results/dashboard/patchsets/7863/

UNH-IOL DPDK Performance Test Lab

To manage your email subscriptions visit: 
https://lab.dpdk.org/results/dashboard/preferences/subscriptions/

^ permalink raw reply	[flat|nested] 3+ messages in thread

* [dpdk-test-report] |SUCCESS| pw60838-60846 [PATCH] [v2, 01/12] net/bnxt: fix return checks and return values
@ 2019-10-10  2:21 dpdklab
  0 siblings, 0 replies; 3+ messages in thread
From: dpdklab @ 2019-10-10  2:21 UTC (permalink / raw)
  To: Test Report; +Cc: dpdk-test-reports

[-- Attachment #1: Type: text/plain, Size: 1167 bytes --]

Test-Label: iol-compilation
Test-Status: SUCCESS
http://dpdk.org/patch/60838

_Compile Testing PASS_

Submitter: Ajit Khaparde <ajit.khaparde@broadcom.com>
Date: Thursday, October 10 2019 01:41:42 
DPDK git baseline: Repo:dpdk-next-net
  Branch: master
  CommitID:ba718080c23485f1f35a7fdafd9bc6d693e8e2a8

60838-60846 --> compile testing pass

Test environment and result as below:

+--------------+--------------+------------------+-------------------+
| Environment  | dpdk_compile | dpdk_compile_ovs | dpdk_compile_spdk |
+==============+==============+==================+===================+
| Ubuntu 18.04 | PASS         | PASS             | PASS              |
+--------------+--------------+------------------+-------------------+
| FreeBSD 11.2 | PASS         |                  | PASS              |
+--------------+--------------+------------------+-------------------+

Ubuntu 18.04
	Kernel: 4.15.0-generic
	GCC: 7.4

FreeBSD 11.2
	Kernel: 11.2
	GCC: 8.3

https://lab.dpdk.org/results/dashboard/patchsets/7863/

UNH-IOL DPDK Performance Test Lab

To manage your email subscriptions visit: 
https://lab.dpdk.org/results/dashboard/preferences/subscriptions/

^ permalink raw reply	[flat|nested] 3+ messages in thread

end of thread, back to index

Thread overview: 3+ messages (download: mbox.gz / follow: Atom feed)
-- links below jump to the message on this page --
2019-10-10  2:26 [dpdk-test-report] |SUCCESS| pw60838-60846 [PATCH] [v2, 01/12] net/bnxt: fix return checks and return values dpdklab
  -- strict thread matches above, loose matches on Subject: below --
2019-10-10  2:53 dpdklab
2019-10-10  2:21 dpdklab

automatic DPDK test reports

Archives are clonable:
	git clone --mirror http://inbox.dpdk.org/test-report/0 test-report/git/0.git

	# If you have public-inbox 1.1+ installed, you may
	# initialize and index your mirror using the following commands:
	public-inbox-init -V2 test-report test-report/ http://inbox.dpdk.org/test-report \
		test-report@dpdk.org
	public-inbox-index test-report


Newsgroup available over NNTP:
	nntp://inbox.dpdk.org/inbox.dpdk.test-report


AGPL code for this site: git clone https://public-inbox.org/ public-inbox