automatic DPDK test reports
 help / color / Atom feed
* [dpdk-test-report] |SUCCESS| pw60824 [PATCH] net/af_packet: improve Tx statistics accuracy
@ 2019-10-10  3:25 dpdklab
  0 siblings, 0 replies; 4+ messages in thread
From: dpdklab @ 2019-10-10  3:25 UTC (permalink / raw)
  To: Test Report; +Cc: dpdk-test-reports

[-- Attachment #1: Type: text/plain, Size: 2005 bytes --]

Test-Label: iol-intel-Performance
Test-Status: SUCCESS
http://dpdk.org/patch/60824

_Performance Testing PASS_

Submitter: Flavia Musatescu <flavia.musatescu@intel.com>
Date: Wednesday, October 09 2019 15:29:09 
DPDK git baseline: Repo:dpdk
  Branch: master
  CommitID:b0f66a68ca7448296fd598e6e100ad278e417ed6

60824 --> performance testing pass

Test environment and result as below:

Ubuntu 18.04
Kernel: 4.15.0-generic
GCC: 7.4
NIC: Intel Corporation Ethernet Converged Network Adapter 82599ES 10000 Mbps
Target: x86_64-native-linuxapp-gcc
Fail/Total: 0/3

Detail performance results: 
+------------+---------+-------------------------------------+
| frame_size | txd/rxd | throughput difference from expected |
+============+=========+=====================================+
| 64         | 128     | -0.055                              |
+------------+---------+-------------------------------------+
| 64         | 512     | 0.572                               |
+------------+---------+-------------------------------------+
| 64         | 2048    | 0.055                               |
+------------+---------+-------------------------------------+

Ubuntu 18.04
Kernel: 4.15.0-generic
GCC: 7.4
NIC: Intel Corporation Ethernet Converged Network Adapter XL710-QDA2 40000 Mbps
Target: x86_64-native-linuxapp-gcc
Fail/Total: 0/2

Detail performance results: 
+------------+---------+-------------------------------------+
| frame_size | txd/rxd | throughput difference from expected |
+============+=========+=====================================+
| 64         | 512     | -0.009                              |
+------------+---------+-------------------------------------+
| 64         | 2048    | 0.100                               |
+------------+---------+-------------------------------------+

https://lab.dpdk.org/results/dashboard/patchsets/7860/

UNH-IOL DPDK Performance Test Lab

To manage your email subscriptions visit: 
https://lab.dpdk.org/results/dashboard/preferences/subscriptions/

^ permalink raw reply	[flat|nested] 4+ messages in thread

* [dpdk-test-report] |SUCCESS| pw60824 [PATCH] net/af_packet: improve Tx statistics accuracy
@ 2019-10-10  5:27 dpdklab
  0 siblings, 0 replies; 4+ messages in thread
From: dpdklab @ 2019-10-10  5:27 UTC (permalink / raw)
  To: Ali Alnubani, Test Report; +Cc: dpdk-test-reports

[-- Attachment #1: Type: text/plain, Size: 3920 bytes --]

Test-Label: iol-mellanox-Performance
Test-Status: SUCCESS
http://dpdk.org/patch/60824

_Performance Testing PASS_

Submitter: Flavia Musatescu <flavia.musatescu@intel.com>
Date: Wednesday, October 09 2019 15:29:09 
DPDK git baseline: Repo:dpdk
  Branch: master
  CommitID:b0f66a68ca7448296fd598e6e100ad278e417ed6

60824 --> performance testing pass

Test environment and result as below:

Ubuntu 18.04
Kernel: 4.15.0-generic
GCC: 7.4
NIC: Mellanox ConnectX-5 100000 Mbps
Target: x86_64-native-linuxapp-gcc
Fail/Total: 0/6

Detail performance results: 
+------------+---------+-------------------------------------+
| frame_size | txd/rxd | throughput difference from expected |
+============+=========+=====================================+
| 64         | 256     | 0.047                               |
+------------+---------+-------------------------------------+
| 128        | 256     | 0.024                               |
+------------+---------+-------------------------------------+
| 256        | 256     | 0.052                               |
+------------+---------+-------------------------------------+
| 512        | 256     | 0.150                               |
+------------+---------+-------------------------------------+
| 1024       | 256     | 0.020                               |
+------------+---------+-------------------------------------+
| 1518       | 256     | -0.002                              |
+------------+---------+-------------------------------------+

Ubuntu 18.04
Kernel: 4.15.0-generic
GCC: 7.4
NIC: Mellanox ConnectX-4 Lx 25000 Mbps
Target: x86_64-native-linuxapp-gcc
Fail/Total: 0/6

Detail performance results: 
+------------+---------+-------------------------------------+
| frame_size | txd/rxd | throughput difference from expected |
+============+=========+=====================================+
| 64         | 256     | 0.086                               |
+------------+---------+-------------------------------------+
| 128        | 256     | 0.099                               |
+------------+---------+-------------------------------------+
| 256        | 256     | 0.022                               |
+------------+---------+-------------------------------------+
| 512        | 256     | 0.007                               |
+------------+---------+-------------------------------------+
| 1024       | 256     | 0.010                               |
+------------+---------+-------------------------------------+
| 1518       | 256     | -0.004                              |
+------------+---------+-------------------------------------+

Ubuntu 18.04
Kernel: 4.15.0-generic
GCC: 7.4
NIC: Mellanox ConnectX-4 Lx 40000 Mbps
Target: x86_64-native-linuxapp-gcc
Fail/Total: 0/6

Detail performance results: 
+------------+---------+-------------------------------------+
| frame_size | txd/rxd | throughput difference from expected |
+============+=========+=====================================+
| 64         | 256     | 0.045                               |
+------------+---------+-------------------------------------+
| 128        | 256     | 0.206                               |
+------------+---------+-------------------------------------+
| 256        | 256     | 0.011                               |
+------------+---------+-------------------------------------+
| 512        | 256     | 0.021                               |
+------------+---------+-------------------------------------+
| 1024       | 256     | -0.004                              |
+------------+---------+-------------------------------------+
| 1518       | 256     | 0                                   |
+------------+---------+-------------------------------------+

https://lab.dpdk.org/results/dashboard/patchsets/7860/

UNH-IOL DPDK Performance Test Lab

To manage your email subscriptions visit: 
https://lab.dpdk.org/results/dashboard/preferences/subscriptions/

^ permalink raw reply	[flat|nested] 4+ messages in thread

* [dpdk-test-report] |SUCCESS| pw60824 [PATCH] net/af_packet: improve Tx statistics accuracy
@ 2019-10-10  3:20 dpdklab
  0 siblings, 0 replies; 4+ messages in thread
From: dpdklab @ 2019-10-10  3:20 UTC (permalink / raw)
  To: Test Report; +Cc: dpdk-test-reports

[-- Attachment #1: Type: text/plain, Size: 1156 bytes --]

Test-Label: iol-compilation
Test-Status: SUCCESS
http://dpdk.org/patch/60824

_Compile Testing PASS_

Submitter: Flavia Musatescu <flavia.musatescu@intel.com>
Date: Wednesday, October 09 2019 15:29:09 
DPDK git baseline: Repo:dpdk
  Branch: master
  CommitID:b0f66a68ca7448296fd598e6e100ad278e417ed6

60824 --> compile testing pass

Test environment and result as below:

+--------------+--------------+-------------------+------------------+
| Environment  | dpdk_compile | dpdk_compile_spdk | dpdk_compile_ovs |
+==============+==============+===================+==================+
| Ubuntu 18.04 | PASS         | PASS              | PASS             |
+--------------+--------------+-------------------+------------------+
| FreeBSD 11.2 | PASS         | PASS              |                  |
+--------------+--------------+-------------------+------------------+

Ubuntu 18.04
	Kernel: 4.15.0-generic
	GCC: 7.4

FreeBSD 11.2
	Kernel: 11.2
	GCC: 8.3

https://lab.dpdk.org/results/dashboard/patchsets/7860/

UNH-IOL DPDK Performance Test Lab

To manage your email subscriptions visit: 
https://lab.dpdk.org/results/dashboard/preferences/subscriptions/

^ permalink raw reply	[flat|nested] 4+ messages in thread

* [dpdk-test-report] |SUCCESS| pw60824 [PATCH] net/af_packet: improve Tx statistics accuracy
       [not found] <1570634949-26819-1-git-send-email-flavia.musatescu@intel.com>
@ 2019-10-09 15:30 ` checkpatch
  0 siblings, 0 replies; 4+ messages in thread
From: checkpatch @ 2019-10-09 15:30 UTC (permalink / raw)
  To: test-report

Test-Label: checkpatch
Test-Status: SUCCESS
http://dpdk.org/patch/60824

_coding style OK_



^ permalink raw reply	[flat|nested] 4+ messages in thread

end of thread, back to index

Thread overview: 4+ messages (download: mbox.gz / follow: Atom feed)
-- links below jump to the message on this page --
2019-10-10  3:25 [dpdk-test-report] |SUCCESS| pw60824 [PATCH] net/af_packet: improve Tx statistics accuracy dpdklab
  -- strict thread matches above, loose matches on Subject: below --
2019-10-10  5:27 dpdklab
2019-10-10  3:20 dpdklab
     [not found] <1570634949-26819-1-git-send-email-flavia.musatescu@intel.com>
2019-10-09 15:30 ` checkpatch

automatic DPDK test reports

Archives are clonable:
	git clone --mirror http://inbox.dpdk.org/test-report/0 test-report/git/0.git

	# If you have public-inbox 1.1+ installed, you may
	# initialize and index your mirror using the following commands:
	public-inbox-init -V2 test-report test-report/ http://inbox.dpdk.org/test-report \
		test-report@dpdk.org
	public-inbox-index test-report


Newsgroup available over NNTP:
	nntp://inbox.dpdk.org/inbox.dpdk.test-report


AGPL code for this site: git clone https://public-inbox.org/ public-inbox