automatic DPDK test reports
 help / color / Atom feed
* [dpdk-test-report] |SUCCESS| pw60821-60823 [PATCH] [v2, 1/3] net/i40e: cache fdir enable value in rx queue
@ 2019-10-10  3:40 dpdklab
  0 siblings, 0 replies; 5+ messages in thread
From: dpdklab @ 2019-10-10  3:40 UTC (permalink / raw)
  To: Test Report; +Cc: dpdk-test-reports

[-- Attachment #1: Type: text/plain, Size: 2011 bytes --]

Test-Label: iol-intel-Performance
Test-Status: SUCCESS
http://dpdk.org/patch/60821

_Performance Testing PASS_

Submitter: Harry van Haaren <harry.van.haaren@intel.com>
Date: Wednesday, October 09 2019 15:20:04 
DPDK git baseline: Repo:dpdk
  Branch: master
  CommitID:b0f66a68ca7448296fd598e6e100ad278e417ed6

60821-60823 --> performance testing pass

Test environment and result as below:

Ubuntu 18.04
Kernel: 4.15.0-generic
GCC: 7.4
NIC: Intel Corporation Ethernet Converged Network Adapter 82599ES 10000 Mbps
Target: x86_64-native-linuxapp-gcc
Fail/Total: 0/3

Detail performance results: 
+------------+---------+-------------------------------------+
| frame_size | txd/rxd | throughput difference from expected |
+============+=========+=====================================+
| 64         | 128     | 0.297                               |
+------------+---------+-------------------------------------+
| 64         | 512     | 0.115                               |
+------------+---------+-------------------------------------+
| 64         | 2048    | 0.038                               |
+------------+---------+-------------------------------------+

Ubuntu 18.04
Kernel: 4.15.0-generic
GCC: 7.4
NIC: Intel Corporation Ethernet Converged Network Adapter XL710-QDA2 40000 Mbps
Target: x86_64-native-linuxapp-gcc
Fail/Total: 0/2

Detail performance results: 
+------------+---------+-------------------------------------+
| frame_size | txd/rxd | throughput difference from expected |
+============+=========+=====================================+
| 64         | 512     | -0.374                              |
+------------+---------+-------------------------------------+
| 64         | 2048    | -0.523                              |
+------------+---------+-------------------------------------+

https://lab.dpdk.org/results/dashboard/patchsets/7859/

UNH-IOL DPDK Performance Test Lab

To manage your email subscriptions visit: 
https://lab.dpdk.org/results/dashboard/preferences/subscriptions/

^ permalink raw reply	[flat|nested] 5+ messages in thread

* [dpdk-test-report] |SUCCESS| pw60821-60823 [PATCH] [v2, 1/3] net/i40e: cache fdir enable value in rx queue
@ 2019-10-11  3:54 dpdklab
  0 siblings, 0 replies; 5+ messages in thread
From: dpdklab @ 2019-10-11  3:54 UTC (permalink / raw)
  To: Test Report; +Cc: dpdk-test-reports

[-- Attachment #1: Type: text/plain, Size: 1240 bytes --]

Test-Label: iol-intel-Performance
Test-Status: SUCCESS
http://dpdk.org/patch/60821

_Performance Testing PASS_

Submitter: Harry van Haaren <harry.van.haaren@intel.com>
Date: Wednesday, October 09 2019 15:20:04 
DPDK git baseline: Repo:dpdk
  Branch: master
  CommitID:b0f66a68ca7448296fd598e6e100ad278e417ed6

60821-60823 --> performance testing pass

Test environment and result as below:

Ubuntu 18.04
Kernel: 4.15.0-generic
GCC: 7.4
NIC: Intel Corporation Ethernet Converged Network Adapter XL710-QDA2 40000 Mbps
Target: x86_64-native-linuxapp-gcc
Fail/Total: 0/2

Detail performance results: 
+------------+---------+-------------------------------------+
| frame_size | txd/rxd | throughput difference from expected |
+============+=========+=====================================+
| 64         | 512     | -0.072                              |
+------------+---------+-------------------------------------+
| 64         | 2048    | -0.076                              |
+------------+---------+-------------------------------------+

https://lab.dpdk.org/results/dashboard/patchsets/7859/

UNH-IOL DPDK Performance Test Lab

To manage your email subscriptions visit: 
https://lab.dpdk.org/results/dashboard/preferences/subscriptions/

^ permalink raw reply	[flat|nested] 5+ messages in thread

* [dpdk-test-report] |SUCCESS| pw60821-60823 [PATCH] [v2, 1/3] net/i40e: cache fdir enable value in rx queue
@ 2019-10-11  3:43 dpdklab
  0 siblings, 0 replies; 5+ messages in thread
From: dpdklab @ 2019-10-11  3:43 UTC (permalink / raw)
  To: Test Report; +Cc: dpdk-test-reports

[-- Attachment #1: Type: text/plain, Size: 1240 bytes --]

Test-Label: iol-intel-Performance
Test-Status: SUCCESS
http://dpdk.org/patch/60821

_Performance Testing PASS_

Submitter: Harry van Haaren <harry.van.haaren@intel.com>
Date: Wednesday, October 09 2019 15:20:04 
DPDK git baseline: Repo:dpdk
  Branch: master
  CommitID:b0f66a68ca7448296fd598e6e100ad278e417ed6

60821-60823 --> performance testing pass

Test environment and result as below:

Ubuntu 18.04
Kernel: 4.15.0-generic
GCC: 7.4
NIC: Intel Corporation Ethernet Converged Network Adapter XL710-QDA2 40000 Mbps
Target: x86_64-native-linuxapp-gcc
Fail/Total: 0/2

Detail performance results: 
+------------+---------+-------------------------------------+
| frame_size | txd/rxd | throughput difference from expected |
+============+=========+=====================================+
| 64         | 512     | 0.145                               |
+------------+---------+-------------------------------------+
| 64         | 2048    | -0.444                              |
+------------+---------+-------------------------------------+

https://lab.dpdk.org/results/dashboard/patchsets/7859/

UNH-IOL DPDK Performance Test Lab

To manage your email subscriptions visit: 
https://lab.dpdk.org/results/dashboard/preferences/subscriptions/

^ permalink raw reply	[flat|nested] 5+ messages in thread

* [dpdk-test-report] |SUCCESS| pw60821-60823 [PATCH] [v2, 1/3] net/i40e: cache fdir enable value in rx queue
@ 2019-10-10  6:05 dpdklab
  0 siblings, 0 replies; 5+ messages in thread
From: dpdklab @ 2019-10-10  6:05 UTC (permalink / raw)
  To: Ali Alnubani, Test Report; +Cc: dpdk-test-reports

[-- Attachment #1: Type: text/plain, Size: 3926 bytes --]

Test-Label: iol-mellanox-Performance
Test-Status: SUCCESS
http://dpdk.org/patch/60821

_Performance Testing PASS_

Submitter: Harry van Haaren <harry.van.haaren@intel.com>
Date: Wednesday, October 09 2019 15:20:04 
DPDK git baseline: Repo:dpdk
  Branch: master
  CommitID:b0f66a68ca7448296fd598e6e100ad278e417ed6

60821-60823 --> performance testing pass

Test environment and result as below:

Ubuntu 18.04
Kernel: 4.15.0-generic
GCC: 7.4
NIC: Mellanox ConnectX-4 Lx 40000 Mbps
Target: x86_64-native-linuxapp-gcc
Fail/Total: 0/6

Detail performance results: 
+------------+---------+-------------------------------------+
| frame_size | txd/rxd | throughput difference from expected |
+============+=========+=====================================+
| 64         | 256     | -0.158                              |
+------------+---------+-------------------------------------+
| 128        | 256     | -0.346                              |
+------------+---------+-------------------------------------+
| 256        | 256     | 0.012                               |
+------------+---------+-------------------------------------+
| 512        | 256     | 0.019                               |
+------------+---------+-------------------------------------+
| 1024       | 256     | 0                                   |
+------------+---------+-------------------------------------+
| 1518       | 256     | -0.001                              |
+------------+---------+-------------------------------------+

Ubuntu 18.04
Kernel: 4.15.0-generic
GCC: 7.4
NIC: Mellanox ConnectX-4 Lx 25000 Mbps
Target: x86_64-native-linuxapp-gcc
Fail/Total: 0/6

Detail performance results: 
+------------+---------+-------------------------------------+
| frame_size | txd/rxd | throughput difference from expected |
+============+=========+=====================================+
| 64         | 256     | 0.153                               |
+------------+---------+-------------------------------------+
| 128        | 256     | 0.013                               |
+------------+---------+-------------------------------------+
| 256        | 256     | 0.025                               |
+------------+---------+-------------------------------------+
| 512        | 256     | 0.031                               |
+------------+---------+-------------------------------------+
| 1024       | 256     | 0.009                               |
+------------+---------+-------------------------------------+
| 1518       | 256     | -0.003                              |
+------------+---------+-------------------------------------+

Ubuntu 18.04
Kernel: 4.15.0-generic
GCC: 7.4
NIC: Mellanox ConnectX-5 100000 Mbps
Target: x86_64-native-linuxapp-gcc
Fail/Total: 0/6

Detail performance results: 
+------------+---------+-------------------------------------+
| frame_size | txd/rxd | throughput difference from expected |
+============+=========+=====================================+
| 64         | 256     | 0.054                               |
+------------+---------+-------------------------------------+
| 128        | 256     | 0.135                               |
+------------+---------+-------------------------------------+
| 256        | 256     | 0.010                               |
+------------+---------+-------------------------------------+
| 512        | 256     | 0.030                               |
+------------+---------+-------------------------------------+
| 1024       | 256     | 0.074                               |
+------------+---------+-------------------------------------+
| 1518       | 256     | -0.022                              |
+------------+---------+-------------------------------------+

https://lab.dpdk.org/results/dashboard/patchsets/7859/

UNH-IOL DPDK Performance Test Lab

To manage your email subscriptions visit: 
https://lab.dpdk.org/results/dashboard/preferences/subscriptions/

^ permalink raw reply	[flat|nested] 5+ messages in thread

* [dpdk-test-report] |SUCCESS| pw60821-60823 [PATCH] [v2, 1/3] net/i40e: cache fdir enable value in rx queue
@ 2019-10-10  3:35 dpdklab
  0 siblings, 0 replies; 5+ messages in thread
From: dpdklab @ 2019-10-10  3:35 UTC (permalink / raw)
  To: Test Report; +Cc: dpdk-test-reports

[-- Attachment #1: Type: text/plain, Size: 1162 bytes --]

Test-Label: iol-compilation
Test-Status: SUCCESS
http://dpdk.org/patch/60821

_Compile Testing PASS_

Submitter: Harry van Haaren <harry.van.haaren@intel.com>
Date: Wednesday, October 09 2019 15:20:04 
DPDK git baseline: Repo:dpdk
  Branch: master
  CommitID:b0f66a68ca7448296fd598e6e100ad278e417ed6

60821-60823 --> compile testing pass

Test environment and result as below:

+--------------+-------------------+------------------+--------------+
| Environment  | dpdk_compile_spdk | dpdk_compile_ovs | dpdk_compile |
+==============+===================+==================+==============+
| Ubuntu 18.04 | PASS              | PASS             | PASS         |
+--------------+-------------------+------------------+--------------+
| FreeBSD 11.2 | PASS              |                  | PASS         |
+--------------+-------------------+------------------+--------------+

Ubuntu 18.04
	Kernel: 4.15.0-generic
	GCC: 7.4

FreeBSD 11.2
	Kernel: 11.2
	GCC: 8.3

https://lab.dpdk.org/results/dashboard/patchsets/7859/

UNH-IOL DPDK Performance Test Lab

To manage your email subscriptions visit: 
https://lab.dpdk.org/results/dashboard/preferences/subscriptions/

^ permalink raw reply	[flat|nested] 5+ messages in thread

end of thread, back to index

Thread overview: 5+ messages (download: mbox.gz / follow: Atom feed)
-- links below jump to the message on this page --
2019-10-10  3:40 [dpdk-test-report] |SUCCESS| pw60821-60823 [PATCH] [v2, 1/3] net/i40e: cache fdir enable value in rx queue dpdklab
  -- strict thread matches above, loose matches on Subject: below --
2019-10-11  3:54 dpdklab
2019-10-11  3:43 dpdklab
2019-10-10  6:05 dpdklab
2019-10-10  3:35 dpdklab

automatic DPDK test reports

Archives are clonable:
	git clone --mirror http://inbox.dpdk.org/test-report/0 test-report/git/0.git

	# If you have public-inbox 1.1+ installed, you may
	# initialize and index your mirror using the following commands:
	public-inbox-init -V2 test-report test-report/ http://inbox.dpdk.org/test-report \
		test-report@dpdk.org
	public-inbox-index test-report


Newsgroup available over NNTP:
	nntp://inbox.dpdk.org/inbox.dpdk.test-report


AGPL code for this site: git clone https://public-inbox.org/ public-inbox