automatic DPDK test reports
 help / color / Atom feed
* [dpdk-test-report] |SUCCESS| pw60800 [PATCH] [v5, 1/1] mbuf: add bulk free function
@ 2019-10-10  4:04 dpdklab
  0 siblings, 0 replies; 4+ messages in thread
From: dpdklab @ 2019-10-10  4:04 UTC (permalink / raw)
  To: Test Report; +Cc: dpdk-test-reports

[-- Attachment #1: Type: text/plain, Size: 1152 bytes --]

Test-Label: iol-compilation
Test-Status: SUCCESS
http://dpdk.org/patch/60800

_Compile Testing PASS_

Submitter: Morten Brørup <mb@smartsharesystems.com>
Date: Wednesday, October 09 2019 13:55:11 
DPDK git baseline: Repo:dpdk
  Branch: master
  CommitID:b0f66a68ca7448296fd598e6e100ad278e417ed6

60800 --> compile testing pass

Test environment and result as below:

+--------------+--------------+------------------+-------------------+
| Environment  | dpdk_compile | dpdk_compile_ovs | dpdk_compile_spdk |
+==============+==============+==================+===================+
| Ubuntu 18.04 | PASS         | PASS             | PASS              |
+--------------+--------------+------------------+-------------------+
| FreeBSD 11.2 | PASS         |                  | PASS              |
+--------------+--------------+------------------+-------------------+

Ubuntu 18.04
	Kernel: 4.15.0-generic
	GCC: 7.4

FreeBSD 11.2
	Kernel: 11.2
	GCC: 8.3

https://lab.dpdk.org/results/dashboard/patchsets/7856/

UNH-IOL DPDK Performance Test Lab

To manage your email subscriptions visit: 
https://lab.dpdk.org/results/dashboard/preferences/subscriptions/

^ permalink raw reply	[flat|nested] 4+ messages in thread

* [dpdk-test-report] |SUCCESS| pw60800 [PATCH] [v5, 1/1] mbuf: add bulk free function
@ 2019-10-10  6:44 dpdklab
  0 siblings, 0 replies; 4+ messages in thread
From: dpdklab @ 2019-10-10  6:44 UTC (permalink / raw)
  To: Ali Alnubani, Test Report; +Cc: dpdk-test-reports

[-- Attachment #1: Type: text/plain, Size: 3916 bytes --]

Test-Label: iol-mellanox-Performance
Test-Status: SUCCESS
http://dpdk.org/patch/60800

_Performance Testing PASS_

Submitter: Morten Brørup <mb@smartsharesystems.com>
Date: Wednesday, October 09 2019 13:55:11 
DPDK git baseline: Repo:dpdk
  Branch: master
  CommitID:b0f66a68ca7448296fd598e6e100ad278e417ed6

60800 --> performance testing pass

Test environment and result as below:

Ubuntu 18.04
Kernel: 4.15.0-generic
GCC: 7.4
NIC: Mellanox ConnectX-4 Lx 25000 Mbps
Target: x86_64-native-linuxapp-gcc
Fail/Total: 0/6

Detail performance results: 
+------------+---------+-------------------------------------+
| frame_size | txd/rxd | throughput difference from expected |
+============+=========+=====================================+
| 64         | 256     | 0.029                               |
+------------+---------+-------------------------------------+
| 128        | 256     | 0.013                               |
+------------+---------+-------------------------------------+
| 256        | 256     | 0.019                               |
+------------+---------+-------------------------------------+
| 512        | 256     | 0.003                               |
+------------+---------+-------------------------------------+
| 1024       | 256     | 0.008                               |
+------------+---------+-------------------------------------+
| 1518       | 256     | 0.006                               |
+------------+---------+-------------------------------------+

Ubuntu 18.04
Kernel: 4.15.0-generic
GCC: 7.4
NIC: Mellanox ConnectX-5 100000 Mbps
Target: x86_64-native-linuxapp-gcc
Fail/Total: 0/6

Detail performance results: 
+------------+---------+-------------------------------------+
| frame_size | txd/rxd | throughput difference from expected |
+============+=========+=====================================+
| 64         | 256     | 0.263                               |
+------------+---------+-------------------------------------+
| 128        | 256     | 0.050                               |
+------------+---------+-------------------------------------+
| 256        | 256     | 0.024                               |
+------------+---------+-------------------------------------+
| 512        | 256     | -0.019                              |
+------------+---------+-------------------------------------+
| 1024       | 256     | -0.006                              |
+------------+---------+-------------------------------------+
| 1518       | 256     | 0.001                               |
+------------+---------+-------------------------------------+

Ubuntu 18.04
Kernel: 4.15.0-generic
GCC: 7.4
NIC: Mellanox ConnectX-4 Lx 40000 Mbps
Target: x86_64-native-linuxapp-gcc
Fail/Total: 0/6

Detail performance results: 
+------------+---------+-------------------------------------+
| frame_size | txd/rxd | throughput difference from expected |
+============+=========+=====================================+
| 64         | 256     | 0.039                               |
+------------+---------+-------------------------------------+
| 128        | 256     | -0.055                              |
+------------+---------+-------------------------------------+
| 256        | 256     | -0.012                              |
+------------+---------+-------------------------------------+
| 512        | 256     | 0.006                               |
+------------+---------+-------------------------------------+
| 1024       | 256     | -0.005                              |
+------------+---------+-------------------------------------+
| 1518       | 256     | -0.008                              |
+------------+---------+-------------------------------------+

https://lab.dpdk.org/results/dashboard/patchsets/7856/

UNH-IOL DPDK Performance Test Lab

To manage your email subscriptions visit: 
https://lab.dpdk.org/results/dashboard/preferences/subscriptions/

^ permalink raw reply	[flat|nested] 4+ messages in thread

* [dpdk-test-report] |SUCCESS| pw60800 [PATCH] [v5, 1/1] mbuf: add bulk free function
@ 2019-10-10  4:10 dpdklab
  0 siblings, 0 replies; 4+ messages in thread
From: dpdklab @ 2019-10-10  4:10 UTC (permalink / raw)
  To: Test Report; +Cc: dpdk-test-reports

[-- Attachment #1: Type: text/plain, Size: 2001 bytes --]

Test-Label: iol-intel-Performance
Test-Status: SUCCESS
http://dpdk.org/patch/60800

_Performance Testing PASS_

Submitter: Morten Brørup <mb@smartsharesystems.com>
Date: Wednesday, October 09 2019 13:55:11 
DPDK git baseline: Repo:dpdk
  Branch: master
  CommitID:b0f66a68ca7448296fd598e6e100ad278e417ed6

60800 --> performance testing pass

Test environment and result as below:

Ubuntu 18.04
Kernel: 4.15.0-generic
GCC: 7.4
NIC: Intel Corporation Ethernet Converged Network Adapter 82599ES 10000 Mbps
Target: x86_64-native-linuxapp-gcc
Fail/Total: 0/3

Detail performance results: 
+------------+---------+-------------------------------------+
| frame_size | txd/rxd | throughput difference from expected |
+============+=========+=====================================+
| 64         | 128     | 0.016                               |
+------------+---------+-------------------------------------+
| 64         | 512     | 0.523                               |
+------------+---------+-------------------------------------+
| 64         | 2048    | 0.200                               |
+------------+---------+-------------------------------------+

Ubuntu 18.04
Kernel: 4.15.0-generic
GCC: 7.4
NIC: Intel Corporation Ethernet Converged Network Adapter XL710-QDA2 40000 Mbps
Target: x86_64-native-linuxapp-gcc
Fail/Total: 0/2

Detail performance results: 
+------------+---------+-------------------------------------+
| frame_size | txd/rxd | throughput difference from expected |
+============+=========+=====================================+
| 64         | 512     | -0.106                              |
+------------+---------+-------------------------------------+
| 64         | 2048    | 0.113                               |
+------------+---------+-------------------------------------+

https://lab.dpdk.org/results/dashboard/patchsets/7856/

UNH-IOL DPDK Performance Test Lab

To manage your email subscriptions visit: 
https://lab.dpdk.org/results/dashboard/preferences/subscriptions/

^ permalink raw reply	[flat|nested] 4+ messages in thread

* [dpdk-test-report] |SUCCESS| pw60800 [PATCH v5 1/1] mbuf: add bulk free function
       [not found] <20191009135511.84547-2-mb@smartsharesystems.com>
@ 2019-10-09 13:55 ` " checkpatch
  0 siblings, 0 replies; 4+ messages in thread
From: checkpatch @ 2019-10-09 13:55 UTC (permalink / raw)
  To: test-report

Test-Label: checkpatch
Test-Status: SUCCESS
http://dpdk.org/patch/60800

_coding style OK_



^ permalink raw reply	[flat|nested] 4+ messages in thread

end of thread, back to index

Thread overview: 4+ messages (download: mbox.gz / follow: Atom feed)
-- links below jump to the message on this page --
2019-10-10  4:04 [dpdk-test-report] |SUCCESS| pw60800 [PATCH] [v5, 1/1] mbuf: add bulk free function dpdklab
  -- strict thread matches above, loose matches on Subject: below --
2019-10-10  6:44 dpdklab
2019-10-10  4:10 dpdklab
     [not found] <20191009135511.84547-2-mb@smartsharesystems.com>
2019-10-09 13:55 ` [dpdk-test-report] |SUCCESS| pw60800 [PATCH v5 " checkpatch

automatic DPDK test reports

Archives are clonable:
	git clone --mirror http://inbox.dpdk.org/test-report/0 test-report/git/0.git

	# If you have public-inbox 1.1+ installed, you may
	# initialize and index your mirror using the following commands:
	public-inbox-init -V2 test-report test-report/ http://inbox.dpdk.org/test-report \
		test-report@dpdk.org
	public-inbox-index test-report


Newsgroup available over NNTP:
	nntp://inbox.dpdk.org/inbox.dpdk.test-report


AGPL code for this site: git clone https://public-inbox.org/ public-inbox