automatic DPDK test reports
 help / color / Atom feed
* [dpdk-test-report] |SUCCESS| pw60797 [PATCH] [v1] net/ice: avoid the parsed devargs value being overwritten
@ 2019-10-10  4:40 dpdklab
  0 siblings, 0 replies; 4+ messages in thread
From: dpdklab @ 2019-10-10  4:40 UTC (permalink / raw)
  To: Test Report; +Cc: dpdk-test-reports

[-- Attachment #1: Type: text/plain, Size: 2010 bytes --]

Test-Label: iol-intel-Performance
Test-Status: SUCCESS
http://dpdk.org/patch/60797

_Performance Testing PASS_

Submitter: Haiyue Wang <haiyue.wang@intel.com>
Date: Wednesday, October 09 2019 13:07:16 
DPDK git baseline: Repo:dpdk-next-net-intel
  Branch: master
  CommitID:a02f690f657dd0f5123b3b8d537d20f7182a31de

60797 --> performance testing pass

Test environment and result as below:

Ubuntu 18.04
Kernel: 4.15.0-generic
GCC: 7.4
NIC: Intel Corporation Ethernet Converged Network Adapter 82599ES 10000 Mbps
Target: x86_64-native-linuxapp-gcc
Fail/Total: 0/3

Detail performance results: 
+------------+---------+-------------------------------------+
| frame_size | txd/rxd | throughput difference from expected |
+============+=========+=====================================+
| 64         | 128     | 0.021                               |
+------------+---------+-------------------------------------+
| 64         | 512     | 0.091                               |
+------------+---------+-------------------------------------+
| 64         | 2048    | -0.050                              |
+------------+---------+-------------------------------------+

Ubuntu 18.04
Kernel: 4.15.0-generic
GCC: 7.4
NIC: Intel Corporation Ethernet Converged Network Adapter XL710-QDA2 40000 Mbps
Target: x86_64-native-linuxapp-gcc
Fail/Total: 0/2

Detail performance results: 
+------------+---------+-------------------------------------+
| frame_size | txd/rxd | throughput difference from expected |
+============+=========+=====================================+
| 64         | 512     | -0.514                              |
+------------+---------+-------------------------------------+
| 64         | 2048    | -0.046                              |
+------------+---------+-------------------------------------+

https://lab.dpdk.org/results/dashboard/patchsets/7854/

UNH-IOL DPDK Performance Test Lab

To manage your email subscriptions visit: 
https://lab.dpdk.org/results/dashboard/preferences/subscriptions/

^ permalink raw reply	[flat|nested] 4+ messages in thread

* [dpdk-test-report] |SUCCESS| pw60797 [PATCH] [v1] net/ice: avoid the parsed devargs value being overwritten
@ 2019-10-10  7:22 dpdklab
  0 siblings, 0 replies; 4+ messages in thread
From: dpdklab @ 2019-10-10  7:22 UTC (permalink / raw)
  To: Ali Alnubani, Test Report; +Cc: dpdk-test-reports

[-- Attachment #1: Type: text/plain, Size: 3925 bytes --]

Test-Label: iol-mellanox-Performance
Test-Status: SUCCESS
http://dpdk.org/patch/60797

_Performance Testing PASS_

Submitter: Haiyue Wang <haiyue.wang@intel.com>
Date: Wednesday, October 09 2019 13:07:16 
DPDK git baseline: Repo:dpdk-next-net-intel
  Branch: master
  CommitID:a02f690f657dd0f5123b3b8d537d20f7182a31de

60797 --> performance testing pass

Test environment and result as below:

Ubuntu 18.04
Kernel: 4.15.0-generic
GCC: 7.4
NIC: Mellanox ConnectX-4 Lx 40000 Mbps
Target: x86_64-native-linuxapp-gcc
Fail/Total: 0/6

Detail performance results: 
+------------+---------+-------------------------------------+
| frame_size | txd/rxd | throughput difference from expected |
+============+=========+=====================================+
| 64         | 256     | 0.041                               |
+------------+---------+-------------------------------------+
| 128        | 256     | 0.171                               |
+------------+---------+-------------------------------------+
| 256        | 256     | 0.044                               |
+------------+---------+-------------------------------------+
| 512        | 256     | 0.045                               |
+------------+---------+-------------------------------------+
| 1024       | 256     | -0.001                              |
+------------+---------+-------------------------------------+
| 1518       | 256     | -0.009                              |
+------------+---------+-------------------------------------+

Ubuntu 18.04
Kernel: 4.15.0-generic
GCC: 7.4
NIC: Mellanox ConnectX-5 100000 Mbps
Target: x86_64-native-linuxapp-gcc
Fail/Total: 0/6

Detail performance results: 
+------------+---------+-------------------------------------+
| frame_size | txd/rxd | throughput difference from expected |
+============+=========+=====================================+
| 64         | 256     | 0.016                               |
+------------+---------+-------------------------------------+
| 128        | 256     | -0.030                              |
+------------+---------+-------------------------------------+
| 256        | 256     | -0.106                              |
+------------+---------+-------------------------------------+
| 512        | 256     | -0.071                              |
+------------+---------+-------------------------------------+
| 1024       | 256     | 0.042                               |
+------------+---------+-------------------------------------+
| 1518       | 256     | -0.014                              |
+------------+---------+-------------------------------------+

Ubuntu 18.04
Kernel: 4.15.0-generic
GCC: 7.4
NIC: Mellanox ConnectX-4 Lx 25000 Mbps
Target: x86_64-native-linuxapp-gcc
Fail/Total: 0/6

Detail performance results: 
+------------+---------+-------------------------------------+
| frame_size | txd/rxd | throughput difference from expected |
+============+=========+=====================================+
| 64         | 256     | 0.413                               |
+------------+---------+-------------------------------------+
| 128        | 256     | 0.232                               |
+------------+---------+-------------------------------------+
| 256        | 256     | 0.077                               |
+------------+---------+-------------------------------------+
| 512        | 256     | 0.031                               |
+------------+---------+-------------------------------------+
| 1024       | 256     | 0.004                               |
+------------+---------+-------------------------------------+
| 1518       | 256     | 0                                   |
+------------+---------+-------------------------------------+

https://lab.dpdk.org/results/dashboard/patchsets/7854/

UNH-IOL DPDK Performance Test Lab

To manage your email subscriptions visit: 
https://lab.dpdk.org/results/dashboard/preferences/subscriptions/

^ permalink raw reply	[flat|nested] 4+ messages in thread

* [dpdk-test-report] |SUCCESS| pw60797 [PATCH] [v1] net/ice: avoid the parsed devargs value being overwritten
@ 2019-10-10  4:35 dpdklab
  0 siblings, 0 replies; 4+ messages in thread
From: dpdklab @ 2019-10-10  4:35 UTC (permalink / raw)
  To: Test Report; +Cc: dpdk-test-reports

[-- Attachment #1: Type: text/plain, Size: 1161 bytes --]

Test-Label: iol-compilation
Test-Status: SUCCESS
http://dpdk.org/patch/60797

_Compile Testing PASS_

Submitter: Haiyue Wang <haiyue.wang@intel.com>
Date: Wednesday, October 09 2019 13:07:16 
DPDK git baseline: Repo:dpdk-next-net-intel
  Branch: master
  CommitID:a02f690f657dd0f5123b3b8d537d20f7182a31de

60797 --> compile testing pass

Test environment and result as below:

+--------------+--------------+------------------+-------------------+
| Environment  | dpdk_compile | dpdk_compile_ovs | dpdk_compile_spdk |
+==============+==============+==================+===================+
| Ubuntu 18.04 | PASS         | PASS             | PASS              |
+--------------+--------------+------------------+-------------------+
| FreeBSD 11.2 | PASS         |                  | PASS              |
+--------------+--------------+------------------+-------------------+

Ubuntu 18.04
	Kernel: 4.15.0-generic
	GCC: 7.4

FreeBSD 11.2
	Kernel: 11.2
	GCC: 8.3

https://lab.dpdk.org/results/dashboard/patchsets/7854/

UNH-IOL DPDK Performance Test Lab

To manage your email subscriptions visit: 
https://lab.dpdk.org/results/dashboard/preferences/subscriptions/

^ permalink raw reply	[flat|nested] 4+ messages in thread

* [dpdk-test-report] |SUCCESS| pw60797 [PATCH v1] net/ice: avoid the parsed devargs value being overwritten
       [not found] <20191009130716.80418-1-haiyue.wang@intel.com>
@ 2019-10-09 13:14 ` " checkpatch
  0 siblings, 0 replies; 4+ messages in thread
From: checkpatch @ 2019-10-09 13:14 UTC (permalink / raw)
  To: test-report

Test-Label: checkpatch
Test-Status: SUCCESS
http://dpdk.org/patch/60797

_coding style OK_



^ permalink raw reply	[flat|nested] 4+ messages in thread

end of thread, back to index

Thread overview: 4+ messages (download: mbox.gz / follow: Atom feed)
-- links below jump to the message on this page --
2019-10-10  4:40 [dpdk-test-report] |SUCCESS| pw60797 [PATCH] [v1] net/ice: avoid the parsed devargs value being overwritten dpdklab
  -- strict thread matches above, loose matches on Subject: below --
2019-10-10  7:22 dpdklab
2019-10-10  4:35 dpdklab
     [not found] <20191009130716.80418-1-haiyue.wang@intel.com>
2019-10-09 13:14 ` [dpdk-test-report] |SUCCESS| pw60797 [PATCH v1] " checkpatch

automatic DPDK test reports

Archives are clonable:
	git clone --mirror http://inbox.dpdk.org/test-report/0 test-report/git/0.git

	# If you have public-inbox 1.1+ installed, you may
	# initialize and index your mirror using the following commands:
	public-inbox-init -V2 test-report test-report/ http://inbox.dpdk.org/test-report \
		test-report@dpdk.org
	public-inbox-index test-report


Newsgroup available over NNTP:
	nntp://inbox.dpdk.org/inbox.dpdk.test-report


AGPL code for this site: git clone https://public-inbox.org/ public-inbox