automatic DPDK test reports
 help / color / Atom feed
* [dpdk-test-report] |SUCCESS| pw60847 [PATCH] app/testpmd: introduce QinQ offload argument
@ 2019-10-10  8:39 dpdklab
  0 siblings, 0 replies; 4+ messages in thread
From: dpdklab @ 2019-10-10  8:39 UTC (permalink / raw)
  To: Ali Alnubani, Test Report; +Cc: dpdk-test-reports

[-- Attachment #1: Type: text/plain, Size: 3918 bytes --]

Test-Label: iol-mellanox-Performance
Test-Status: SUCCESS
http://dpdk.org/patch/60847

_Performance Testing PASS_

Submitter: Vivek Kumar Sharma <viveksharma@marvell.com>
Date: Thursday, October 10 2019 04:17:25 
DPDK git baseline: Repo:dpdk
  Branch: master
  CommitID:b0f66a68ca7448296fd598e6e100ad278e417ed6

60847 --> performance testing pass

Test environment and result as below:

Ubuntu 18.04
Kernel: 4.15.0-generic
GCC: 7.4
NIC: Mellanox ConnectX-5 100000 Mbps
Target: x86_64-native-linuxapp-gcc
Fail/Total: 0/6

Detail performance results: 
+------------+---------+-------------------------------------+
| frame_size | txd/rxd | throughput difference from expected |
+============+=========+=====================================+
| 64         | 256     | 0.116                               |
+------------+---------+-------------------------------------+
| 128        | 256     | 0.171                               |
+------------+---------+-------------------------------------+
| 256        | 256     | 0.031                               |
+------------+---------+-------------------------------------+
| 512        | 256     | -0.007                              |
+------------+---------+-------------------------------------+
| 1024       | 256     | 0.009                               |
+------------+---------+-------------------------------------+
| 1518       | 256     | -0.020                              |
+------------+---------+-------------------------------------+

Ubuntu 18.04
Kernel: 4.15.0-generic
GCC: 7.4
NIC: Mellanox ConnectX-4 Lx 25000 Mbps
Target: x86_64-native-linuxapp-gcc
Fail/Total: 0/6

Detail performance results: 
+------------+---------+-------------------------------------+
| frame_size | txd/rxd | throughput difference from expected |
+============+=========+=====================================+
| 64         | 256     | 0.020                               |
+------------+---------+-------------------------------------+
| 128        | 256     | -0.028                              |
+------------+---------+-------------------------------------+
| 256        | 256     | 0.011                               |
+------------+---------+-------------------------------------+
| 512        | 256     | -0.011                              |
+------------+---------+-------------------------------------+
| 1024       | 256     | -0.001                              |
+------------+---------+-------------------------------------+
| 1518       | 256     | 0                                   |
+------------+---------+-------------------------------------+

Ubuntu 18.04
Kernel: 4.15.0-generic
GCC: 7.4
NIC: Mellanox ConnectX-4 Lx 40000 Mbps
Target: x86_64-native-linuxapp-gcc
Fail/Total: 0/6

Detail performance results: 
+------------+---------+-------------------------------------+
| frame_size | txd/rxd | throughput difference from expected |
+============+=========+=====================================+
| 64         | 256     | -0.010                              |
+------------+---------+-------------------------------------+
| 128        | 256     | 0.168                               |
+------------+---------+-------------------------------------+
| 256        | 256     | -0.022                              |
+------------+---------+-------------------------------------+
| 512        | 256     | -0.001                              |
+------------+---------+-------------------------------------+
| 1024       | 256     | -0.006                              |
+------------+---------+-------------------------------------+
| 1518       | 256     | -0.007                              |
+------------+---------+-------------------------------------+

https://lab.dpdk.org/results/dashboard/patchsets/7864/

UNH-IOL DPDK Performance Test Lab

To manage your email subscriptions visit: 
https://lab.dpdk.org/results/dashboard/preferences/subscriptions/

^ permalink raw reply	[flat|nested] 4+ messages in thread

* [dpdk-test-report] |SUCCESS| pw60847 [PATCH] app/testpmd: introduce QinQ offload argument
@ 2019-10-10  5:10 dpdklab
  0 siblings, 0 replies; 4+ messages in thread
From: dpdklab @ 2019-10-10  5:10 UTC (permalink / raw)
  To: Test Report; +Cc: dpdk-test-reports

[-- Attachment #1: Type: text/plain, Size: 2003 bytes --]

Test-Label: iol-intel-Performance
Test-Status: SUCCESS
http://dpdk.org/patch/60847

_Performance Testing PASS_

Submitter: Vivek Kumar Sharma <viveksharma@marvell.com>
Date: Thursday, October 10 2019 04:17:25 
DPDK git baseline: Repo:dpdk
  Branch: master
  CommitID:b0f66a68ca7448296fd598e6e100ad278e417ed6

60847 --> performance testing pass

Test environment and result as below:

Ubuntu 18.04
Kernel: 4.15.0-generic
GCC: 7.4
NIC: Intel Corporation Ethernet Converged Network Adapter 82599ES 10000 Mbps
Target: x86_64-native-linuxapp-gcc
Fail/Total: 0/3

Detail performance results: 
+------------+---------+-------------------------------------+
| frame_size | txd/rxd | throughput difference from expected |
+============+=========+=====================================+
| 64         | 128     | -0.166                              |
+------------+---------+-------------------------------------+
| 64         | 512     | -0.017                              |
+------------+---------+-------------------------------------+
| 64         | 2048    | 0.023                               |
+------------+---------+-------------------------------------+

Ubuntu 18.04
Kernel: 4.15.0-generic
GCC: 7.4
NIC: Intel Corporation Ethernet Converged Network Adapter XL710-QDA2 40000 Mbps
Target: x86_64-native-linuxapp-gcc
Fail/Total: 0/2

Detail performance results: 
+------------+---------+-------------------------------------+
| frame_size | txd/rxd | throughput difference from expected |
+============+=========+=====================================+
| 64         | 512     | 0.019                               |
+------------+---------+-------------------------------------+
| 64         | 2048    | 0.467                               |
+------------+---------+-------------------------------------+

https://lab.dpdk.org/results/dashboard/patchsets/7864/

UNH-IOL DPDK Performance Test Lab

To manage your email subscriptions visit: 
https://lab.dpdk.org/results/dashboard/preferences/subscriptions/

^ permalink raw reply	[flat|nested] 4+ messages in thread

* [dpdk-test-report] |SUCCESS| pw60847 [PATCH] app/testpmd: introduce QinQ offload argument
@ 2019-10-10  5:08 dpdklab
  0 siblings, 0 replies; 4+ messages in thread
From: dpdklab @ 2019-10-10  5:08 UTC (permalink / raw)
  To: Test Report; +Cc: dpdk-test-reports

[-- Attachment #1: Type: text/plain, Size: 1154 bytes --]

Test-Label: iol-compilation
Test-Status: SUCCESS
http://dpdk.org/patch/60847

_Compile Testing PASS_

Submitter: Vivek Kumar Sharma <viveksharma@marvell.com>
Date: Thursday, October 10 2019 04:17:25 
DPDK git baseline: Repo:dpdk
  Branch: master
  CommitID:b0f66a68ca7448296fd598e6e100ad278e417ed6

60847 --> compile testing pass

Test environment and result as below:

+--------------+------------------+-------------------+--------------+
| Environment  | dpdk_compile_ovs | dpdk_compile_spdk | dpdk_compile |
+==============+==================+===================+==============+
| Ubuntu 18.04 | PASS             | PASS              | PASS         |
+--------------+------------------+-------------------+--------------+
| FreeBSD 11.2 |                  | PASS              | PASS         |
+--------------+------------------+-------------------+--------------+

Ubuntu 18.04
	Kernel: 4.15.0-generic
	GCC: 7.4

FreeBSD 11.2
	Kernel: 11.2
	GCC: 8.3

https://lab.dpdk.org/results/dashboard/patchsets/7864/

UNH-IOL DPDK Performance Test Lab

To manage your email subscriptions visit: 
https://lab.dpdk.org/results/dashboard/preferences/subscriptions/

^ permalink raw reply	[flat|nested] 4+ messages in thread

* [dpdk-test-report] |SUCCESS| pw60847 [PATCH] app/testpmd: introduce QinQ offload argument
       [not found] <1570681045-1257-1-git-send-email-viveksharma@marvell.com>
@ 2019-10-10  4:18 ` checkpatch
  0 siblings, 0 replies; 4+ messages in thread
From: checkpatch @ 2019-10-10  4:18 UTC (permalink / raw)
  To: test-report

Test-Label: checkpatch
Test-Status: SUCCESS
http://dpdk.org/patch/60847

_coding style OK_



^ permalink raw reply	[flat|nested] 4+ messages in thread

end of thread, back to index

Thread overview: 4+ messages (download: mbox.gz / follow: Atom feed)
-- links below jump to the message on this page --
2019-10-10  8:39 [dpdk-test-report] |SUCCESS| pw60847 [PATCH] app/testpmd: introduce QinQ offload argument dpdklab
  -- strict thread matches above, loose matches on Subject: below --
2019-10-10  5:10 dpdklab
2019-10-10  5:08 dpdklab
     [not found] <1570681045-1257-1-git-send-email-viveksharma@marvell.com>
2019-10-10  4:18 ` checkpatch

automatic DPDK test reports

Archives are clonable:
	git clone --mirror http://inbox.dpdk.org/test-report/0 test-report/git/0.git

	# If you have public-inbox 1.1+ installed, you may
	# initialize and index your mirror using the following commands:
	public-inbox-init -V2 test-report test-report/ http://inbox.dpdk.org/test-report \
		test-report@dpdk.org
	public-inbox-index test-report


Newsgroup available over NNTP:
	nntp://inbox.dpdk.org/inbox.dpdk.test-report


AGPL code for this site: git clone https://public-inbox.org/ public-inbox