* [dpdk-test-report] |SUCCESS| pw61290-61291 [PATCH] [1/2] net/mlx5: query HCA for enabled FLEX parser protos
@ 2019-10-16 8:50 dpdklab
0 siblings, 0 replies; 3+ messages in thread
From: dpdklab @ 2019-10-16 8:50 UTC (permalink / raw)
To: Test Report; +Cc: dpdk-test-reports
[-- Attachment #1: Type: text/plain, Size: 1152 bytes --]
Test-Label: iol-compilation
Test-Status: SUCCESS
http://dpdk.org/patch/61290
_Compile Testing PASS_
Submitter: Moti Haimovsky <motih@mellanox.com>
Date: Wednesday, October 16 2019 08:36:09
DPDK git baseline: Repo:dpdk
Branch: master
CommitID:a8f8ae1cf9b68f6398b49019ca07a215a57bba41
61290-61291 --> compile testing pass
Test environment and result as below:
+--------------+--------------+-------------------+------------------+
| Environment | dpdk_compile | dpdk_compile_spdk | dpdk_compile_ovs |
+==============+==============+===================+==================+
| Ubuntu 18.04 | PASS | PASS | PASS |
+--------------+--------------+-------------------+------------------+
| FreeBSD 11.2 | PASS | PASS | |
+--------------+--------------+-------------------+------------------+
Ubuntu 18.04
Kernel: 4.15.0-generic
GCC: 7.4
FreeBSD 11.2
Kernel: 11.2
GCC: 8.3
https://lab.dpdk.org/results/dashboard/patchsets/7966/
UNH-IOL DPDK Performance Test Lab
To manage your email subscriptions visit:
https://lab.dpdk.org/results/dashboard/preferences/subscriptions/
^ permalink raw reply [flat|nested] 3+ messages in thread
* [dpdk-test-report] |SUCCESS| pw61290-61291 [PATCH] [1/2] net/mlx5: query HCA for enabled FLEX parser protos
@ 2019-10-16 8:56 dpdklab
0 siblings, 0 replies; 3+ messages in thread
From: dpdklab @ 2019-10-16 8:56 UTC (permalink / raw)
To: Test Report; +Cc: dpdk-test-reports
[-- Attachment #1: Type: text/plain, Size: 2001 bytes --]
Test-Label: iol-intel-Performance
Test-Status: SUCCESS
http://dpdk.org/patch/61290
_Performance Testing PASS_
Submitter: Moti Haimovsky <motih@mellanox.com>
Date: Wednesday, October 16 2019 08:36:09
DPDK git baseline: Repo:dpdk
Branch: master
CommitID:a8f8ae1cf9b68f6398b49019ca07a215a57bba41
61290-61291 --> performance testing pass
Test environment and result as below:
Ubuntu 18.04
Kernel: 4.15.0-generic
GCC: 7.4
NIC: Intel Corporation Ethernet Converged Network Adapter 82599ES 10000 Mbps
Target: x86_64-native-linuxapp-gcc
Fail/Total: 0/3
Detail performance results:
+------------+---------+-------------------------------------+
| frame_size | txd/rxd | throughput difference from expected |
+============+=========+=====================================+
| 64 | 128 | -0.264 |
+------------+---------+-------------------------------------+
| 64 | 512 | 0.144 |
+------------+---------+-------------------------------------+
| 64 | 2048 | 0.203 |
+------------+---------+-------------------------------------+
Ubuntu 18.04
Kernel: 4.15.0-generic
GCC: 7.4
NIC: Intel Corporation Ethernet Converged Network Adapter XL710-QDA2 40000 Mbps
Target: x86_64-native-linuxapp-gcc
Fail/Total: 0/2
Detail performance results:
+------------+---------+-------------------------------------+
| frame_size | txd/rxd | throughput difference from expected |
+============+=========+=====================================+
| 64 | 512 | 0.221 |
+------------+---------+-------------------------------------+
| 64 | 2048 | 0.033 |
+------------+---------+-------------------------------------+
https://lab.dpdk.org/results/dashboard/patchsets/7966/
UNH-IOL DPDK Performance Test Lab
To manage your email subscriptions visit:
https://lab.dpdk.org/results/dashboard/preferences/subscriptions/
^ permalink raw reply [flat|nested] 3+ messages in thread
* [dpdk-test-report] |SUCCESS| pw61290-61291 [PATCH] [1/2] net/mlx5: query HCA for enabled FLEX parser protos
@ 2019-10-16 9:22 dpdklab
0 siblings, 0 replies; 3+ messages in thread
From: dpdklab @ 2019-10-16 9:22 UTC (permalink / raw)
To: Ali Alnubani, Test Report; +Cc: dpdk-test-reports
[-- Attachment #1: Type: text/plain, Size: 3916 bytes --]
Test-Label: iol-mellanox-Performance
Test-Status: SUCCESS
http://dpdk.org/patch/61290
_Performance Testing PASS_
Submitter: Moti Haimovsky <motih@mellanox.com>
Date: Wednesday, October 16 2019 08:36:09
DPDK git baseline: Repo:dpdk
Branch: master
CommitID:a8f8ae1cf9b68f6398b49019ca07a215a57bba41
61290-61291 --> performance testing pass
Test environment and result as below:
Ubuntu 18.04
Kernel: 4.15.0-generic
GCC: 7.4
NIC: Mellanox ConnectX-4 Lx 40000 Mbps
Target: x86_64-native-linuxapp-gcc
Fail/Total: 0/6
Detail performance results:
+------------+---------+-------------------------------------+
| frame_size | txd/rxd | throughput difference from expected |
+============+=========+=====================================+
| 64 | 256 | 0.354 |
+------------+---------+-------------------------------------+
| 128 | 256 | 0.382 |
+------------+---------+-------------------------------------+
| 256 | 256 | 0.084 |
+------------+---------+-------------------------------------+
| 512 | 256 | -0.049 |
+------------+---------+-------------------------------------+
| 1024 | 256 | -0.010 |
+------------+---------+-------------------------------------+
| 1518 | 256 | 0 |
+------------+---------+-------------------------------------+
Ubuntu 18.04
Kernel: 4.15.0-generic
GCC: 7.4
NIC: Mellanox ConnectX-4 Lx 25000 Mbps
Target: x86_64-native-linuxapp-gcc
Fail/Total: 0/6
Detail performance results:
+------------+---------+-------------------------------------+
| frame_size | txd/rxd | throughput difference from expected |
+============+=========+=====================================+
| 64 | 256 | -0.332 |
+------------+---------+-------------------------------------+
| 128 | 256 | 0.096 |
+------------+---------+-------------------------------------+
| 256 | 256 | 0.005 |
+------------+---------+-------------------------------------+
| 512 | 256 | 0.024 |
+------------+---------+-------------------------------------+
| 1024 | 256 | -0.016 |
+------------+---------+-------------------------------------+
| 1518 | 256 | 0.001 |
+------------+---------+-------------------------------------+
Ubuntu 18.04
Kernel: 4.15.0-generic
GCC: 7.4
NIC: Mellanox ConnectX-5 100000 Mbps
Target: x86_64-native-linuxapp-gcc
Fail/Total: 0/6
Detail performance results:
+------------+---------+-------------------------------------+
| frame_size | txd/rxd | throughput difference from expected |
+============+=========+=====================================+
| 64 | 256 | -0.041 |
+------------+---------+-------------------------------------+
| 128 | 256 | 0.032 |
+------------+---------+-------------------------------------+
| 256 | 256 | 0.290 |
+------------+---------+-------------------------------------+
| 512 | 256 | 0.058 |
+------------+---------+-------------------------------------+
| 1024 | 256 | 0.065 |
+------------+---------+-------------------------------------+
| 1518 | 256 | -0.002 |
+------------+---------+-------------------------------------+
https://lab.dpdk.org/results/dashboard/patchsets/7966/
UNH-IOL DPDK Performance Test Lab
To manage your email subscriptions visit:
https://lab.dpdk.org/results/dashboard/preferences/subscriptions/
^ permalink raw reply [flat|nested] 3+ messages in thread
end of thread, other threads:[~2019-10-16 9:22 UTC | newest]
Thread overview: 3+ messages (download: mbox.gz / follow: Atom feed)
-- links below jump to the message on this page --
2019-10-16 8:50 [dpdk-test-report] |SUCCESS| pw61290-61291 [PATCH] [1/2] net/mlx5: query HCA for enabled FLEX parser protos dpdklab
2019-10-16 8:56 dpdklab
2019-10-16 9:22 dpdklab
This is a public inbox, see mirroring instructions
for how to clone and mirror all data and code used for this inbox;
as well as URLs for NNTP newsgroup(s).