* [dpdk-test-report] |SUCCESS| pw61311 [PATCH] net/memif: add multiple memif data transmission support
@ 2019-10-16 14:37 dpdklab
0 siblings, 0 replies; 4+ messages in thread
From: dpdklab @ 2019-10-16 14:37 UTC (permalink / raw)
To: Ali Alnubani, Test Report; +Cc: dpdk-test-reports
[-- Attachment #1: Type: text/plain, Size: 3918 bytes --]
Test-Label: iol-mellanox-Performance
Test-Status: SUCCESS
http://dpdk.org/patch/61311
_Performance Testing PASS_
Submitter: Anand Sunkad <anand.sunkad@benisontech.com>
Date: Wednesday, October 16 2019 13:22:10
DPDK git baseline: Repo:dpdk
Branch: master
CommitID:a8f8ae1cf9b68f6398b49019ca07a215a57bba41
61311 --> performance testing pass
Test environment and result as below:
Ubuntu 18.04
Kernel: 4.15.0-generic
GCC: 7.4
NIC: Mellanox ConnectX-4 Lx 40000 Mbps
Target: x86_64-native-linuxapp-gcc
Fail/Total: 0/6
Detail performance results:
+------------+---------+-------------------------------------+
| frame_size | txd/rxd | throughput difference from expected |
+============+=========+=====================================+
| 64 | 256 | 0.282 |
+------------+---------+-------------------------------------+
| 128 | 256 | 0.127 |
+------------+---------+-------------------------------------+
| 256 | 256 | 0.020 |
+------------+---------+-------------------------------------+
| 512 | 256 | -0.043 |
+------------+---------+-------------------------------------+
| 1024 | 256 | -0.024 |
+------------+---------+-------------------------------------+
| 1518 | 256 | 0 |
+------------+---------+-------------------------------------+
Ubuntu 18.04
Kernel: 4.15.0-generic
GCC: 7.4
NIC: Mellanox ConnectX-4 Lx 25000 Mbps
Target: x86_64-native-linuxapp-gcc
Fail/Total: 0/6
Detail performance results:
+------------+---------+-------------------------------------+
| frame_size | txd/rxd | throughput difference from expected |
+============+=========+=====================================+
| 64 | 256 | -0.243 |
+------------+---------+-------------------------------------+
| 128 | 256 | 0.041 |
+------------+---------+-------------------------------------+
| 256 | 256 | -0.026 |
+------------+---------+-------------------------------------+
| 512 | 256 | -0.002 |
+------------+---------+-------------------------------------+
| 1024 | 256 | -0.016 |
+------------+---------+-------------------------------------+
| 1518 | 256 | 0.001 |
+------------+---------+-------------------------------------+
Ubuntu 18.04
Kernel: 4.15.0-generic
GCC: 7.4
NIC: Mellanox ConnectX-5 100000 Mbps
Target: x86_64-native-linuxapp-gcc
Fail/Total: 0/6
Detail performance results:
+------------+---------+-------------------------------------+
| frame_size | txd/rxd | throughput difference from expected |
+============+=========+=====================================+
| 64 | 256 | -0.035 |
+------------+---------+-------------------------------------+
| 128 | 256 | 0.037 |
+------------+---------+-------------------------------------+
| 256 | 256 | 0.289 |
+------------+---------+-------------------------------------+
| 512 | 256 | 0.074 |
+------------+---------+-------------------------------------+
| 1024 | 256 | 0.048 |
+------------+---------+-------------------------------------+
| 1518 | 256 | 0.008 |
+------------+---------+-------------------------------------+
https://lab.dpdk.org/results/dashboard/patchsets/7973/
UNH-IOL DPDK Performance Test Lab
To manage your email subscriptions visit:
https://lab.dpdk.org/results/dashboard/preferences/subscriptions/
^ permalink raw reply [flat|nested] 4+ messages in thread
* [dpdk-test-report] |SUCCESS| pw61311 [PATCH] net/memif: add multiple memif data transmission support
@ 2019-10-16 14:10 dpdklab
0 siblings, 0 replies; 4+ messages in thread
From: dpdklab @ 2019-10-16 14:10 UTC (permalink / raw)
To: Test Report; +Cc: dpdk-test-reports
[-- Attachment #1: Type: text/plain, Size: 2003 bytes --]
Test-Label: iol-intel-Performance
Test-Status: SUCCESS
http://dpdk.org/patch/61311
_Performance Testing PASS_
Submitter: Anand Sunkad <anand.sunkad@benisontech.com>
Date: Wednesday, October 16 2019 13:22:10
DPDK git baseline: Repo:dpdk
Branch: master
CommitID:a8f8ae1cf9b68f6398b49019ca07a215a57bba41
61311 --> performance testing pass
Test environment and result as below:
Ubuntu 18.04
Kernel: 4.15.0-generic
GCC: 7.4
NIC: Intel Corporation Ethernet Converged Network Adapter 82599ES 10000 Mbps
Target: x86_64-native-linuxapp-gcc
Fail/Total: 0/3
Detail performance results:
+------------+---------+-------------------------------------+
| frame_size | txd/rxd | throughput difference from expected |
+============+=========+=====================================+
| 64 | 128 | -0.268 |
+------------+---------+-------------------------------------+
| 64 | 512 | -0.002 |
+------------+---------+-------------------------------------+
| 64 | 2048 | 0.092 |
+------------+---------+-------------------------------------+
Ubuntu 18.04
Kernel: 4.15.0-generic
GCC: 7.4
NIC: Intel Corporation Ethernet Converged Network Adapter XL710-QDA2 40000 Mbps
Target: x86_64-native-linuxapp-gcc
Fail/Total: 0/2
Detail performance results:
+------------+---------+-------------------------------------+
| frame_size | txd/rxd | throughput difference from expected |
+============+=========+=====================================+
| 64 | 512 | 0.014 |
+------------+---------+-------------------------------------+
| 64 | 2048 | -0.096 |
+------------+---------+-------------------------------------+
https://lab.dpdk.org/results/dashboard/patchsets/7973/
UNH-IOL DPDK Performance Test Lab
To manage your email subscriptions visit:
https://lab.dpdk.org/results/dashboard/preferences/subscriptions/
^ permalink raw reply [flat|nested] 4+ messages in thread
* [dpdk-test-report] |SUCCESS| pw61311 [PATCH] net/memif: add multiple memif data transmission support
@ 2019-10-16 14:05 dpdklab
0 siblings, 0 replies; 4+ messages in thread
From: dpdklab @ 2019-10-16 14:05 UTC (permalink / raw)
To: Test Report; +Cc: dpdk-test-reports
[-- Attachment #1: Type: text/plain, Size: 1154 bytes --]
Test-Label: iol-compilation
Test-Status: SUCCESS
http://dpdk.org/patch/61311
_Compile Testing PASS_
Submitter: Anand Sunkad <anand.sunkad@benisontech.com>
Date: Wednesday, October 16 2019 13:22:10
DPDK git baseline: Repo:dpdk
Branch: master
CommitID:a8f8ae1cf9b68f6398b49019ca07a215a57bba41
61311 --> compile testing pass
Test environment and result as below:
+--------------+------------------+-------------------+--------------+
| Environment | dpdk_compile_ovs | dpdk_compile_spdk | dpdk_compile |
+==============+==================+===================+==============+
| Ubuntu 18.04 | PASS | PASS | PASS |
+--------------+------------------+-------------------+--------------+
| FreeBSD 11.2 | | PASS | PASS |
+--------------+------------------+-------------------+--------------+
Ubuntu 18.04
Kernel: 4.15.0-generic
GCC: 7.4
FreeBSD 11.2
Kernel: 11.2
GCC: 8.3
https://lab.dpdk.org/results/dashboard/patchsets/7973/
UNH-IOL DPDK Performance Test Lab
To manage your email subscriptions visit:
https://lab.dpdk.org/results/dashboard/preferences/subscriptions/
^ permalink raw reply [flat|nested] 4+ messages in thread
[parent not found: <1571232181-5874-1-git-send-email-anand.sunkad@benisontech.com>]
end of thread, other threads:[~2019-10-16 14:37 UTC | newest]
Thread overview: 4+ messages (download: mbox.gz / follow: Atom feed)
-- links below jump to the message on this page --
2019-10-16 14:37 [dpdk-test-report] |SUCCESS| pw61311 [PATCH] net/memif: add multiple memif data transmission support dpdklab
-- strict thread matches above, loose matches on Subject: below --
2019-10-16 14:10 dpdklab
2019-10-16 14:05 dpdklab
[not found] <1571232181-5874-1-git-send-email-anand.sunkad@benisontech.com>
2019-10-16 13:22 ` checkpatch
This is a public inbox, see mirroring instructions
for how to clone and mirror all data and code used for this inbox;
as well as URLs for NNTP newsgroup(s).