* [dpdk-test-report] |SUCCESS| [GIT MASTER] b240a6949c93201e6be5a1aa856d025e3f9ce4b9
@ 2019-10-16 18:29 dpdklab
0 siblings, 0 replies; 3+ messages in thread
From: dpdklab @ 2019-10-16 18:29 UTC (permalink / raw)
To: Test Report; +Cc: dpdk-test-reports
[-- Attachment #1: Type: text/plain, Size: 1120 bytes --]
_Compile Testing PASS_
Branch: dpdk-next-net
b240a6949c93201e6be5a1aa856d025e3f9ce4b9 --> compile testing pass
Test environment and result as below:
+--------------+------------------+--------------+-------------------+
| Environment | dpdk_compile_ovs | dpdk_compile | dpdk_compile_spdk |
+==============+==================+==============+===================+
| Ubuntu 18.04 | PASS | PASS | PASS |
+--------------+------------------+--------------+-------------------+
| FreeBSD 11.2 | | PASS | PASS |
+--------------+------------------+--------------+-------------------+
| CentOS 8 | | PASS | |
+--------------+------------------+--------------+-------------------+
Ubuntu 18.04
Kernel: 4.15.0-generic
GCC: 7.4
FreeBSD 11.2
Kernel: 11.2
GCC: 8.3
CentOS 8
Kernel: 4.18.0.el8_0
GCC: 8.2
https://lab.dpdk.org/results/dashboard/tarballs/6586/
UNH-IOL DPDK Performance Test Lab
To manage your email subscriptions visit:
https://lab.dpdk.org/results/dashboard/preferences/subscriptions/
^ permalink raw reply [flat|nested] 3+ messages in thread
* [dpdk-test-report] |SUCCESS| [GIT MASTER] b240a6949c93201e6be5a1aa856d025e3f9ce4b9
@ 2019-10-16 19:06 dpdklab
0 siblings, 0 replies; 3+ messages in thread
From: dpdklab @ 2019-10-16 19:06 UTC (permalink / raw)
To: Ali Alnubani, Test Report; +Cc: dpdk-test-reports
[-- Attachment #1: Type: text/plain, Size: 3691 bytes --]
_Performance Testing PASS_
Branch: dpdk-next-net
b240a6949c93201e6be5a1aa856d025e3f9ce4b9 --> performance testing pass
Test environment and result as below:
Ubuntu 18.04
Kernel: 4.15.0-generic
GCC: 7.4
NIC: Mellanox ConnectX-4 Lx 25000 Mbps
Target: x86_64-native-linuxapp-gcc
Fail/Total: 0/6
Detail performance results:
+------------+---------+-------------------------------------+
| frame_size | txd/rxd | throughput difference from expected |
+============+=========+=====================================+
| 64 | 256 | -0.303 |
+------------+---------+-------------------------------------+
| 128 | 256 | 0.059 |
+------------+---------+-------------------------------------+
| 256 | 256 | 0.006 |
+------------+---------+-------------------------------------+
| 512 | 256 | 0.038 |
+------------+---------+-------------------------------------+
| 1024 | 256 | -0.015 |
+------------+---------+-------------------------------------+
| 1518 | 256 | -0.001 |
+------------+---------+-------------------------------------+
Ubuntu 18.04
Kernel: 4.15.0-generic
GCC: 7.4
NIC: Mellanox ConnectX-5 100000 Mbps
Target: x86_64-native-linuxapp-gcc
Fail/Total: 0/6
Detail performance results:
+------------+---------+-------------------------------------+
| frame_size | txd/rxd | throughput difference from expected |
+============+=========+=====================================+
| 64 | 256 | 0.050 |
+------------+---------+-------------------------------------+
| 128 | 256 | 0.014 |
+------------+---------+-------------------------------------+
| 256 | 256 | 0.276 |
+------------+---------+-------------------------------------+
| 512 | 256 | 0.068 |
+------------+---------+-------------------------------------+
| 1024 | 256 | 0.033 |
+------------+---------+-------------------------------------+
| 1518 | 256 | 0.005 |
+------------+---------+-------------------------------------+
Ubuntu 18.04
Kernel: 4.15.0-generic
GCC: 7.4
NIC: Mellanox ConnectX-4 Lx 40000 Mbps
Target: x86_64-native-linuxapp-gcc
Fail/Total: 0/6
Detail performance results:
+------------+---------+-------------------------------------+
| frame_size | txd/rxd | throughput difference from expected |
+============+=========+=====================================+
| 64 | 256 | 0.260 |
+------------+---------+-------------------------------------+
| 128 | 256 | 0.489 |
+------------+---------+-------------------------------------+
| 256 | 256 | 0.107 |
+------------+---------+-------------------------------------+
| 512 | 256 | -0.043 |
+------------+---------+-------------------------------------+
| 1024 | 256 | -0.010 |
+------------+---------+-------------------------------------+
| 1518 | 256 | 0.009 |
+------------+---------+-------------------------------------+
https://lab.dpdk.org/results/dashboard/tarballs/6586/
UNH-IOL DPDK Performance Test Lab
To manage your email subscriptions visit:
https://lab.dpdk.org/results/dashboard/preferences/subscriptions/
^ permalink raw reply [flat|nested] 3+ messages in thread
* [dpdk-test-report] |SUCCESS| [GIT MASTER] b240a6949c93201e6be5a1aa856d025e3f9ce4b9
@ 2019-10-16 18:26 dpdklab
0 siblings, 0 replies; 3+ messages in thread
From: dpdklab @ 2019-10-16 18:26 UTC (permalink / raw)
To: Test Report; +Cc: dpdk-test-reports
[-- Attachment #1: Type: text/plain, Size: 1779 bytes --]
_Performance Testing PASS_
Branch: dpdk-next-net
b240a6949c93201e6be5a1aa856d025e3f9ce4b9 --> performance testing pass
Test environment and result as below:
Ubuntu 18.04
Kernel: 4.15.0-generic
GCC: 7.4
NIC: Intel Corporation Ethernet Converged Network Adapter 82599ES 10000 Mbps
Target: x86_64-native-linuxapp-gcc
Fail/Total: 0/3
Detail performance results:
+------------+---------+-------------------------------------+
| frame_size | txd/rxd | throughput difference from expected |
+============+=========+=====================================+
| 64 | 128 | 0.010 |
+------------+---------+-------------------------------------+
| 64 | 512 | 0.185 |
+------------+---------+-------------------------------------+
| 64 | 2048 | -0.113 |
+------------+---------+-------------------------------------+
Ubuntu 18.04
Kernel: 4.15.0-generic
GCC: 7.4
NIC: Intel Corporation Ethernet Converged Network Adapter XL710-QDA2 40000 Mbps
Target: x86_64-native-linuxapp-gcc
Fail/Total: 0/2
Detail performance results:
+------------+---------+-------------------------------------+
| frame_size | txd/rxd | throughput difference from expected |
+============+=========+=====================================+
| 64 | 512 | 0.465 |
+------------+---------+-------------------------------------+
| 64 | 2048 | 0.317 |
+------------+---------+-------------------------------------+
https://lab.dpdk.org/results/dashboard/tarballs/6586/
UNH-IOL DPDK Performance Test Lab
To manage your email subscriptions visit:
https://lab.dpdk.org/results/dashboard/preferences/subscriptions/
^ permalink raw reply [flat|nested] 3+ messages in thread
end of thread, other threads:[~2019-10-16 19:06 UTC | newest]
Thread overview: 3+ messages (download: mbox.gz / follow: Atom feed)
-- links below jump to the message on this page --
2019-10-16 18:29 [dpdk-test-report] |SUCCESS| [GIT MASTER] b240a6949c93201e6be5a1aa856d025e3f9ce4b9 dpdklab
-- strict thread matches above, loose matches on Subject: below --
2019-10-16 19:06 dpdklab
2019-10-16 18:26 dpdklab
This is a public inbox, see mirroring instructions
for how to clone and mirror all data and code used for this inbox;
as well as URLs for NNTP newsgroup(s).