* [dpdk-test-report] |SUCCESS| pw61481 [PATCH] [v7] ethdev: add HIGIG2 key field to flow API
@ 2019-10-20 5:26 dpdklab
0 siblings, 0 replies; 4+ messages in thread
From: dpdklab @ 2019-10-20 5:26 UTC (permalink / raw)
To: Test Report; +Cc: dpdk-test-reports
[-- Attachment #1: Type: text/plain, Size: 2016 bytes --]
Test-Label: iol-intel-Performance
Test-Status: SUCCESS
http://dpdk.org/patch/61481
_Performance Testing PASS_
Submitter: Kiran Kumar Kokkilagadda <kirankumark@marvell.com>
Date: Sunday, October 20 2019 04:52:07
DPDK git baseline: Repo:dpdk-next-net
Branch: master
CommitID:a94d81436b4f6d31b4f80408ae258ed7d91cfb1f
61481 --> performance testing pass
Test environment and result as below:
Ubuntu 18.04
Kernel: 4.15.0-generic
GCC: 7.4
NIC: Intel Corporation Ethernet Converged Network Adapter 82599ES 10000 Mbps
Target: x86_64-native-linuxapp-gcc
Fail/Total: 0/3
Detail performance results:
+------------+---------+-------------------------------------+
| frame_size | txd/rxd | throughput difference from expected |
+============+=========+=====================================+
| 64 | 128 | -0.134 |
+------------+---------+-------------------------------------+
| 64 | 512 | -0.144 |
+------------+---------+-------------------------------------+
| 64 | 2048 | -0.052 |
+------------+---------+-------------------------------------+
Ubuntu 18.04
Kernel: 4.15.0-generic
GCC: 7.4
NIC: Intel Corporation Ethernet Converged Network Adapter XL710-QDA2 40000 Mbps
Target: x86_64-native-linuxapp-gcc
Fail/Total: 0/2
Detail performance results:
+------------+---------+-------------------------------------+
| frame_size | txd/rxd | throughput difference from expected |
+============+=========+=====================================+
| 64 | 512 | -0.532 |
+------------+---------+-------------------------------------+
| 64 | 2048 | -0.692 |
+------------+---------+-------------------------------------+
https://lab.dpdk.org/results/dashboard/patchsets/8034/
UNH-IOL DPDK Performance Test Lab
To manage your email subscriptions visit:
https://lab.dpdk.org/results/dashboard/preferences/subscriptions/
^ permalink raw reply [flat|nested] 4+ messages in thread
* [dpdk-test-report] |SUCCESS| pw61481 [PATCH] [v7] ethdev: add HIGIG2 key field to flow API
@ 2019-10-20 5:54 dpdklab
0 siblings, 0 replies; 4+ messages in thread
From: dpdklab @ 2019-10-20 5:54 UTC (permalink / raw)
To: Ali Alnubani, Test Report; +Cc: dpdk-test-reports
[-- Attachment #1: Type: text/plain, Size: 3931 bytes --]
Test-Label: iol-mellanox-Performance
Test-Status: SUCCESS
http://dpdk.org/patch/61481
_Performance Testing PASS_
Submitter: Kiran Kumar Kokkilagadda <kirankumark@marvell.com>
Date: Sunday, October 20 2019 04:52:07
DPDK git baseline: Repo:dpdk-next-net
Branch: master
CommitID:a94d81436b4f6d31b4f80408ae258ed7d91cfb1f
61481 --> performance testing pass
Test environment and result as below:
Ubuntu 18.04
Kernel: 4.15.0-generic
GCC: 7.4
NIC: Mellanox ConnectX-4 Lx 40000 Mbps
Target: x86_64-native-linuxapp-gcc
Fail/Total: 0/6
Detail performance results:
+------------+---------+-------------------------------------+
| frame_size | txd/rxd | throughput difference from expected |
+============+=========+=====================================+
| 64 | 256 | -0.148 |
+------------+---------+-------------------------------------+
| 128 | 256 | 0.361 |
+------------+---------+-------------------------------------+
| 256 | 256 | 0.031 |
+------------+---------+-------------------------------------+
| 512 | 256 | -0.015 |
+------------+---------+-------------------------------------+
| 1024 | 256 | 0 |
+------------+---------+-------------------------------------+
| 1518 | 256 | 0.007 |
+------------+---------+-------------------------------------+
Ubuntu 18.04
Kernel: 4.15.0-generic
GCC: 7.4
NIC: Mellanox ConnectX-5 100000 Mbps
Target: x86_64-native-linuxapp-gcc
Fail/Total: 0/6
Detail performance results:
+------------+---------+-------------------------------------+
| frame_size | txd/rxd | throughput difference from expected |
+============+=========+=====================================+
| 64 | 256 | 0.181 |
+------------+---------+-------------------------------------+
| 128 | 256 | -0.068 |
+------------+---------+-------------------------------------+
| 256 | 256 | -0.043 |
+------------+---------+-------------------------------------+
| 512 | 256 | -0.077 |
+------------+---------+-------------------------------------+
| 1024 | 256 | -0.077 |
+------------+---------+-------------------------------------+
| 1518 | 256 | 0.016 |
+------------+---------+-------------------------------------+
Ubuntu 18.04
Kernel: 4.15.0-generic
GCC: 7.4
NIC: Mellanox ConnectX-4 Lx 25000 Mbps
Target: x86_64-native-linuxapp-gcc
Fail/Total: 0/6
Detail performance results:
+------------+---------+-------------------------------------+
| frame_size | txd/rxd | throughput difference from expected |
+============+=========+=====================================+
| 64 | 256 | 0.174 |
+------------+---------+-------------------------------------+
| 128 | 256 | 0.104 |
+------------+---------+-------------------------------------+
| 256 | 256 | -0.005 |
+------------+---------+-------------------------------------+
| 512 | 256 | 0.001 |
+------------+---------+-------------------------------------+
| 1024 | 256 | 0.001 |
+------------+---------+-------------------------------------+
| 1518 | 256 | 0.005 |
+------------+---------+-------------------------------------+
https://lab.dpdk.org/results/dashboard/patchsets/8034/
UNH-IOL DPDK Performance Test Lab
To manage your email subscriptions visit:
https://lab.dpdk.org/results/dashboard/preferences/subscriptions/
^ permalink raw reply [flat|nested] 4+ messages in thread
* [dpdk-test-report] |SUCCESS| pw61481 [PATCH] [v7] ethdev: add HIGIG2 key field to flow API
@ 2019-10-20 5:47 dpdklab
0 siblings, 0 replies; 4+ messages in thread
From: dpdklab @ 2019-10-20 5:47 UTC (permalink / raw)
To: Test Report; +Cc: dpdk-test-reports
[-- Attachment #1: Type: text/plain, Size: 1351 bytes --]
Test-Label: iol-compilation
Test-Status: SUCCESS
http://dpdk.org/patch/61481
_Compile Testing PASS_
Submitter: Kiran Kumar Kokkilagadda <kirankumark@marvell.com>
Date: Sunday, October 20 2019 04:52:07
DPDK git baseline: Repo:dpdk-next-net
Branch: master
CommitID:a94d81436b4f6d31b4f80408ae258ed7d91cfb1f
61481 --> compile testing pass
Test environment and result as below:
+--------------+-------------------+------------------+--------------+
| Environment | dpdk_compile_spdk | dpdk_compile_ovs | dpdk_compile |
+==============+===================+==================+==============+
| FreeBSD 11.2 | PASS | | PASS |
+--------------+-------------------+------------------+--------------+
| Ubuntu 18.04 | PASS | PASS | PASS |
+--------------+-------------------+------------------+--------------+
| CentOS 8 | | PASS | PASS |
+--------------+-------------------+------------------+--------------+
FreeBSD 11.2
Kernel: 11.2
GCC: 8.3
Ubuntu 18.04
Kernel: 4.15.0-generic
GCC: 7.4
CentOS 8
Kernel: 4.18.0.el8_0
GCC: 8.2
https://lab.dpdk.org/results/dashboard/patchsets/8034/
UNH-IOL DPDK Performance Test Lab
To manage your email subscriptions visit:
https://lab.dpdk.org/results/dashboard/preferences/subscriptions/
^ permalink raw reply [flat|nested] 4+ messages in thread
* [dpdk-test-report] |SUCCESS| pw61481 [PATCH v7] ethdev: add HIGIG2 key field to flow API
[not found] <20191020045208.25069-1-kirankumark@marvell.com>
@ 2019-10-20 4:52 ` checkpatch
0 siblings, 0 replies; 4+ messages in thread
From: checkpatch @ 2019-10-20 4:52 UTC (permalink / raw)
To: test-report
Test-Label: checkpatch
Test-Status: SUCCESS
http://dpdk.org/patch/61481
_coding style OK_
^ permalink raw reply [flat|nested] 4+ messages in thread
end of thread, other threads:[~2019-10-20 5:54 UTC | newest]
Thread overview: 4+ messages (download: mbox.gz / follow: Atom feed)
-- links below jump to the message on this page --
2019-10-20 5:26 [dpdk-test-report] |SUCCESS| pw61481 [PATCH] [v7] ethdev: add HIGIG2 key field to flow API dpdklab
-- strict thread matches above, loose matches on Subject: below --
2019-10-20 5:54 dpdklab
2019-10-20 5:47 dpdklab
[not found] <20191020045208.25069-1-kirankumark@marvell.com>
2019-10-20 4:52 ` [dpdk-test-report] |SUCCESS| pw61481 [PATCH v7] " checkpatch
This is a public inbox, see mirroring instructions
for how to clone and mirror all data and code used for this inbox;
as well as URLs for NNTP newsgroup(s).