automatic DPDK test reports
 help / color / mirror / Atom feed
* [dpdk-test-report] |SUCCESS| [GIT MASTER] 47d1e3dc3b7aee007d22ab9ede2f9e148e7f2df0
@ 2019-10-20 14:37 dpdklab
  0 siblings, 0 replies; 3+ messages in thread
From: dpdklab @ 2019-10-20 14:37 UTC (permalink / raw)
  To: Test Report; +Cc: dpdk-test-reports

[-- Attachment #1: Type: text/plain, Size: 1783 bytes --]

_Performance Testing PASS_

Branch: dpdk-next-net-mlx

47d1e3dc3b7aee007d22ab9ede2f9e148e7f2df0 --> performance testing pass

Test environment and result as below:

Ubuntu 18.04
Kernel: 4.15.0-generic
GCC: 7.4
NIC: Intel Corporation Ethernet Converged Network Adapter 82599ES 10000 Mbps
Target: x86_64-native-linuxapp-gcc
Fail/Total: 0/3

Detail performance results: 
+------------+---------+-------------------------------------+
| frame_size | txd/rxd | throughput difference from expected |
+============+=========+=====================================+
| 64         | 128     | -0.071                              |
+------------+---------+-------------------------------------+
| 64         | 512     | -0.148                              |
+------------+---------+-------------------------------------+
| 64         | 2048    | -0.072                              |
+------------+---------+-------------------------------------+

Ubuntu 18.04
Kernel: 4.15.0-generic
GCC: 7.4
NIC: Intel Corporation Ethernet Converged Network Adapter XL710-QDA2 40000 Mbps
Target: x86_64-native-linuxapp-gcc
Fail/Total: 0/2

Detail performance results: 
+------------+---------+-------------------------------------+
| frame_size | txd/rxd | throughput difference from expected |
+============+=========+=====================================+
| 64         | 512     | -0.679                              |
+------------+---------+-------------------------------------+
| 64         | 2048    | -0.687                              |
+------------+---------+-------------------------------------+

https://lab.dpdk.org/results/dashboard/tarballs/6635/

UNH-IOL DPDK Performance Test Lab

To manage your email subscriptions visit: 
https://lab.dpdk.org/results/dashboard/preferences/subscriptions/

^ permalink raw reply	[flat|nested] 3+ messages in thread

* [dpdk-test-report] |SUCCESS| [GIT MASTER] 47d1e3dc3b7aee007d22ab9ede2f9e148e7f2df0
@ 2019-10-20 15:03 dpdklab
  0 siblings, 0 replies; 3+ messages in thread
From: dpdklab @ 2019-10-20 15:03 UTC (permalink / raw)
  To: Ali Alnubani, Test Report; +Cc: dpdk-test-reports

[-- Attachment #1: Type: text/plain, Size: 3695 bytes --]

_Performance Testing PASS_

Branch: dpdk-next-net-mlx

47d1e3dc3b7aee007d22ab9ede2f9e148e7f2df0 --> performance testing pass

Test environment and result as below:

Ubuntu 18.04
Kernel: 4.15.0-generic
GCC: 7.4
NIC: Mellanox ConnectX-4 Lx 40000 Mbps
Target: x86_64-native-linuxapp-gcc
Fail/Total: 0/6

Detail performance results: 
+------------+---------+-------------------------------------+
| frame_size | txd/rxd | throughput difference from expected |
+============+=========+=====================================+
| 64         | 256     | -0.041                              |
+------------+---------+-------------------------------------+
| 128        | 256     | 0.503                               |
+------------+---------+-------------------------------------+
| 256        | 256     | 0.002                               |
+------------+---------+-------------------------------------+
| 512        | 256     | 0.054                               |
+------------+---------+-------------------------------------+
| 1024       | 256     | 0.008                               |
+------------+---------+-------------------------------------+
| 1518       | 256     | -0.001                              |
+------------+---------+-------------------------------------+

Ubuntu 18.04
Kernel: 4.15.0-generic
GCC: 7.4
NIC: Mellanox ConnectX-4 Lx 25000 Mbps
Target: x86_64-native-linuxapp-gcc
Fail/Total: 0/6

Detail performance results: 
+------------+---------+-------------------------------------+
| frame_size | txd/rxd | throughput difference from expected |
+============+=========+=====================================+
| 64         | 256     | 0.222                               |
+------------+---------+-------------------------------------+
| 128        | 256     | 0.236                               |
+------------+---------+-------------------------------------+
| 256        | 256     | -0.006                              |
+------------+---------+-------------------------------------+
| 512        | 256     | 0.006                               |
+------------+---------+-------------------------------------+
| 1024       | 256     | -0.004                              |
+------------+---------+-------------------------------------+
| 1518       | 256     | 0.001                               |
+------------+---------+-------------------------------------+

Ubuntu 18.04
Kernel: 4.15.0-generic
GCC: 7.4
NIC: Mellanox ConnectX-5 100000 Mbps
Target: x86_64-native-linuxapp-gcc
Fail/Total: 0/6

Detail performance results: 
+------------+---------+-------------------------------------+
| frame_size | txd/rxd | throughput difference from expected |
+============+=========+=====================================+
| 64         | 256     | 0.277                               |
+------------+---------+-------------------------------------+
| 128        | 256     | 0.118                               |
+------------+---------+-------------------------------------+
| 256        | 256     | 0.013                               |
+------------+---------+-------------------------------------+
| 512        | 256     | -0.090                              |
+------------+---------+-------------------------------------+
| 1024       | 256     | -0.006                              |
+------------+---------+-------------------------------------+
| 1518       | 256     | 0.023                               |
+------------+---------+-------------------------------------+

https://lab.dpdk.org/results/dashboard/tarballs/6635/

UNH-IOL DPDK Performance Test Lab

To manage your email subscriptions visit: 
https://lab.dpdk.org/results/dashboard/preferences/subscriptions/

^ permalink raw reply	[flat|nested] 3+ messages in thread

* [dpdk-test-report] |SUCCESS| [GIT MASTER] 47d1e3dc3b7aee007d22ab9ede2f9e148e7f2df0
@ 2019-10-20 14:57 dpdklab
  0 siblings, 0 replies; 3+ messages in thread
From: dpdklab @ 2019-10-20 14:57 UTC (permalink / raw)
  To: Test Report; +Cc: dpdk-test-reports

[-- Attachment #1: Type: text/plain, Size: 1124 bytes --]

_Compile Testing PASS_

Branch: dpdk-next-net-mlx

47d1e3dc3b7aee007d22ab9ede2f9e148e7f2df0 --> compile testing pass

Test environment and result as below:

+--------------+------------------+-------------------+--------------+
| Environment  | dpdk_compile_ovs | dpdk_compile_spdk | dpdk_compile |
+==============+==================+===================+==============+
| Ubuntu 18.04 | PASS             | PASS              | PASS         |
+--------------+------------------+-------------------+--------------+
| CentOS 8     | PASS             |                   | PASS         |
+--------------+------------------+-------------------+--------------+
| FreeBSD 11.2 |                  | PASS              | PASS         |
+--------------+------------------+-------------------+--------------+

Ubuntu 18.04
	Kernel: 4.15.0-generic
	GCC: 7.4

CentOS 8
	Kernel: 4.18.0.el8_0
	GCC: 8.2

FreeBSD 11.2
	Kernel: 11.2
	GCC: 8.3

https://lab.dpdk.org/results/dashboard/tarballs/6635/

UNH-IOL DPDK Performance Test Lab

To manage your email subscriptions visit: 
https://lab.dpdk.org/results/dashboard/preferences/subscriptions/

^ permalink raw reply	[flat|nested] 3+ messages in thread

end of thread, other threads:[~2019-10-20 15:03 UTC | newest]

Thread overview: 3+ messages (download: mbox.gz / follow: Atom feed)
-- links below jump to the message on this page --
2019-10-20 14:37 [dpdk-test-report] |SUCCESS| [GIT MASTER] 47d1e3dc3b7aee007d22ab9ede2f9e148e7f2df0 dpdklab
2019-10-20 14:57 dpdklab
2019-10-20 15:03 dpdklab

automatic DPDK test reports

This inbox may be cloned and mirrored by anyone:

	git clone --mirror http://inbox.dpdk.org/test-report/0 test-report/git/0.git

	# If you have public-inbox 1.1+ installed, you may
	# initialize and index your mirror using the following commands:
	public-inbox-init -V2 test-report test-report/ http://inbox.dpdk.org/test-report \
		test-report@dpdk.org
	public-inbox-index test-report

Example config snippet for mirrors.
Newsgroup available over NNTP:
	nntp://inbox.dpdk.org/inbox.dpdk.test-report


AGPL code for this site: git clone https://public-inbox.org/public-inbox.git