From: dpdklab@iol.unh.edu To: Test Report <test-report@dpdk.org> Cc: dpdk-test-reports@iol.unh.edu Subject: [dpdk-test-report] |SUCCESS| pw61559-61562 [PATCH] [v11, 1/4] mempool: populate mempool with the page sized chunks Date: Mon, 21 Oct 2019 05:29:16 -0400 (EDT) Message-ID: <20191021092916.270654C9@noxus.dpdklab.iol.unh.edu> (raw) [-- Attachment #1: Type: text/plain, Size: 1344 bytes --] Test-Label: iol-compilation Test-Status: SUCCESS http://dpdk.org/patch/61559 _Compile Testing PASS_ Submitter: Vamsi Krishna Attunuru <vattunuru@marvell.com> Date: Monday, October 21 2019 08:03:21 DPDK git baseline: Repo:dpdk Branch: master CommitID:b36f587f010bba421a8fd0b4c383276ecb796ae3 61559-61562 --> compile testing pass Test environment and result as below: +--------------+-------------------+------------------+--------------+ | Environment | dpdk_compile_spdk | dpdk_compile_ovs | dpdk_compile | +==============+===================+==================+==============+ | FreeBSD 11.2 | PASS | | PASS | +--------------+-------------------+------------------+--------------+ | Ubuntu 18.04 | PASS | PASS | PASS | +--------------+-------------------+------------------+--------------+ | CentOS 8 | | PASS | PASS | +--------------+-------------------+------------------+--------------+ FreeBSD 11.2 Kernel: 11.2 GCC: 8.3 Ubuntu 18.04 Kernel: 4.15.0-generic GCC: 7.4 CentOS 8 Kernel: 4.18.0.el8_0 GCC: 8.2 https://lab.dpdk.org/results/dashboard/patchsets/8047/ UNH-IOL DPDK Performance Test Lab To manage your email subscriptions visit: https://lab.dpdk.org/results/dashboard/preferences/subscriptions/
next reply other threads:[~2019-10-21 9:29 UTC|newest] Thread overview: 3+ messages / expand[flat|nested] mbox.gz Atom feed top 2019-10-21 9:29 dpdklab [this message] -- strict thread matches above, loose matches on Subject: below -- 2019-10-21 9:46 dpdklab 2019-10-21 9:10 dpdklab
Reply instructions: You may reply publicly to this message via plain-text email using any one of the following methods: * Save the following mbox file, import it into your mail client, and reply-to-all from there: mbox Avoid top-posting and favor interleaved quoting: https://en.wikipedia.org/wiki/Posting_style#Interleaved_style * Reply using the --to, --cc, and --in-reply-to switches of git-send-email(1): git send-email \ --in-reply-to=20191021092916.270654C9@noxus.dpdklab.iol.unh.edu \ --to=dpdklab@iol.unh.edu \ --cc=dpdk-test-reports@iol.unh.edu \ --cc=test-report@dpdk.org \ /path/to/YOUR_REPLY https://kernel.org/pub/software/scm/git/docs/git-send-email.html * If your mail client supports setting the In-Reply-To header via mailto: links, try the mailto: link
automatic DPDK test reports This inbox may be cloned and mirrored by anyone: git clone --mirror http://inbox.dpdk.org/test-report/0 test-report/git/0.git # If you have public-inbox 1.1+ installed, you may # initialize and index your mirror using the following commands: public-inbox-init -V2 test-report test-report/ http://inbox.dpdk.org/test-report \ test-report@dpdk.org public-inbox-index test-report Example config snippet for mirrors. Newsgroup available over NNTP: nntp://inbox.dpdk.org/inbox.dpdk.test-report AGPL code for this site: git clone https://public-inbox.org/public-inbox.git