automatic DPDK test reports
 help / color / Atom feed
* [dpdk-test-report] |SUCCESS| pw61501 [PATCH] crypto/caam_jr: remove default big endianness compilation
@ 2019-10-21 10:10 dpdklab
  0 siblings, 0 replies; 4+ messages in thread
From: dpdklab @ 2019-10-21 10:10 UTC (permalink / raw)
  To: Test Report; +Cc: dpdk-test-reports

[-- Attachment #1: Type: text/plain, Size: 1990 bytes --]

Test-Label: iol-intel-Performance
Test-Status: SUCCESS
http://dpdk.org/patch/61501

_Performance Testing PASS_

Submitter: Gagandeep Singh <g.singh@nxp.com>
Date: Monday, October 21 2019 05:31:27 
DPDK git baseline: Repo:dpdk
  Branch: master
  CommitID:b36f587f010bba421a8fd0b4c383276ecb796ae3

61501 --> performance testing pass

Test environment and result as below:

Ubuntu 18.04
Kernel: 4.15.0-generic
GCC: 7.4
NIC: Intel Corporation Ethernet Converged Network Adapter 82599ES 10000 Mbps
Target: x86_64-native-linuxapp-gcc
Fail/Total: 0/3

Detail performance results: 
+------------+---------+-------------------------------------+
| frame_size | txd/rxd | throughput difference from expected |
+============+=========+=====================================+
| 64         | 128     | 0.155                               |
+------------+---------+-------------------------------------+
| 64         | 512     | -0.206                              |
+------------+---------+-------------------------------------+
| 64         | 2048    | 0.142                               |
+------------+---------+-------------------------------------+

Ubuntu 18.04
Kernel: 4.15.0-generic
GCC: 7.4
NIC: Intel Corporation Ethernet Converged Network Adapter XL710-QDA2 40000 Mbps
Target: x86_64-native-linuxapp-gcc
Fail/Total: 0/2

Detail performance results: 
+------------+---------+-------------------------------------+
| frame_size | txd/rxd | throughput difference from expected |
+============+=========+=====================================+
| 64         | 512     | -0.836                              |
+------------+---------+-------------------------------------+
| 64         | 2048    | -0.212                              |
+------------+---------+-------------------------------------+

https://lab.dpdk.org/results/dashboard/patchsets/8042/

UNH-IOL DPDK Performance Test Lab

To manage your email subscriptions visit: 
https://lab.dpdk.org/results/dashboard/preferences/subscriptions/

^ permalink raw reply	[flat|nested] 4+ messages in thread

* [dpdk-test-report] |SUCCESS| pw61501 [PATCH] crypto/caam_jr: remove default big endianness compilation
@ 2019-10-21 12:21 dpdklab
  0 siblings, 0 replies; 4+ messages in thread
From: dpdklab @ 2019-10-21 12:21 UTC (permalink / raw)
  To: Ali Alnubani, Test Report; +Cc: dpdk-test-reports

[-- Attachment #1: Type: text/plain, Size: 3905 bytes --]

Test-Label: iol-mellanox-Performance
Test-Status: SUCCESS
http://dpdk.org/patch/61501

_Performance Testing PASS_

Submitter: Gagandeep Singh <g.singh@nxp.com>
Date: Monday, October 21 2019 05:31:27 
DPDK git baseline: Repo:dpdk
  Branch: master
  CommitID:b36f587f010bba421a8fd0b4c383276ecb796ae3

61501 --> performance testing pass

Test environment and result as below:

Ubuntu 18.04
Kernel: 4.15.0-generic
GCC: 7.4
NIC: Mellanox ConnectX-4 Lx 25000 Mbps
Target: x86_64-native-linuxapp-gcc
Fail/Total: 0/6

Detail performance results: 
+------------+---------+-------------------------------------+
| frame_size | txd/rxd | throughput difference from expected |
+============+=========+=====================================+
| 64         | 256     | 0.049                               |
+------------+---------+-------------------------------------+
| 128        | 256     | -0.025                              |
+------------+---------+-------------------------------------+
| 256        | 256     | -0.050                              |
+------------+---------+-------------------------------------+
| 512        | 256     | -0.001                              |
+------------+---------+-------------------------------------+
| 1024       | 256     | -0.009                              |
+------------+---------+-------------------------------------+
| 1518       | 256     | -0.010                              |
+------------+---------+-------------------------------------+

Ubuntu 18.04
Kernel: 4.15.0-generic
GCC: 7.4
NIC: Mellanox ConnectX-5 100000 Mbps
Target: x86_64-native-linuxapp-gcc
Fail/Total: 0/6

Detail performance results: 
+------------+---------+-------------------------------------+
| frame_size | txd/rxd | throughput difference from expected |
+============+=========+=====================================+
| 64         | 256     | 0.085                               |
+------------+---------+-------------------------------------+
| 128        | 256     | 0.185                               |
+------------+---------+-------------------------------------+
| 256        | 256     | 0.011                               |
+------------+---------+-------------------------------------+
| 512        | 256     | -0.146                              |
+------------+---------+-------------------------------------+
| 1024       | 256     | 0.021                               |
+------------+---------+-------------------------------------+
| 1518       | 256     | 0.011                               |
+------------+---------+-------------------------------------+

Ubuntu 18.04
Kernel: 4.15.0-generic
GCC: 7.4
NIC: Mellanox ConnectX-4 Lx 40000 Mbps
Target: x86_64-native-linuxapp-gcc
Fail/Total: 0/6

Detail performance results: 
+------------+---------+-------------------------------------+
| frame_size | txd/rxd | throughput difference from expected |
+============+=========+=====================================+
| 64         | 256     | -0.226                              |
+------------+---------+-------------------------------------+
| 128        | 256     | 0.012                               |
+------------+---------+-------------------------------------+
| 256        | 256     | -0.033                              |
+------------+---------+-------------------------------------+
| 512        | 256     | 0.010                               |
+------------+---------+-------------------------------------+
| 1024       | 256     | 0                                   |
+------------+---------+-------------------------------------+
| 1518       | 256     | 0                                   |
+------------+---------+-------------------------------------+

https://lab.dpdk.org/results/dashboard/patchsets/8042/

UNH-IOL DPDK Performance Test Lab

To manage your email subscriptions visit: 
https://lab.dpdk.org/results/dashboard/preferences/subscriptions/

^ permalink raw reply	[flat|nested] 4+ messages in thread

* [dpdk-test-report] |SUCCESS| pw61501 [PATCH] crypto/caam_jr: remove default big endianness compilation
@ 2019-10-21 11:29 dpdklab
  0 siblings, 0 replies; 4+ messages in thread
From: dpdklab @ 2019-10-21 11:29 UTC (permalink / raw)
  To: Test Report; +Cc: dpdk-test-reports

[-- Attachment #1: Type: text/plain, Size: 1325 bytes --]

Test-Label: iol-compilation
Test-Status: SUCCESS
http://dpdk.org/patch/61501

_Compile Testing PASS_

Submitter: Gagandeep Singh <g.singh@nxp.com>
Date: Monday, October 21 2019 05:31:27 
DPDK git baseline: Repo:dpdk
  Branch: master
  CommitID:b36f587f010bba421a8fd0b4c383276ecb796ae3

61501 --> compile testing pass

Test environment and result as below:

+--------------+------------------+-------------------+--------------+
| Environment  | dpdk_compile_ovs | dpdk_compile_spdk | dpdk_compile |
+==============+==================+===================+==============+
| Ubuntu 18.04 | PASS             | PASS              | PASS         |
+--------------+------------------+-------------------+--------------+
| CentOS 8     | PASS             |                   | PASS         |
+--------------+------------------+-------------------+--------------+
| FreeBSD 11.2 |                  | PASS              | PASS         |
+--------------+------------------+-------------------+--------------+

Ubuntu 18.04
	Kernel: 4.15.0-generic
	GCC: 7.4

CentOS 8
	Kernel: 4.18.0.el8_0
	GCC: 8.2

FreeBSD 11.2
	Kernel: 11.2
	GCC: 8.3

https://lab.dpdk.org/results/dashboard/patchsets/8042/

UNH-IOL DPDK Performance Test Lab

To manage your email subscriptions visit: 
https://lab.dpdk.org/results/dashboard/preferences/subscriptions/

^ permalink raw reply	[flat|nested] 4+ messages in thread

* [dpdk-test-report] |SUCCESS| pw61501 [PATCH] crypto/caam_jr: remove default big endianness compilation
       [not found] <20191021053127.24121-1-g.singh@nxp.com>
@ 2019-10-21  5:48 ` checkpatch
  0 siblings, 0 replies; 4+ messages in thread
From: checkpatch @ 2019-10-21  5:48 UTC (permalink / raw)
  To: test-report

Test-Label: checkpatch
Test-Status: SUCCESS
http://dpdk.org/patch/61501

_coding style OK_



^ permalink raw reply	[flat|nested] 4+ messages in thread

end of thread, back to index

Thread overview: 4+ messages (download: mbox.gz / follow: Atom feed)
-- links below jump to the message on this page --
2019-10-21 10:10 [dpdk-test-report] |SUCCESS| pw61501 [PATCH] crypto/caam_jr: remove default big endianness compilation dpdklab
  -- strict thread matches above, loose matches on Subject: below --
2019-10-21 12:21 dpdklab
2019-10-21 11:29 dpdklab
     [not found] <20191021053127.24121-1-g.singh@nxp.com>
2019-10-21  5:48 ` checkpatch

automatic DPDK test reports

Archives are clonable:
	git clone --mirror http://inbox.dpdk.org/test-report/0 test-report/git/0.git

	# If you have public-inbox 1.1+ installed, you may
	# initialize and index your mirror using the following commands:
	public-inbox-init -V2 test-report test-report/ http://inbox.dpdk.org/test-report \
		test-report@dpdk.org
	public-inbox-index test-report


Newsgroup available over NNTP:
	nntp://inbox.dpdk.org/inbox.dpdk.test-report


AGPL code for this site: git clone https://public-inbox.org/ public-inbox