automatic DPDK test reports
 help / color / Atom feed
* [dpdk-test-report] |SUCCESS| pw61566 [PATCH] [v9] ethdev: add HIGIG2 key field to flow API
@ 2019-10-21 11:04 dpdklab
  0 siblings, 0 replies; 4+ messages in thread
From: dpdklab @ 2019-10-21 11:04 UTC (permalink / raw)
  To: Ali Alnubani, Test Report; +Cc: dpdk-test-reports

[-- Attachment #1: Type: text/plain, Size: 3931 bytes --]

Test-Label: iol-mellanox-Performance
Test-Status: SUCCESS
http://dpdk.org/patch/61566

_Performance Testing PASS_

Submitter: Kiran Kumar Kokkilagadda <kirankumark@marvell.com>
Date: Monday, October 21 2019 09:16:17 
DPDK git baseline: Repo:dpdk-next-net
  Branch: master
  CommitID:7bef76e5f840b6222c2b6bee6d9a5e54dfe8b167

61566 --> performance testing pass

Test environment and result as below:

Ubuntu 18.04
Kernel: 4.15.0-generic
GCC: 7.4
NIC: Mellanox ConnectX-5 100000 Mbps
Target: x86_64-native-linuxapp-gcc
Fail/Total: 0/6

Detail performance results: 
+------------+---------+-------------------------------------+
| frame_size | txd/rxd | throughput difference from expected |
+============+=========+=====================================+
| 64         | 256     | 0.167                               |
+------------+---------+-------------------------------------+
| 128        | 256     | -0.098                              |
+------------+---------+-------------------------------------+
| 256        | 256     | 0.046                               |
+------------+---------+-------------------------------------+
| 512        | 256     | -0.077                              |
+------------+---------+-------------------------------------+
| 1024       | 256     | -0.025                              |
+------------+---------+-------------------------------------+
| 1518       | 256     | 0.001                               |
+------------+---------+-------------------------------------+

Ubuntu 18.04
Kernel: 4.15.0-generic
GCC: 7.4
NIC: Mellanox ConnectX-4 Lx 25000 Mbps
Target: x86_64-native-linuxapp-gcc
Fail/Total: 0/6

Detail performance results: 
+------------+---------+-------------------------------------+
| frame_size | txd/rxd | throughput difference from expected |
+============+=========+=====================================+
| 64         | 256     | 0.175                               |
+------------+---------+-------------------------------------+
| 128        | 256     | 0.194                               |
+------------+---------+-------------------------------------+
| 256        | 256     | -0.012                              |
+------------+---------+-------------------------------------+
| 512        | 256     | 0.033                               |
+------------+---------+-------------------------------------+
| 1024       | 256     | -0.017                              |
+------------+---------+-------------------------------------+
| 1518       | 256     | -0.009                              |
+------------+---------+-------------------------------------+

Ubuntu 18.04
Kernel: 4.15.0-generic
GCC: 7.4
NIC: Mellanox ConnectX-4 Lx 40000 Mbps
Target: x86_64-native-linuxapp-gcc
Fail/Total: 0/6

Detail performance results: 
+------------+---------+-------------------------------------+
| frame_size | txd/rxd | throughput difference from expected |
+============+=========+=====================================+
| 64         | 256     | 0.022                               |
+------------+---------+-------------------------------------+
| 128        | 256     | 0.661                               |
+------------+---------+-------------------------------------+
| 256        | 256     | 0.029                               |
+------------+---------+-------------------------------------+
| 512        | 256     | 0.012                               |
+------------+---------+-------------------------------------+
| 1024       | 256     | 0                                   |
+------------+---------+-------------------------------------+
| 1518       | 256     | -0.002                              |
+------------+---------+-------------------------------------+

https://lab.dpdk.org/results/dashboard/patchsets/8049/

UNH-IOL DPDK Performance Test Lab

To manage your email subscriptions visit: 
https://lab.dpdk.org/results/dashboard/preferences/subscriptions/

^ permalink raw reply	[flat|nested] 4+ messages in thread

* [dpdk-test-report] |SUCCESS| pw61566 [PATCH] [v9] ethdev: add HIGIG2 key field to flow API
@ 2019-10-21 10:28 dpdklab
  0 siblings, 0 replies; 4+ messages in thread
From: dpdklab @ 2019-10-21 10:28 UTC (permalink / raw)
  To: Test Report; +Cc: dpdk-test-reports

[-- Attachment #1: Type: text/plain, Size: 1351 bytes --]

Test-Label: iol-compilation
Test-Status: SUCCESS
http://dpdk.org/patch/61566

_Compile Testing PASS_

Submitter: Kiran Kumar Kokkilagadda <kirankumark@marvell.com>
Date: Monday, October 21 2019 09:16:17 
DPDK git baseline: Repo:dpdk-next-net
  Branch: master
  CommitID:7bef76e5f840b6222c2b6bee6d9a5e54dfe8b167

61566 --> compile testing pass

Test environment and result as below:

+--------------+-------------------+------------------+--------------+
| Environment  | dpdk_compile_spdk | dpdk_compile_ovs | dpdk_compile |
+==============+===================+==================+==============+
| Ubuntu 18.04 | PASS              | PASS             | PASS         |
+--------------+-------------------+------------------+--------------+
| FreeBSD 11.2 | PASS              |                  | PASS         |
+--------------+-------------------+------------------+--------------+
| CentOS 8     |                   | PASS             | PASS         |
+--------------+-------------------+------------------+--------------+

Ubuntu 18.04
	Kernel: 4.15.0-generic
	GCC: 7.4

FreeBSD 11.2
	Kernel: 11.2
	GCC: 8.3

CentOS 8
	Kernel: 4.18.0.el8_0
	GCC: 8.2

https://lab.dpdk.org/results/dashboard/patchsets/8049/

UNH-IOL DPDK Performance Test Lab

To manage your email subscriptions visit: 
https://lab.dpdk.org/results/dashboard/preferences/subscriptions/

^ permalink raw reply	[flat|nested] 4+ messages in thread

* [dpdk-test-report] |SUCCESS| pw61566 [PATCH] [v9] ethdev: add HIGIG2 key field to flow API
@ 2019-10-21  9:40 dpdklab
  0 siblings, 0 replies; 4+ messages in thread
From: dpdklab @ 2019-10-21  9:40 UTC (permalink / raw)
  To: Test Report; +Cc: dpdk-test-reports

[-- Attachment #1: Type: text/plain, Size: 2016 bytes --]

Test-Label: iol-intel-Performance
Test-Status: SUCCESS
http://dpdk.org/patch/61566

_Performance Testing PASS_

Submitter: Kiran Kumar Kokkilagadda <kirankumark@marvell.com>
Date: Monday, October 21 2019 09:16:17 
DPDK git baseline: Repo:dpdk-next-net
  Branch: master
  CommitID:7bef76e5f840b6222c2b6bee6d9a5e54dfe8b167

61566 --> performance testing pass

Test environment and result as below:

Ubuntu 18.04
Kernel: 4.15.0-generic
GCC: 7.4
NIC: Intel Corporation Ethernet Converged Network Adapter 82599ES 10000 Mbps
Target: x86_64-native-linuxapp-gcc
Fail/Total: 0/3

Detail performance results: 
+------------+---------+-------------------------------------+
| frame_size | txd/rxd | throughput difference from expected |
+============+=========+=====================================+
| 64         | 128     | 0.233                               |
+------------+---------+-------------------------------------+
| 64         | 512     | -0.194                              |
+------------+---------+-------------------------------------+
| 64         | 2048    | -0.051                              |
+------------+---------+-------------------------------------+

Ubuntu 18.04
Kernel: 4.15.0-generic
GCC: 7.4
NIC: Intel Corporation Ethernet Converged Network Adapter XL710-QDA2 40000 Mbps
Target: x86_64-native-linuxapp-gcc
Fail/Total: 0/2

Detail performance results: 
+------------+---------+-------------------------------------+
| frame_size | txd/rxd | throughput difference from expected |
+============+=========+=====================================+
| 64         | 512     | -0.533                              |
+------------+---------+-------------------------------------+
| 64         | 2048    | -0.674                              |
+------------+---------+-------------------------------------+

https://lab.dpdk.org/results/dashboard/patchsets/8049/

UNH-IOL DPDK Performance Test Lab

To manage your email subscriptions visit: 
https://lab.dpdk.org/results/dashboard/preferences/subscriptions/

^ permalink raw reply	[flat|nested] 4+ messages in thread

* [dpdk-test-report] |SUCCESS| pw61566 [PATCH v9] ethdev: add HIGIG2 key field to flow API
       [not found] <20191021091617.11290-1-kirankumark@marvell.com>
@ 2019-10-21  9:17 ` " checkpatch
  0 siblings, 0 replies; 4+ messages in thread
From: checkpatch @ 2019-10-21  9:17 UTC (permalink / raw)
  To: test-report

Test-Label: checkpatch
Test-Status: SUCCESS
http://dpdk.org/patch/61566

_coding style OK_



^ permalink raw reply	[flat|nested] 4+ messages in thread

end of thread, back to index

Thread overview: 4+ messages (download: mbox.gz / follow: Atom feed)
-- links below jump to the message on this page --
2019-10-21 11:04 [dpdk-test-report] |SUCCESS| pw61566 [PATCH] [v9] ethdev: add HIGIG2 key field to flow API dpdklab
  -- strict thread matches above, loose matches on Subject: below --
2019-10-21 10:28 dpdklab
2019-10-21  9:40 dpdklab
     [not found] <20191021091617.11290-1-kirankumark@marvell.com>
2019-10-21  9:17 ` [dpdk-test-report] |SUCCESS| pw61566 [PATCH v9] " checkpatch

automatic DPDK test reports

Archives are clonable:
	git clone --mirror http://inbox.dpdk.org/test-report/0 test-report/git/0.git

	# If you have public-inbox 1.1+ installed, you may
	# initialize and index your mirror using the following commands:
	public-inbox-init -V2 test-report test-report/ http://inbox.dpdk.org/test-report \
		test-report@dpdk.org
	public-inbox-index test-report


Newsgroup available over NNTP:
	nntp://inbox.dpdk.org/inbox.dpdk.test-report


AGPL code for this site: git clone https://public-inbox.org/ public-inbox