Test-Label: checkpatch Test-Status: SUCCESS http://dpdk.org/patch/61618 _coding style OK_
[-- Attachment #1: Type: text/plain, Size: 1999 bytes --] Test-Label: iol-intel-Performance Test-Status: SUCCESS http://dpdk.org/patch/61618 _Performance Testing PASS_ Submitter: Dharmik Thakkar <dharmik.thakkar@arm.com> Date: Tuesday, October 22 2019 00:19:45 DPDK git baseline: Repo:dpdk Branch: master CommitID:08be0e0b68a5dedb1186b19dd61706da96a9ef19 61618 --> performance testing pass Test environment and result as below: Ubuntu 18.04 Kernel: 4.15.0-generic GCC: 7.4 NIC: Intel Corporation Ethernet Converged Network Adapter 82599ES 10000 Mbps Target: x86_64-native-linuxapp-gcc Fail/Total: 0/3 Detail performance results: +------------+---------+-------------------------------------+ | frame_size | txd/rxd | throughput difference from expected | +============+=========+=====================================+ | 64 | 128 | 0.011 | +------------+---------+-------------------------------------+ | 64 | 512 | 0.110 | +------------+---------+-------------------------------------+ | 64 | 2048 | -0.216 | +------------+---------+-------------------------------------+ Ubuntu 18.04 Kernel: 4.15.0-generic GCC: 7.4 NIC: Intel Corporation Ethernet Converged Network Adapter XL710-QDA2 40000 Mbps Target: x86_64-native-linuxapp-gcc Fail/Total: 0/2 Detail performance results: +------------+---------+-------------------------------------+ | frame_size | txd/rxd | throughput difference from expected | +============+=========+=====================================+ | 64 | 512 | 0.751 | +------------+---------+-------------------------------------+ | 64 | 2048 | -0.059 | +------------+---------+-------------------------------------+ https://lab.dpdk.org/results/dashboard/patchsets/8060/ UNH-IOL DPDK Performance Test Lab To manage your email subscriptions visit: https://lab.dpdk.org/results/dashboard/preferences/subscriptions/
[-- Attachment #1: Type: text/plain, Size: 1334 bytes --] Test-Label: iol-compilation Test-Status: SUCCESS http://dpdk.org/patch/61618 _Compile Testing PASS_ Submitter: Dharmik Thakkar <dharmik.thakkar@arm.com> Date: Tuesday, October 22 2019 00:19:45 DPDK git baseline: Repo:dpdk Branch: master CommitID:08be0e0b68a5dedb1186b19dd61706da96a9ef19 61618 --> compile testing pass Test environment and result as below: +--------------+------------------+-------------------+--------------+ | Environment | dpdk_compile_ovs | dpdk_compile_spdk | dpdk_compile | +==============+==================+===================+==============+ | Ubuntu 18.04 | PASS | PASS | PASS | +--------------+------------------+-------------------+--------------+ | CentOS 8 | PASS | | PASS | +--------------+------------------+-------------------+--------------+ | FreeBSD 11.2 | | PASS | PASS | +--------------+------------------+-------------------+--------------+ Ubuntu 18.04 Kernel: 4.15.0-generic GCC: 7.4 CentOS 8 Kernel: 4.18.0.el8_0 GCC: 8.2 FreeBSD 11.2 Kernel: 11.2 GCC: 8.3 https://lab.dpdk.org/results/dashboard/patchsets/8060/ UNH-IOL DPDK Performance Test Lab To manage your email subscriptions visit: https://lab.dpdk.org/results/dashboard/preferences/subscriptions/
[-- Attachment #1: Type: text/plain, Size: 3914 bytes --] Test-Label: iol-mellanox-Performance Test-Status: SUCCESS http://dpdk.org/patch/61618 _Performance Testing PASS_ Submitter: Dharmik Thakkar <dharmik.thakkar@arm.com> Date: Tuesday, October 22 2019 00:19:45 DPDK git baseline: Repo:dpdk Branch: master CommitID:08be0e0b68a5dedb1186b19dd61706da96a9ef19 61618 --> performance testing pass Test environment and result as below: Ubuntu 18.04 Kernel: 4.15.0-generic GCC: 7.4 NIC: Mellanox ConnectX-5 100000 Mbps Target: x86_64-native-linuxapp-gcc Fail/Total: 0/6 Detail performance results: +------------+---------+-------------------------------------+ | frame_size | txd/rxd | throughput difference from expected | +============+=========+=====================================+ | 64 | 256 | -0.275 | +------------+---------+-------------------------------------+ | 128 | 256 | 0.088 | +------------+---------+-------------------------------------+ | 256 | 256 | 0.071 | +------------+---------+-------------------------------------+ | 512 | 256 | -0.035 | +------------+---------+-------------------------------------+ | 1024 | 256 | 0.041 | +------------+---------+-------------------------------------+ | 1518 | 256 | 0.008 | +------------+---------+-------------------------------------+ Ubuntu 18.04 Kernel: 4.15.0-generic GCC: 7.4 NIC: Mellanox ConnectX-4 Lx 25000 Mbps Target: x86_64-native-linuxapp-gcc Fail/Total: 0/6 Detail performance results: +------------+---------+-------------------------------------+ | frame_size | txd/rxd | throughput difference from expected | +============+=========+=====================================+ | 64 | 256 | -0.056 | +------------+---------+-------------------------------------+ | 128 | 256 | 0.067 | +------------+---------+-------------------------------------+ | 256 | 256 | -0.012 | +------------+---------+-------------------------------------+ | 512 | 256 | 0.023 | +------------+---------+-------------------------------------+ | 1024 | 256 | 0 | +------------+---------+-------------------------------------+ | 1518 | 256 | 0.001 | +------------+---------+-------------------------------------+ Ubuntu 18.04 Kernel: 4.15.0-generic GCC: 7.4 NIC: Mellanox ConnectX-4 Lx 40000 Mbps Target: x86_64-native-linuxapp-gcc Fail/Total: 0/6 Detail performance results: +------------+---------+-------------------------------------+ | frame_size | txd/rxd | throughput difference from expected | +============+=========+=====================================+ | 64 | 256 | -0.098 | +------------+---------+-------------------------------------+ | 128 | 256 | -0.671 | +------------+---------+-------------------------------------+ | 256 | 256 | 0.060 | +------------+---------+-------------------------------------+ | 512 | 256 | -0.006 | +------------+---------+-------------------------------------+ | 1024 | 256 | -0.003 | +------------+---------+-------------------------------------+ | 1518 | 256 | 0.004 | +------------+---------+-------------------------------------+ https://lab.dpdk.org/results/dashboard/patchsets/8060/ UNH-IOL DPDK Performance Test Lab To manage your email subscriptions visit: https://lab.dpdk.org/results/dashboard/preferences/subscriptions/
From: robot@bytheb.org Test-Label: travis-robot Test-Status: SUCCESS http://dpdk.org/patch/61618 _Travis build: passed_ Build URL: https://travis-ci.com/ovsrobot/dpdk/builds/132923116