* [dpdk-test-report] |SUCCESS| pw61662-61664 [PATCH] [v1, 1/3] eal/arm64: relax the io barrier for aarch64
@ 2019-10-22 17:36 dpdklab
0 siblings, 0 replies; 3+ messages in thread
From: dpdklab @ 2019-10-22 17:36 UTC (permalink / raw)
To: Test Report; +Cc: dpdk-test-reports
[-- Attachment #1: Type: text/plain, Size: 1349 bytes --]
Test-Label: iol-compilation
Test-Status: SUCCESS
http://dpdk.org/patch/61662
_Compile Testing PASS_
Submitter: Gavin Hu (Arm Technology China) <gavin.hu@arm.com>
Date: Tuesday, October 22 2019 15:27:52
DPDK git baseline: Repo:dpdk
Branch: master
CommitID:08be0e0b68a5dedb1186b19dd61706da96a9ef19
61662-61664 --> compile testing pass
Test environment and result as below:
+--------------+------------------+-------------------+--------------+
| Environment | dpdk_compile_ovs | dpdk_compile_spdk | dpdk_compile |
+==============+==================+===================+==============+
| Ubuntu 18.04 | PASS | PASS | PASS |
+--------------+------------------+-------------------+--------------+
| CentOS 8 | PASS | | PASS |
+--------------+------------------+-------------------+--------------+
| FreeBSD 11.2 | | PASS | PASS |
+--------------+------------------+-------------------+--------------+
Ubuntu 18.04
Kernel: 4.15.0-generic
GCC: 7.4
CentOS 8
Kernel: 4.18.0.el8_0
GCC: 8.2
FreeBSD 11.2
Kernel: 11.2
GCC: 8.3
https://lab.dpdk.org/results/dashboard/patchsets/8076/
UNH-IOL DPDK Performance Test Lab
To manage your email subscriptions visit:
https://lab.dpdk.org/results/dashboard/preferences/subscriptions/
^ permalink raw reply [flat|nested] 3+ messages in thread
* [dpdk-test-report] |SUCCESS| pw61662-61664 [PATCH] [v1, 1/3] eal/arm64: relax the io barrier for aarch64
@ 2019-10-22 19:04 dpdklab
0 siblings, 0 replies; 3+ messages in thread
From: dpdklab @ 2019-10-22 19:04 UTC (permalink / raw)
To: Ali Alnubani, Test Report; +Cc: dpdk-test-reports
[-- Attachment #1: Type: text/plain, Size: 3929 bytes --]
Test-Label: iol-mellanox-Performance
Test-Status: SUCCESS
http://dpdk.org/patch/61662
_Performance Testing PASS_
Submitter: Gavin Hu (Arm Technology China) <gavin.hu@arm.com>
Date: Tuesday, October 22 2019 15:27:52
DPDK git baseline: Repo:dpdk
Branch: master
CommitID:08be0e0b68a5dedb1186b19dd61706da96a9ef19
61662-61664 --> performance testing pass
Test environment and result as below:
Ubuntu 18.04
Kernel: 4.15.0-generic
GCC: 7.4
NIC: Mellanox ConnectX-4 Lx 40000 Mbps
Target: x86_64-native-linuxapp-gcc
Fail/Total: 0/6
Detail performance results:
+------------+---------+-------------------------------------+
| frame_size | txd/rxd | throughput difference from expected |
+============+=========+=====================================+
| 64 | 256 | -0.066 |
+------------+---------+-------------------------------------+
| 128 | 256 | -0.528 |
+------------+---------+-------------------------------------+
| 256 | 256 | 0.066 |
+------------+---------+-------------------------------------+
| 512 | 256 | -0.001 |
+------------+---------+-------------------------------------+
| 1024 | 256 | 0.020 |
+------------+---------+-------------------------------------+
| 1518 | 256 | 0 |
+------------+---------+-------------------------------------+
Ubuntu 18.04
Kernel: 4.15.0-generic
GCC: 7.4
NIC: Mellanox ConnectX-5 100000 Mbps
Target: x86_64-native-linuxapp-gcc
Fail/Total: 0/6
Detail performance results:
+------------+---------+-------------------------------------+
| frame_size | txd/rxd | throughput difference from expected |
+============+=========+=====================================+
| 64 | 256 | -0.015 |
+------------+---------+-------------------------------------+
| 128 | 256 | -0.035 |
+------------+---------+-------------------------------------+
| 256 | 256 | -0.131 |
+------------+---------+-------------------------------------+
| 512 | 256 | 0.159 |
+------------+---------+-------------------------------------+
| 1024 | 256 | 0.036 |
+------------+---------+-------------------------------------+
| 1518 | 256 | 0.003 |
+------------+---------+-------------------------------------+
Ubuntu 18.04
Kernel: 4.15.0-generic
GCC: 7.4
NIC: Mellanox ConnectX-4 Lx 25000 Mbps
Target: x86_64-native-linuxapp-gcc
Fail/Total: 0/6
Detail performance results:
+------------+---------+-------------------------------------+
| frame_size | txd/rxd | throughput difference from expected |
+============+=========+=====================================+
| 64 | 256 | -0.192 |
+------------+---------+-------------------------------------+
| 128 | 256 | 0.085 |
+------------+---------+-------------------------------------+
| 256 | 256 | 0.011 |
+------------+---------+-------------------------------------+
| 512 | 256 | -0.017 |
+------------+---------+-------------------------------------+
| 1024 | 256 | 0.006 |
+------------+---------+-------------------------------------+
| 1518 | 256 | -0.005 |
+------------+---------+-------------------------------------+
https://lab.dpdk.org/results/dashboard/patchsets/8076/
UNH-IOL DPDK Performance Test Lab
To manage your email subscriptions visit:
https://lab.dpdk.org/results/dashboard/preferences/subscriptions/
^ permalink raw reply [flat|nested] 3+ messages in thread
* [dpdk-test-report] |SUCCESS| pw61662-61664 [PATCH] [v1, 1/3] eal/arm64: relax the io barrier for aarch64
@ 2019-10-22 15:57 dpdklab
0 siblings, 0 replies; 3+ messages in thread
From: dpdklab @ 2019-10-22 15:57 UTC (permalink / raw)
To: Test Report; +Cc: dpdk-test-reports
[-- Attachment #1: Type: text/plain, Size: 1991 bytes --]
Test-Label: iol-intel-Performance
Test-Status: SUCCESS
http://dpdk.org/patch/61662
_Performance Testing PASS_
Submitter: Gavin Hu <gavin.hu@arm.com>
Date: Tuesday, October 22 2019 15:27:52
DPDK git baseline: Repo:dpdk
Branch: master
CommitID:08be0e0b68a5dedb1186b19dd61706da96a9ef19
61662-61664 --> performance testing pass
Test environment and result as below:
Ubuntu 18.04
Kernel: 4.15.0-generic
GCC: 7.4
NIC: Intel Corporation Ethernet Converged Network Adapter 82599ES 10000 Mbps
Target: x86_64-native-linuxapp-gcc
Fail/Total: 0/3
Detail performance results:
+------------+---------+-------------------------------------+
| frame_size | txd/rxd | throughput difference from expected |
+============+=========+=====================================+
| 64 | 128 | -0.226 |
+------------+---------+-------------------------------------+
| 64 | 512 | 0.097 |
+------------+---------+-------------------------------------+
| 64 | 2048 | 0.225 |
+------------+---------+-------------------------------------+
Ubuntu 18.04
Kernel: 4.15.0-generic
GCC: 7.4
NIC: Intel Corporation Ethernet Converged Network Adapter XL710-QDA2 40000 Mbps
Target: x86_64-native-linuxapp-gcc
Fail/Total: 0/2
Detail performance results:
+------------+---------+-------------------------------------+
| frame_size | txd/rxd | throughput difference from expected |
+============+=========+=====================================+
| 64 | 512 | -0.267 |
+------------+---------+-------------------------------------+
| 64 | 2048 | -0.396 |
+------------+---------+-------------------------------------+
https://lab.dpdk.org/results/dashboard/patchsets/8076/
UNH-IOL DPDK Performance Test Lab
To manage your email subscriptions visit:
https://lab.dpdk.org/results/dashboard/preferences/subscriptions/
^ permalink raw reply [flat|nested] 3+ messages in thread
end of thread, other threads:[~2019-10-22 19:04 UTC | newest]
Thread overview: 3+ messages (download: mbox.gz / follow: Atom feed)
-- links below jump to the message on this page --
2019-10-22 17:36 [dpdk-test-report] |SUCCESS| pw61662-61664 [PATCH] [v1, 1/3] eal/arm64: relax the io barrier for aarch64 dpdklab
-- strict thread matches above, loose matches on Subject: below --
2019-10-22 19:04 dpdklab
2019-10-22 15:57 dpdklab
This is a public inbox, see mirroring instructions
for how to clone and mirror all data and code used for this inbox;
as well as URLs for NNTP newsgroup(s).