* [dpdk-test-report] |SUCCESS| pw61698 [PATCH] net/ice: fix IPv6 dest mac unsupported issue
@ 2019-10-23 4:18 dpdklab
0 siblings, 0 replies; 4+ messages in thread
From: dpdklab @ 2019-10-23 4:18 UTC (permalink / raw)
To: Test Report; +Cc: dpdk-test-reports
[-- Attachment #1: Type: text/plain, Size: 1341 bytes --]
Test-Label: iol-compilation
Test-Status: SUCCESS
http://dpdk.org/patch/61698
_Compile Testing PASS_
Submitter: Yahui Cao <yahui.cao@intel.com>
Date: Wednesday, October 23 2019 10:58:14
DPDK git baseline: Repo:dpdk-next-net-intel
Branch: master
CommitID:cd4a28cf183c668a196548b9addfb02c9cb94cf0
61698 --> compile testing pass
Test environment and result as below:
+--------------+-------------------+------------------+--------------+
| Environment | dpdk_compile_spdk | dpdk_compile_ovs | dpdk_compile |
+==============+===================+==================+==============+
| Ubuntu 18.04 | PASS | PASS | PASS |
+--------------+-------------------+------------------+--------------+
| FreeBSD 11.2 | PASS | | PASS |
+--------------+-------------------+------------------+--------------+
| CentOS 8 | | PASS | PASS |
+--------------+-------------------+------------------+--------------+
Ubuntu 18.04
Kernel: 4.15.0-generic
GCC: 7.4
FreeBSD 11.2
Kernel: 11.2
GCC: 8.3
CentOS 8
Kernel: 4.18.0.el8_0
GCC: 8.2
https://lab.dpdk.org/results/dashboard/patchsets/8084/
UNH-IOL DPDK Performance Test Lab
To manage your email subscriptions visit:
https://lab.dpdk.org/results/dashboard/preferences/subscriptions/
^ permalink raw reply [flat|nested] 4+ messages in thread
* [dpdk-test-report] |SUCCESS| pw61698 [PATCH] net/ice: fix IPv6 dest mac unsupported issue
@ 2019-10-23 4:31 dpdklab
0 siblings, 0 replies; 4+ messages in thread
From: dpdklab @ 2019-10-23 4:31 UTC (permalink / raw)
To: Ali Alnubani, Test Report; +Cc: dpdk-test-reports
[-- Attachment #1: Type: text/plain, Size: 3921 bytes --]
Test-Label: iol-mellanox-Performance
Test-Status: SUCCESS
http://dpdk.org/patch/61698
_Performance Testing PASS_
Submitter: Yahui Cao <yahui.cao@intel.com>
Date: Wednesday, October 23 2019 10:58:14
DPDK git baseline: Repo:dpdk-next-net-intel
Branch: master
CommitID:cd4a28cf183c668a196548b9addfb02c9cb94cf0
61698 --> performance testing pass
Test environment and result as below:
Ubuntu 18.04
Kernel: 4.15.0-generic
GCC: 7.4
NIC: Mellanox ConnectX-5 100000 Mbps
Target: x86_64-native-linuxapp-gcc
Fail/Total: 0/6
Detail performance results:
+------------+---------+-------------------------------------+
| frame_size | txd/rxd | throughput difference from expected |
+============+=========+=====================================+
| 64 | 256 | -0.148 |
+------------+---------+-------------------------------------+
| 128 | 256 | -0.141 |
+------------+---------+-------------------------------------+
| 256 | 256 | -0.126 |
+------------+---------+-------------------------------------+
| 512 | 256 | 0.003 |
+------------+---------+-------------------------------------+
| 1024 | 256 | 0.027 |
+------------+---------+-------------------------------------+
| 1518 | 256 | -0.002 |
+------------+---------+-------------------------------------+
Ubuntu 18.04
Kernel: 4.15.0-generic
GCC: 7.4
NIC: Mellanox ConnectX-4 Lx 25000 Mbps
Target: x86_64-native-linuxapp-gcc
Fail/Total: 0/6
Detail performance results:
+------------+---------+-------------------------------------+
| frame_size | txd/rxd | throughput difference from expected |
+============+=========+=====================================+
| 64 | 256 | 0.094 |
+------------+---------+-------------------------------------+
| 128 | 256 | 0.263 |
+------------+---------+-------------------------------------+
| 256 | 256 | 0.001 |
+------------+---------+-------------------------------------+
| 512 | 256 | -0.017 |
+------------+---------+-------------------------------------+
| 1024 | 256 | 0.011 |
+------------+---------+-------------------------------------+
| 1518 | 256 | -0.003 |
+------------+---------+-------------------------------------+
Ubuntu 18.04
Kernel: 4.15.0-generic
GCC: 7.4
NIC: Mellanox ConnectX-4 Lx 40000 Mbps
Target: x86_64-native-linuxapp-gcc
Fail/Total: 0/6
Detail performance results:
+------------+---------+-------------------------------------+
| frame_size | txd/rxd | throughput difference from expected |
+============+=========+=====================================+
| 64 | 256 | 0.097 |
+------------+---------+-------------------------------------+
| 128 | 256 | -0.322 |
+------------+---------+-------------------------------------+
| 256 | 256 | 0.050 |
+------------+---------+-------------------------------------+
| 512 | 256 | 0.002 |
+------------+---------+-------------------------------------+
| 1024 | 256 | -0.003 |
+------------+---------+-------------------------------------+
| 1518 | 256 | -0.001 |
+------------+---------+-------------------------------------+
https://lab.dpdk.org/results/dashboard/patchsets/8084/
UNH-IOL DPDK Performance Test Lab
To manage your email subscriptions visit:
https://lab.dpdk.org/results/dashboard/preferences/subscriptions/
^ permalink raw reply [flat|nested] 4+ messages in thread
* [dpdk-test-report] |SUCCESS| pw61698 [PATCH] net/ice: fix IPv6 dest mac unsupported issue
@ 2019-10-23 3:41 dpdklab
0 siblings, 0 replies; 4+ messages in thread
From: dpdklab @ 2019-10-23 3:41 UTC (permalink / raw)
To: Test Report; +Cc: dpdk-test-reports
[-- Attachment #1: Type: text/plain, Size: 2006 bytes --]
Test-Label: iol-intel-Performance
Test-Status: SUCCESS
http://dpdk.org/patch/61698
_Performance Testing PASS_
Submitter: Yahui Cao <yahui.cao@intel.com>
Date: Wednesday, October 23 2019 10:58:14
DPDK git baseline: Repo:dpdk-next-net-intel
Branch: master
CommitID:cd4a28cf183c668a196548b9addfb02c9cb94cf0
61698 --> performance testing pass
Test environment and result as below:
Ubuntu 18.04
Kernel: 4.15.0-generic
GCC: 7.4
NIC: Intel Corporation Ethernet Converged Network Adapter 82599ES 10000 Mbps
Target: x86_64-native-linuxapp-gcc
Fail/Total: 0/3
Detail performance results:
+------------+---------+-------------------------------------+
| frame_size | txd/rxd | throughput difference from expected |
+============+=========+=====================================+
| 64 | 128 | -0.166 |
+------------+---------+-------------------------------------+
| 64 | 512 | -0.057 |
+------------+---------+-------------------------------------+
| 64 | 2048 | -0.183 |
+------------+---------+-------------------------------------+
Ubuntu 18.04
Kernel: 4.15.0-generic
GCC: 7.4
NIC: Intel Corporation Ethernet Converged Network Adapter XL710-QDA2 40000 Mbps
Target: x86_64-native-linuxapp-gcc
Fail/Total: 0/2
Detail performance results:
+------------+---------+-------------------------------------+
| frame_size | txd/rxd | throughput difference from expected |
+============+=========+=====================================+
| 64 | 512 | 0.208 |
+------------+---------+-------------------------------------+
| 64 | 2048 | -0.768 |
+------------+---------+-------------------------------------+
https://lab.dpdk.org/results/dashboard/patchsets/8084/
UNH-IOL DPDK Performance Test Lab
To manage your email subscriptions visit:
https://lab.dpdk.org/results/dashboard/preferences/subscriptions/
^ permalink raw reply [flat|nested] 4+ messages in thread
* [dpdk-test-report] |SUCCESS| pw61698 [PATCH] net/ice: fix IPv6 dest mac unsupported issue
[not found] <20191023105814.37241-1-yahui.cao@intel.com>
@ 2019-10-23 3:17 ` checkpatch
0 siblings, 0 replies; 4+ messages in thread
From: checkpatch @ 2019-10-23 3:17 UTC (permalink / raw)
To: test-report
Test-Label: checkpatch
Test-Status: SUCCESS
http://dpdk.org/patch/61698
_coding style OK_
^ permalink raw reply [flat|nested] 4+ messages in thread
end of thread, other threads:[~2019-10-23 4:31 UTC | newest]
Thread overview: 4+ messages (download: mbox.gz / follow: Atom feed)
-- links below jump to the message on this page --
2019-10-23 4:18 [dpdk-test-report] |SUCCESS| pw61698 [PATCH] net/ice: fix IPv6 dest mac unsupported issue dpdklab
-- strict thread matches above, loose matches on Subject: below --
2019-10-23 4:31 dpdklab
2019-10-23 3:41 dpdklab
[not found] <20191023105814.37241-1-yahui.cao@intel.com>
2019-10-23 3:17 ` checkpatch
This is a public inbox, see mirroring instructions
for how to clone and mirror all data and code used for this inbox;
as well as URLs for NNTP newsgroup(s).