* [dpdk-test-report] |SUCCESS| [GIT MASTER] 19397c7bf2545e6adab41b657a1f1da3c7344e7b
@ 2019-10-31 15:56 dpdklab
0 siblings, 0 replies; 6+ messages in thread
From: dpdklab @ 2019-10-31 15:56 UTC (permalink / raw)
To: Test Report; +Cc: dpdk-test-reports
[-- Attachment #1: Type: text/plain, Size: 1123 bytes --]
_Compile Testing PASS_
Branch: dpdk-next-crypto
19397c7bf2545e6adab41b657a1f1da3c7344e7b --> compile testing pass
Test environment and result as below:
+--------------+--------------+------------------+-------------------+
| Environment | dpdk_compile | dpdk_compile_ovs | dpdk_compile_spdk |
+==============+==============+==================+===================+
| FreeBSD 11.2 | PASS | | PASS |
+--------------+--------------+------------------+-------------------+
| Ubuntu 18.04 | PASS | PASS | PASS |
+--------------+--------------+------------------+-------------------+
| CentOS 8 | PASS | PASS | |
+--------------+--------------+------------------+-------------------+
FreeBSD 11.2
Kernel: 11.2
GCC: 8.3
Ubuntu 18.04
Kernel: 4.15.0-generic
GCC: 7.4
CentOS 8
Kernel: 4.18.0.el8_0
GCC: 8.2
https://lab.dpdk.org/results/dashboard/tarballs/6854/
UNH-IOL DPDK Performance Test Lab
To manage your email subscriptions visit:
https://lab.dpdk.org/results/dashboard/preferences/subscriptions/
^ permalink raw reply [flat|nested] 6+ messages in thread
* [dpdk-test-report] |SUCCESS| [GIT MASTER] 19397c7bf2545e6adab41b657a1f1da3c7344e7b
@ 2019-10-31 19:57 dpdklab
0 siblings, 0 replies; 6+ messages in thread
From: dpdklab @ 2019-10-31 19:57 UTC (permalink / raw)
To: Ali Alnubani, Test Report; +Cc: dpdk-test-reports
[-- Attachment #1: Type: text/plain, Size: 3694 bytes --]
_Performance Testing PASS_
Branch: dpdk-next-crypto
19397c7bf2545e6adab41b657a1f1da3c7344e7b --> performance testing pass
Test environment and result as below:
Ubuntu 18.04
Kernel: 4.15.0-generic
GCC: 7.4
NIC: Mellanox ConnectX-5 100000 Mbps
Target: x86_64-native-linuxapp-gcc
Fail/Total: 0/6
Detail performance results:
+------------+---------+-------------------------------------+
| frame_size | txd/rxd | throughput difference from expected |
+============+=========+=====================================+
| 64 | 256 | 0.083 |
+------------+---------+-------------------------------------+
| 128 | 256 | 0.060 |
+------------+---------+-------------------------------------+
| 256 | 256 | -0.148 |
+------------+---------+-------------------------------------+
| 512 | 256 | 0.042 |
+------------+---------+-------------------------------------+
| 1024 | 256 | -0.016 |
+------------+---------+-------------------------------------+
| 1518 | 256 | -0.006 |
+------------+---------+-------------------------------------+
Ubuntu 18.04
Kernel: 4.15.0-generic
GCC: 7.4
NIC: Mellanox ConnectX-4 Lx 40000 Mbps
Target: x86_64-native-linuxapp-gcc
Fail/Total: 0/6
Detail performance results:
+------------+---------+-------------------------------------+
| frame_size | txd/rxd | throughput difference from expected |
+============+=========+=====================================+
| 64 | 256 | 0.024 |
+------------+---------+-------------------------------------+
| 128 | 256 | -0.347 |
+------------+---------+-------------------------------------+
| 256 | 256 | 0.016 |
+------------+---------+-------------------------------------+
| 512 | 256 | 0.036 |
+------------+---------+-------------------------------------+
| 1024 | 256 | 0 |
+------------+---------+-------------------------------------+
| 1518 | 256 | 0.001 |
+------------+---------+-------------------------------------+
Ubuntu 18.04
Kernel: 4.15.0-generic
GCC: 7.4
NIC: Mellanox ConnectX-4 Lx 25000 Mbps
Target: x86_64-native-linuxapp-gcc
Fail/Total: 0/6
Detail performance results:
+------------+---------+-------------------------------------+
| frame_size | txd/rxd | throughput difference from expected |
+============+=========+=====================================+
| 64 | 256 | 0.035 |
+------------+---------+-------------------------------------+
| 128 | 256 | -0.103 |
+------------+---------+-------------------------------------+
| 256 | 256 | -0.003 |
+------------+---------+-------------------------------------+
| 512 | 256 | -0.007 |
+------------+---------+-------------------------------------+
| 1024 | 256 | -0.005 |
+------------+---------+-------------------------------------+
| 1518 | 256 | -0.001 |
+------------+---------+-------------------------------------+
https://lab.dpdk.org/results/dashboard/tarballs/6854/
UNH-IOL DPDK Performance Test Lab
To manage your email subscriptions visit:
https://lab.dpdk.org/results/dashboard/preferences/subscriptions/
^ permalink raw reply [flat|nested] 6+ messages in thread
* [dpdk-test-report] |SUCCESS| [GIT MASTER] 19397c7bf2545e6adab41b657a1f1da3c7344e7b
@ 2019-10-31 15:54 dpdklab
0 siblings, 0 replies; 6+ messages in thread
From: dpdklab @ 2019-10-31 15:54 UTC (permalink / raw)
To: Test Report; +Cc: dpdk-test-reports
[-- Attachment #1: Type: text/plain, Size: 1782 bytes --]
_Performance Testing PASS_
Branch: dpdk-next-crypto
19397c7bf2545e6adab41b657a1f1da3c7344e7b --> performance testing pass
Test environment and result as below:
Ubuntu 18.04
Kernel: 4.15.0-generic
GCC: 7.4
NIC: Intel Corporation Ethernet Converged Network Adapter 82599ES 10000 Mbps
Target: x86_64-native-linuxapp-gcc
Fail/Total: 0/3
Detail performance results:
+------------+---------+-------------------------------------+
| frame_size | txd/rxd | throughput difference from expected |
+============+=========+=====================================+
| 64 | 128 | -0.164 |
+------------+---------+-------------------------------------+
| 64 | 512 | 0.192 |
+------------+---------+-------------------------------------+
| 64 | 2048 | -0.168 |
+------------+---------+-------------------------------------+
Ubuntu 18.04
Kernel: 4.15.0-generic
GCC: 7.4
NIC: Intel Corporation Ethernet Converged Network Adapter XL710-QDA2 40000 Mbps
Target: x86_64-native-linuxapp-gcc
Fail/Total: 0/2
Detail performance results:
+------------+---------+-------------------------------------+
| frame_size | txd/rxd | throughput difference from expected |
+============+=========+=====================================+
| 64 | 512 | 0.350 |
+------------+---------+-------------------------------------+
| 64 | 2048 | -0.334 |
+------------+---------+-------------------------------------+
https://lab.dpdk.org/results/dashboard/tarballs/6854/
UNH-IOL DPDK Performance Test Lab
To manage your email subscriptions visit:
https://lab.dpdk.org/results/dashboard/preferences/subscriptions/
^ permalink raw reply [flat|nested] 6+ messages in thread
* [dpdk-test-report] |SUCCESS| [GIT MASTER] 19397c7bf2545e6adab41b657a1f1da3c7344e7b
@ 2019-10-28 22:25 dpdklab
0 siblings, 0 replies; 6+ messages in thread
From: dpdklab @ 2019-10-28 22:25 UTC (permalink / raw)
To: Ali Alnubani, Test Report; +Cc: dpdk-test-reports
[-- Attachment #1: Type: text/plain, Size: 3682 bytes --]
_Performance Testing PASS_
Branch: dpdk
19397c7bf2545e6adab41b657a1f1da3c7344e7b --> performance testing pass
Test environment and result as below:
Ubuntu 18.04
Kernel: 4.15.0-generic
GCC: 7.4
NIC: Mellanox ConnectX-4 Lx 25000 Mbps
Target: x86_64-native-linuxapp-gcc
Fail/Total: 0/6
Detail performance results:
+------------+---------+-------------------------------------+
| frame_size | txd/rxd | throughput difference from expected |
+============+=========+=====================================+
| 64 | 256 | 0.243 |
+------------+---------+-------------------------------------+
| 128 | 256 | 0.111 |
+------------+---------+-------------------------------------+
| 256 | 256 | 0.007 |
+------------+---------+-------------------------------------+
| 512 | 256 | -0.020 |
+------------+---------+-------------------------------------+
| 1024 | 256 | 0.003 |
+------------+---------+-------------------------------------+
| 1518 | 256 | 0.001 |
+------------+---------+-------------------------------------+
Ubuntu 18.04
Kernel: 4.15.0-generic
GCC: 7.4
NIC: Mellanox ConnectX-4 Lx 40000 Mbps
Target: x86_64-native-linuxapp-gcc
Fail/Total: 0/6
Detail performance results:
+------------+---------+-------------------------------------+
| frame_size | txd/rxd | throughput difference from expected |
+============+=========+=====================================+
| 64 | 256 | -0.256 |
+------------+---------+-------------------------------------+
| 128 | 256 | -0.319 |
+------------+---------+-------------------------------------+
| 256 | 256 | 0.006 |
+------------+---------+-------------------------------------+
| 512 | 256 | -0.006 |
+------------+---------+-------------------------------------+
| 1024 | 256 | -0.001 |
+------------+---------+-------------------------------------+
| 1518 | 256 | 0.002 |
+------------+---------+-------------------------------------+
Ubuntu 18.04
Kernel: 4.15.0-generic
GCC: 7.4
NIC: Mellanox ConnectX-5 100000 Mbps
Target: x86_64-native-linuxapp-gcc
Fail/Total: 0/6
Detail performance results:
+------------+---------+-------------------------------------+
| frame_size | txd/rxd | throughput difference from expected |
+============+=========+=====================================+
| 64 | 256 | 0.028 |
+------------+---------+-------------------------------------+
| 128 | 256 | -0.069 |
+------------+---------+-------------------------------------+
| 256 | 256 | 0.003 |
+------------+---------+-------------------------------------+
| 512 | 256 | -0.084 |
+------------+---------+-------------------------------------+
| 1024 | 256 | 0.031 |
+------------+---------+-------------------------------------+
| 1518 | 256 | 0.016 |
+------------+---------+-------------------------------------+
https://lab.dpdk.org/results/dashboard/tarballs/6787/
UNH-IOL DPDK Performance Test Lab
To manage your email subscriptions visit:
https://lab.dpdk.org/results/dashboard/preferences/subscriptions/
^ permalink raw reply [flat|nested] 6+ messages in thread
* [dpdk-test-report] |SUCCESS| [GIT MASTER] 19397c7bf2545e6adab41b657a1f1da3c7344e7b
@ 2019-10-28 22:00 dpdklab
0 siblings, 0 replies; 6+ messages in thread
From: dpdklab @ 2019-10-28 22:00 UTC (permalink / raw)
To: Test Report; +Cc: dpdk-test-reports
[-- Attachment #1: Type: text/plain, Size: 1111 bytes --]
_Compile Testing PASS_
Branch: dpdk
19397c7bf2545e6adab41b657a1f1da3c7344e7b --> compile testing pass
Test environment and result as below:
+--------------+-------------------+--------------+------------------+
| Environment | dpdk_compile_spdk | dpdk_compile | dpdk_compile_ovs |
+==============+===================+==============+==================+
| FreeBSD 11.2 | PASS | PASS | |
+--------------+-------------------+--------------+------------------+
| Ubuntu 18.04 | PASS | PASS | PASS |
+--------------+-------------------+--------------+------------------+
| CentOS 8 | | PASS | PASS |
+--------------+-------------------+--------------+------------------+
FreeBSD 11.2
Kernel: 11.2
GCC: 8.3
Ubuntu 18.04
Kernel: 4.15.0-generic
GCC: 7.4
CentOS 8
Kernel: 4.18.0.el8_0
GCC: 8.2
https://lab.dpdk.org/results/dashboard/tarballs/6787/
UNH-IOL DPDK Performance Test Lab
To manage your email subscriptions visit:
https://lab.dpdk.org/results/dashboard/preferences/subscriptions/
^ permalink raw reply [flat|nested] 6+ messages in thread
* [dpdk-test-report] |SUCCESS| [GIT MASTER] 19397c7bf2545e6adab41b657a1f1da3c7344e7b
@ 2019-10-28 21:59 dpdklab
0 siblings, 0 replies; 6+ messages in thread
From: dpdklab @ 2019-10-28 21:59 UTC (permalink / raw)
To: Test Report; +Cc: dpdk-test-reports
[-- Attachment #1: Type: text/plain, Size: 1770 bytes --]
_Performance Testing PASS_
Branch: dpdk
19397c7bf2545e6adab41b657a1f1da3c7344e7b --> performance testing pass
Test environment and result as below:
Ubuntu 18.04
Kernel: 4.15.0-generic
GCC: 7.4
NIC: Intel Corporation Ethernet Converged Network Adapter 82599ES 10000 Mbps
Target: x86_64-native-linuxapp-gcc
Fail/Total: 0/3
Detail performance results:
+------------+---------+-------------------------------------+
| frame_size | txd/rxd | throughput difference from expected |
+============+=========+=====================================+
| 64 | 128 | 0.188 |
+------------+---------+-------------------------------------+
| 64 | 512 | -0.114 |
+------------+---------+-------------------------------------+
| 64 | 2048 | 0.286 |
+------------+---------+-------------------------------------+
Ubuntu 18.04
Kernel: 4.15.0-generic
GCC: 7.4
NIC: Intel Corporation Ethernet Converged Network Adapter XL710-QDA2 40000 Mbps
Target: x86_64-native-linuxapp-gcc
Fail/Total: 0/2
Detail performance results:
+------------+---------+-------------------------------------+
| frame_size | txd/rxd | throughput difference from expected |
+============+=========+=====================================+
| 64 | 512 | -0.175 |
+------------+---------+-------------------------------------+
| 64 | 2048 | 0.225 |
+------------+---------+-------------------------------------+
https://lab.dpdk.org/results/dashboard/tarballs/6787/
UNH-IOL DPDK Performance Test Lab
To manage your email subscriptions visit:
https://lab.dpdk.org/results/dashboard/preferences/subscriptions/
^ permalink raw reply [flat|nested] 6+ messages in thread
end of thread, other threads:[~2019-10-31 19:57 UTC | newest]
Thread overview: 6+ messages (download: mbox.gz / follow: Atom feed)
-- links below jump to the message on this page --
2019-10-31 15:56 [dpdk-test-report] |SUCCESS| [GIT MASTER] 19397c7bf2545e6adab41b657a1f1da3c7344e7b dpdklab
-- strict thread matches above, loose matches on Subject: below --
2019-10-31 19:57 dpdklab
2019-10-31 15:54 dpdklab
2019-10-28 22:25 dpdklab
2019-10-28 22:00 dpdklab
2019-10-28 21:59 dpdklab
This is a public inbox, see mirroring instructions
for how to clone and mirror all data and code used for this inbox;
as well as URLs for NNTP newsgroup(s).