Test-Label: checkpatch Test-Status: SUCCESS http://dpdk.org/patch/62702 _coding style OK_
[-- Attachment #1: Type: text/plain, Size: 2003 bytes --] Test-Label: iol-intel-Performance Test-Status: SUCCESS http://dpdk.org/patch/62702 _Performance Testing PASS_ Submitter: Allain Legacy <allain.legacy@windriver.com> Date: Thursday, November 07 2019 20:48:34 DPDK git baseline: Repo:dpdk Branch: master CommitID:206b89c742723209569145c95fd61954886f90f1 62702 --> performance testing pass Test environment and result as below: Ubuntu 18.04 Kernel: 4.15.0-generic GCC: 7.4 NIC: Intel Corporation Ethernet Converged Network Adapter 82599ES 10000 Mbps Target: x86_64-native-linuxapp-gcc Fail/Total: 0/3 Detail performance results: +------------+---------+-------------------------------------+ | frame_size | txd/rxd | throughput difference from expected | +============+=========+=====================================+ | 64 | 128 | 0.287 | +------------+---------+-------------------------------------+ | 64 | 512 | 0.077 | +------------+---------+-------------------------------------+ | 64 | 2048 | 0.050 | +------------+---------+-------------------------------------+ Ubuntu 18.04 Kernel: 4.15.0-generic GCC: 7.4 NIC: Intel Corporation Ethernet Converged Network Adapter XL710-QDA2 40000 Mbps Target: x86_64-native-linuxapp-gcc Fail/Total: 0/2 Detail performance results: +------------+---------+-------------------------------------+ | frame_size | txd/rxd | throughput difference from expected | +============+=========+=====================================+ | 64 | 512 | -0.413 | +------------+---------+-------------------------------------+ | 64 | 2048 | 0.196 | +------------+---------+-------------------------------------+ https://lab.dpdk.org/results/dashboard/patchsets/8425/ UNH-IOL DPDK Performance Test Lab To manage your email subscriptions visit: https://lab.dpdk.org/results/dashboard/preferences/subscriptions/
[-- Attachment #1: Type: text/plain, Size: 1338 bytes --] Test-Label: iol-compilation Test-Status: SUCCESS http://dpdk.org/patch/62702 _Compile Testing PASS_ Submitter: Allain Legacy <allain.legacy@windriver.com> Date: Thursday, November 07 2019 20:48:34 DPDK git baseline: Repo:dpdk Branch: master CommitID:206b89c742723209569145c95fd61954886f90f1 62702 --> compile testing pass Test environment and result as below: +--------------+--------------+------------------+-------------------+ | Environment | dpdk_compile | dpdk_compile_ovs | dpdk_compile_spdk | +==============+==============+==================+===================+ | FreeBSD 11.2 | PASS | | PASS | +--------------+--------------+------------------+-------------------+ | Ubuntu 18.04 | PASS | PASS | PASS | +--------------+--------------+------------------+-------------------+ | CentOS 8 | PASS | PASS | | +--------------+--------------+------------------+-------------------+ FreeBSD 11.2 Kernel: 11.2 GCC: 8.3 Ubuntu 18.04 Kernel: 4.15.0-generic GCC: 7.4 CentOS 8 Kernel: 4.18.0.el8_0 GCC: 8.2 https://lab.dpdk.org/results/dashboard/patchsets/8425/ UNH-IOL DPDK Performance Test Lab To manage your email subscriptions visit: https://lab.dpdk.org/results/dashboard/preferences/subscriptions/
[-- Attachment #1: Type: text/plain, Size: 3918 bytes --] Test-Label: iol-mellanox-Performance Test-Status: SUCCESS http://dpdk.org/patch/62702 _Performance Testing PASS_ Submitter: Allain Legacy <allain.legacy@windriver.com> Date: Thursday, November 07 2019 20:48:34 DPDK git baseline: Repo:dpdk Branch: master CommitID:206b89c742723209569145c95fd61954886f90f1 62702 --> performance testing pass Test environment and result as below: Ubuntu 18.04 Kernel: 4.15.0-generic GCC: 7.4 NIC: Mellanox ConnectX-4 Lx 40000 Mbps Target: x86_64-native-linuxapp-gcc Fail/Total: 0/6 Detail performance results: +------------+---------+-------------------------------------+ | frame_size | txd/rxd | throughput difference from expected | +============+=========+=====================================+ | 64 | 256 | 0.075 | +------------+---------+-------------------------------------+ | 128 | 256 | 0.203 | +------------+---------+-------------------------------------+ | 256 | 256 | -0.009 | +------------+---------+-------------------------------------+ | 512 | 256 | -0.019 | +------------+---------+-------------------------------------+ | 1024 | 256 | -0.002 | +------------+---------+-------------------------------------+ | 1518 | 256 | 0.004 | +------------+---------+-------------------------------------+ Ubuntu 18.04 Kernel: 4.15.0-generic GCC: 7.4 NIC: Mellanox ConnectX-4 Lx 25000 Mbps Target: x86_64-native-linuxapp-gcc Fail/Total: 0/6 Detail performance results: +------------+---------+-------------------------------------+ | frame_size | txd/rxd | throughput difference from expected | +============+=========+=====================================+ | 64 | 256 | -0.149 | +------------+---------+-------------------------------------+ | 128 | 256 | 0.028 | +------------+---------+-------------------------------------+ | 256 | 256 | -0.020 | +------------+---------+-------------------------------------+ | 512 | 256 | 0.013 | +------------+---------+-------------------------------------+ | 1024 | 256 | 0.009 | +------------+---------+-------------------------------------+ | 1518 | 256 | 0 | +------------+---------+-------------------------------------+ Ubuntu 18.04 Kernel: 4.15.0-generic GCC: 7.4 NIC: Mellanox ConnectX-5 100000 Mbps Target: x86_64-native-linuxapp-gcc Fail/Total: 0/6 Detail performance results: +------------+---------+-------------------------------------+ | frame_size | txd/rxd | throughput difference from expected | +============+=========+=====================================+ | 64 | 256 | 0.049 | +------------+---------+-------------------------------------+ | 128 | 256 | 0.018 | +------------+---------+-------------------------------------+ | 256 | 256 | -0.122 | +------------+---------+-------------------------------------+ | 512 | 256 | 0.119 | +------------+---------+-------------------------------------+ | 1024 | 256 | -0.078 | +------------+---------+-------------------------------------+ | 1518 | 256 | -0.048 | +------------+---------+-------------------------------------+ https://lab.dpdk.org/results/dashboard/patchsets/8425/ UNH-IOL DPDK Performance Test Lab To manage your email subscriptions visit: https://lab.dpdk.org/results/dashboard/preferences/subscriptions/
From: robot@bytheb.org Test-Label: travis-robot Test-Status: SUCCESS http://dpdk.org/patch/62702 _Travis build: passed_ Build URL: https://travis-ci.com/ovsrobot/dpdk/builds/135528824