automatic DPDK test reports
 help / color / Atom feed
* [dpdk-test-report] |SUCCESS| pw62739 [PATCH] [v2] net/mlx5: control transmit doorbell register mapping
@ 2019-11-08  7:27 dpdklab
  0 siblings, 0 replies; 3+ messages in thread
From: dpdklab @ 2019-11-08  7:27 UTC (permalink / raw)
  To: Test Report; +Cc: dpdk-test-reports

[-- Attachment #1: Type: text/plain, Size: 1348 bytes --]

Test-Label: iol-compilation
Test-Status: SUCCESS
http://dpdk.org/patch/62739

_Compile Testing PASS_

Submitter: Slava Ovsiienko <viacheslavo@mellanox.com>
Date: Friday, November 08 2019 06:36:53 
DPDK git baseline: Repo:dpdk-next-net-mlx
  Branch: master
  CommitID:078a52797b367bf247de44650e5d1b366c35232f

62739 --> compile testing pass

Test environment and result as below:

+--------------+------------------+-------------------+--------------+
| Environment  | dpdk_compile_ovs | dpdk_compile_spdk | dpdk_compile |
+==============+==================+===================+==============+
| Ubuntu 18.04 | PASS             | PASS              | PASS         |
+--------------+------------------+-------------------+--------------+
| CentOS 8     | PASS             |                   | PASS         |
+--------------+------------------+-------------------+--------------+
| FreeBSD 11.2 |                  | PASS              | PASS         |
+--------------+------------------+-------------------+--------------+

Ubuntu 18.04
	Kernel: 4.15.0-generic
	GCC: 7.4

CentOS 8
	Kernel: 4.18.0.el8_0
	GCC: 8.2

FreeBSD 11.2
	Kernel: 11.2
	GCC: 8.3

https://lab.dpdk.org/results/dashboard/patchsets/8433/

UNH-IOL DPDK Performance Test Lab

To manage your email subscriptions visit: 
https://lab.dpdk.org/results/dashboard/preferences/subscriptions/

^ permalink raw reply	[flat|nested] 3+ messages in thread

* [dpdk-test-report] |SUCCESS| pw62739 [PATCH] [v2] net/mlx5: control transmit doorbell register mapping
@ 2019-11-08  7:26 dpdklab
  0 siblings, 0 replies; 3+ messages in thread
From: dpdklab @ 2019-11-08  7:26 UTC (permalink / raw)
  To: Test Report; +Cc: dpdk-test-reports

[-- Attachment #1: Type: text/plain, Size: 2013 bytes --]

Test-Label: iol-intel-Performance
Test-Status: SUCCESS
http://dpdk.org/patch/62739

_Performance Testing PASS_

Submitter: Slava Ovsiienko <viacheslavo@mellanox.com>
Date: Friday, November 08 2019 06:36:53 
DPDK git baseline: Repo:dpdk-next-net-mlx
  Branch: master
  CommitID:078a52797b367bf247de44650e5d1b366c35232f

62739 --> performance testing pass

Test environment and result as below:

Ubuntu 18.04
Kernel: 4.15.0-generic
GCC: 7.4
NIC: Intel Corporation Ethernet Converged Network Adapter 82599ES 10000 Mbps
Target: x86_64-native-linuxapp-gcc
Fail/Total: 0/3

Detail performance results: 
+------------+---------+-------------------------------------+
| frame_size | txd/rxd | throughput difference from expected |
+============+=========+=====================================+
| 64         | 128     | -0.021                              |
+------------+---------+-------------------------------------+
| 64         | 512     | -0.357                              |
+------------+---------+-------------------------------------+
| 64         | 2048    | 0.545                               |
+------------+---------+-------------------------------------+

Ubuntu 18.04
Kernel: 4.15.0-generic
GCC: 7.4
NIC: Intel Corporation Ethernet Converged Network Adapter XL710-QDA2 40000 Mbps
Target: x86_64-native-linuxapp-gcc
Fail/Total: 0/2

Detail performance results: 
+------------+---------+-------------------------------------+
| frame_size | txd/rxd | throughput difference from expected |
+============+=========+=====================================+
| 64         | 512     | 0.444                               |
+------------+---------+-------------------------------------+
| 64         | 2048    | 0.074                               |
+------------+---------+-------------------------------------+

https://lab.dpdk.org/results/dashboard/patchsets/8433/

UNH-IOL DPDK Performance Test Lab

To manage your email subscriptions visit: 
https://lab.dpdk.org/results/dashboard/preferences/subscriptions/

^ permalink raw reply	[flat|nested] 3+ messages in thread

* [dpdk-test-report] |SUCCESS| pw62739 [PATCH v2] net/mlx5: control transmit doorbell register mapping
       [not found] <1573195013-31024-1-git-send-email-viacheslavo@mellanox.com>
@ 2019-11-08  6:37 ` " checkpatch
  0 siblings, 0 replies; 3+ messages in thread
From: checkpatch @ 2019-11-08  6:37 UTC (permalink / raw)
  To: test-report

Test-Label: checkpatch
Test-Status: SUCCESS
http://dpdk.org/patch/62739

_coding style OK_



^ permalink raw reply	[flat|nested] 3+ messages in thread

end of thread, back to index

Thread overview: 3+ messages (download: mbox.gz / follow: Atom feed)
-- links below jump to the message on this page --
2019-11-08  7:27 [dpdk-test-report] |SUCCESS| pw62739 [PATCH] [v2] net/mlx5: control transmit doorbell register mapping dpdklab
  -- strict thread matches above, loose matches on Subject: below --
2019-11-08  7:26 dpdklab
     [not found] <1573195013-31024-1-git-send-email-viacheslavo@mellanox.com>
2019-11-08  6:37 ` [dpdk-test-report] |SUCCESS| pw62739 [PATCH v2] " checkpatch

automatic DPDK test reports

Archives are clonable:
	git clone --mirror http://inbox.dpdk.org/test-report/0 test-report/git/0.git

	# If you have public-inbox 1.1+ installed, you may
	# initialize and index your mirror using the following commands:
	public-inbox-init -V2 test-report test-report/ http://inbox.dpdk.org/test-report \
		test-report@dpdk.org
	public-inbox-index test-report


Newsgroup available over NNTP:
	nntp://inbox.dpdk.org/inbox.dpdk.test-report


AGPL code for this site: git clone https://public-inbox.org/ public-inbox