automatic DPDK test reports
 help / color / Atom feed
* [dpdk-test-report] |SUCCESS| [GIT MASTER] b5c3cd184fb38c84673aaa2b7d6cf86b90090000
@ 2019-11-08  8:48 dpdklab
  0 siblings, 0 replies; 5+ messages in thread
From: dpdklab @ 2019-11-08  8:48 UTC (permalink / raw)
  To: Ali Alnubani, Test Report; +Cc: dpdk-test-reports

[-- Attachment #1: Type: text/plain, Size: 3696 bytes --]

_Performance Testing PASS_

Branch: dpdk-next-net-brcm

b5c3cd184fb38c84673aaa2b7d6cf86b90090000 --> performance testing pass

Test environment and result as below:

Ubuntu 18.04
Kernel: 4.15.0-generic
GCC: 7.4
NIC: Mellanox ConnectX-5 100000 Mbps
Target: x86_64-native-linuxapp-gcc
Fail/Total: 0/6

Detail performance results: 
+------------+---------+-------------------------------------+
| frame_size | txd/rxd | throughput difference from expected |
+============+=========+=====================================+
| 64         | 256     | 0.140                               |
+------------+---------+-------------------------------------+
| 128        | 256     | -0.011                              |
+------------+---------+-------------------------------------+
| 256        | 256     | -0.003                              |
+------------+---------+-------------------------------------+
| 512        | 256     | 0.081                               |
+------------+---------+-------------------------------------+
| 1024       | 256     | -0.075                              |
+------------+---------+-------------------------------------+
| 1518       | 256     | -0.018                              |
+------------+---------+-------------------------------------+

Ubuntu 18.04
Kernel: 4.15.0-generic
GCC: 7.4
NIC: Mellanox ConnectX-4 Lx 25000 Mbps
Target: x86_64-native-linuxapp-gcc
Fail/Total: 0/6

Detail performance results: 
+------------+---------+-------------------------------------+
| frame_size | txd/rxd | throughput difference from expected |
+============+=========+=====================================+
| 64         | 256     | -0.017                              |
+------------+---------+-------------------------------------+
| 128        | 256     | -0.006                              |
+------------+---------+-------------------------------------+
| 256        | 256     | -0.034                              |
+------------+---------+-------------------------------------+
| 512        | 256     | 0.004                               |
+------------+---------+-------------------------------------+
| 1024       | 256     | 0.005                               |
+------------+---------+-------------------------------------+
| 1518       | 256     | 0                                   |
+------------+---------+-------------------------------------+

Ubuntu 18.04
Kernel: 4.15.0-generic
GCC: 7.4
NIC: Mellanox ConnectX-4 Lx 40000 Mbps
Target: x86_64-native-linuxapp-gcc
Fail/Total: 0/6

Detail performance results: 
+------------+---------+-------------------------------------+
| frame_size | txd/rxd | throughput difference from expected |
+============+=========+=====================================+
| 64         | 256     | 0.043                               |
+------------+---------+-------------------------------------+
| 128        | 256     | -0.021                              |
+------------+---------+-------------------------------------+
| 256        | 256     | -0.066                              |
+------------+---------+-------------------------------------+
| 512        | 256     | 0.034                               |
+------------+---------+-------------------------------------+
| 1024       | 256     | 0.005                               |
+------------+---------+-------------------------------------+
| 1518       | 256     | 0.002                               |
+------------+---------+-------------------------------------+

https://lab.dpdk.org/results/dashboard/tarballs/6996/

UNH-IOL DPDK Performance Test Lab

To manage your email subscriptions visit: 
https://lab.dpdk.org/results/dashboard/preferences/subscriptions/

^ permalink raw reply	[flat|nested] 5+ messages in thread

* [dpdk-test-report] |SUCCESS| [GIT MASTER] b5c3cd184fb38c84673aaa2b7d6cf86b90090000
@ 2019-11-07 21:56 dpdklab
  0 siblings, 0 replies; 5+ messages in thread
From: dpdklab @ 2019-11-07 21:56 UTC (permalink / raw)
  To: Test Report; +Cc: dpdk-test-reports

[-- Attachment #1: Type: text/plain, Size: 1125 bytes --]

_Compile Testing PASS_

Branch: dpdk-next-net-brcm

b5c3cd184fb38c84673aaa2b7d6cf86b90090000 --> compile testing pass

Test environment and result as below:

+--------------+--------------+------------------+-------------------+
| Environment  | dpdk_compile | dpdk_compile_ovs | dpdk_compile_spdk |
+==============+==============+==================+===================+
| FreeBSD 11.2 | PASS         |                  | PASS              |
+--------------+--------------+------------------+-------------------+
| Ubuntu 18.04 | PASS         | PASS             | PASS              |
+--------------+--------------+------------------+-------------------+
| CentOS 8     | PASS         | PASS             |                   |
+--------------+--------------+------------------+-------------------+

FreeBSD 11.2
	Kernel: 11.2
	GCC: 8.3

Ubuntu 18.04
	Kernel: 4.15.0-generic
	GCC: 7.4

CentOS 8
	Kernel: 4.18.0.el8_0
	GCC: 8.2

https://lab.dpdk.org/results/dashboard/tarballs/6996/

UNH-IOL DPDK Performance Test Lab

To manage your email subscriptions visit: 
https://lab.dpdk.org/results/dashboard/preferences/subscriptions/

^ permalink raw reply	[flat|nested] 5+ messages in thread

* [dpdk-test-report] |SUCCESS| [GIT MASTER] b5c3cd184fb38c84673aaa2b7d6cf86b90090000
@ 2019-11-07 21:54 dpdklab
  0 siblings, 0 replies; 5+ messages in thread
From: dpdklab @ 2019-11-07 21:54 UTC (permalink / raw)
  To: Test Report; +Cc: dpdk-test-reports

[-- Attachment #1: Type: text/plain, Size: 1784 bytes --]

_Performance Testing PASS_

Branch: dpdk-next-net-brcm

b5c3cd184fb38c84673aaa2b7d6cf86b90090000 --> performance testing pass

Test environment and result as below:

Ubuntu 18.04
Kernel: 4.15.0-generic
GCC: 7.4
NIC: Intel Corporation Ethernet Converged Network Adapter 82599ES 10000 Mbps
Target: x86_64-native-linuxapp-gcc
Fail/Total: 0/3

Detail performance results: 
+------------+---------+-------------------------------------+
| frame_size | txd/rxd | throughput difference from expected |
+============+=========+=====================================+
| 64         | 128     | 0.312                               |
+------------+---------+-------------------------------------+
| 64         | 512     | 0.180                               |
+------------+---------+-------------------------------------+
| 64         | 2048    | 0.075                               |
+------------+---------+-------------------------------------+

Ubuntu 18.04
Kernel: 4.15.0-generic
GCC: 7.4
NIC: Intel Corporation Ethernet Converged Network Adapter XL710-QDA2 40000 Mbps
Target: x86_64-native-linuxapp-gcc
Fail/Total: 0/2

Detail performance results: 
+------------+---------+-------------------------------------+
| frame_size | txd/rxd | throughput difference from expected |
+============+=========+=====================================+
| 64         | 512     | -0.179                              |
+------------+---------+-------------------------------------+
| 64         | 2048    | -0.088                              |
+------------+---------+-------------------------------------+

https://lab.dpdk.org/results/dashboard/tarballs/6996/

UNH-IOL DPDK Performance Test Lab

To manage your email subscriptions visit: 
https://lab.dpdk.org/results/dashboard/preferences/subscriptions/

^ permalink raw reply	[flat|nested] 5+ messages in thread

* [dpdk-test-report] |SUCCESS| [GIT MASTER] b5c3cd184fb38c84673aaa2b7d6cf86b90090000
@ 2019-11-06 23:55 dpdklab
  0 siblings, 0 replies; 5+ messages in thread
From: dpdklab @ 2019-11-06 23:55 UTC (permalink / raw)
  To: Ali Alnubani, Test Report; +Cc: dpdk-test-reports

[-- Attachment #1: Type: text/plain, Size: 3691 bytes --]

_Performance Testing PASS_

Branch: dpdk-next-net

b5c3cd184fb38c84673aaa2b7d6cf86b90090000 --> performance testing pass

Test environment and result as below:

Ubuntu 18.04
Kernel: 4.15.0-generic
GCC: 7.4
NIC: Mellanox ConnectX-5 100000 Mbps
Target: x86_64-native-linuxapp-gcc
Fail/Total: 0/6

Detail performance results: 
+------------+---------+-------------------------------------+
| frame_size | txd/rxd | throughput difference from expected |
+============+=========+=====================================+
| 64         | 256     | 0.351                               |
+------------+---------+-------------------------------------+
| 128        | 256     | -0.136                              |
+------------+---------+-------------------------------------+
| 256        | 256     | -0.019                              |
+------------+---------+-------------------------------------+
| 512        | 256     | 0.163                               |
+------------+---------+-------------------------------------+
| 1024       | 256     | 0.006                               |
+------------+---------+-------------------------------------+
| 1518       | 256     | 0.050                               |
+------------+---------+-------------------------------------+

Ubuntu 18.04
Kernel: 4.15.0-generic
GCC: 7.4
NIC: Mellanox ConnectX-4 Lx 25000 Mbps
Target: x86_64-native-linuxapp-gcc
Fail/Total: 0/6

Detail performance results: 
+------------+---------+-------------------------------------+
| frame_size | txd/rxd | throughput difference from expected |
+============+=========+=====================================+
| 64         | 256     | -0.216                              |
+------------+---------+-------------------------------------+
| 128        | 256     | -0.087                              |
+------------+---------+-------------------------------------+
| 256        | 256     | 0.008                               |
+------------+---------+-------------------------------------+
| 512        | 256     | 0.004                               |
+------------+---------+-------------------------------------+
| 1024       | 256     | 0.001                               |
+------------+---------+-------------------------------------+
| 1518       | 256     | 0.002                               |
+------------+---------+-------------------------------------+

Ubuntu 18.04
Kernel: 4.15.0-generic
GCC: 7.4
NIC: Mellanox ConnectX-4 Lx 40000 Mbps
Target: x86_64-native-linuxapp-gcc
Fail/Total: 0/6

Detail performance results: 
+------------+---------+-------------------------------------+
| frame_size | txd/rxd | throughput difference from expected |
+============+=========+=====================================+
| 64         | 256     | -0.052                              |
+------------+---------+-------------------------------------+
| 128        | 256     | -0.264                              |
+------------+---------+-------------------------------------+
| 256        | 256     | -0.046                              |
+------------+---------+-------------------------------------+
| 512        | 256     | -0.011                              |
+------------+---------+-------------------------------------+
| 1024       | 256     | 0.004                               |
+------------+---------+-------------------------------------+
| 1518       | 256     | 0.007                               |
+------------+---------+-------------------------------------+

https://lab.dpdk.org/results/dashboard/tarballs/6957/

UNH-IOL DPDK Performance Test Lab

To manage your email subscriptions visit: 
https://lab.dpdk.org/results/dashboard/preferences/subscriptions/

^ permalink raw reply	[flat|nested] 5+ messages in thread

* [dpdk-test-report] |SUCCESS| [GIT MASTER] b5c3cd184fb38c84673aaa2b7d6cf86b90090000
@ 2019-11-06 19:28 dpdklab
  0 siblings, 0 replies; 5+ messages in thread
From: dpdklab @ 2019-11-06 19:28 UTC (permalink / raw)
  To: Test Report; +Cc: dpdk-test-reports

[-- Attachment #1: Type: text/plain, Size: 1120 bytes --]

_Compile Testing PASS_

Branch: dpdk-next-net

b5c3cd184fb38c84673aaa2b7d6cf86b90090000 --> compile testing pass

Test environment and result as below:

+--------------+--------------+------------------+-------------------+
| Environment  | dpdk_compile | dpdk_compile_ovs | dpdk_compile_spdk |
+==============+==============+==================+===================+
| FreeBSD 11.2 | PASS         |                  |                   |
+--------------+--------------+------------------+-------------------+
| Ubuntu 18.04 | PASS         | PASS             | PASS              |
+--------------+--------------+------------------+-------------------+
| CentOS 8     | PASS         | PASS             |                   |
+--------------+--------------+------------------+-------------------+

FreeBSD 11.2
	Kernel: 11.2
	GCC: 8.3

Ubuntu 18.04
	Kernel: 4.15.0-generic
	GCC: 7.4

CentOS 8
	Kernel: 4.18.0.el8_0
	GCC: 8.2

https://lab.dpdk.org/results/dashboard/tarballs/6957/

UNH-IOL DPDK Performance Test Lab

To manage your email subscriptions visit: 
https://lab.dpdk.org/results/dashboard/preferences/subscriptions/

^ permalink raw reply	[flat|nested] 5+ messages in thread

end of thread, back to index

Thread overview: 5+ messages (download: mbox.gz / follow: Atom feed)
-- links below jump to the message on this page --
2019-11-08  8:48 [dpdk-test-report] |SUCCESS| [GIT MASTER] b5c3cd184fb38c84673aaa2b7d6cf86b90090000 dpdklab
  -- strict thread matches above, loose matches on Subject: below --
2019-11-07 21:56 dpdklab
2019-11-07 21:54 dpdklab
2019-11-06 23:55 dpdklab
2019-11-06 19:28 dpdklab

automatic DPDK test reports

Archives are clonable:
	git clone --mirror http://inbox.dpdk.org/test-report/0 test-report/git/0.git

	# If you have public-inbox 1.1+ installed, you may
	# initialize and index your mirror using the following commands:
	public-inbox-init -V2 test-report test-report/ http://inbox.dpdk.org/test-report \
		test-report@dpdk.org
	public-inbox-index test-report


Newsgroup available over NNTP:
	nntp://inbox.dpdk.org/inbox.dpdk.test-report


AGPL code for this site: git clone https://public-inbox.org/ public-inbox