automatic DPDK test reports
 help / color / Atom feed
* [dpdk-test-report] |SUCCESS| pw62741 [PATCH] net: replace IP VHL DEF macro with RTE IPV4 VHL DEF
       [not found] <20191108100200.38833-1-reshma.pattan@intel.com>
@ 2019-11-08 10:02 ` checkpatch
  2019-11-09 15:08 ` [dpdk-test-report] |SUCCESS| pw62741 " 0-day Robot
  1 sibling, 0 replies; 5+ messages in thread
From: checkpatch @ 2019-11-08 10:02 UTC (permalink / raw)
  To: test-report

Test-Label: checkpatch
Test-Status: SUCCESS
http://dpdk.org/patch/62741

_coding style OK_



^ permalink raw reply	[flat|nested] 5+ messages in thread

* [dpdk-test-report] |SUCCESS| pw62741 net: replace IP VHL DEF macro with RTE IPV4 VHL DEF
       [not found] <20191108100200.38833-1-reshma.pattan@intel.com>
  2019-11-08 10:02 ` [dpdk-test-report] |SUCCESS| pw62741 [PATCH] net: replace IP VHL DEF macro with RTE IPV4 VHL DEF checkpatch
@ 2019-11-09 15:08 ` " 0-day Robot
  1 sibling, 0 replies; 5+ messages in thread
From: 0-day Robot @ 2019-11-09 15:08 UTC (permalink / raw)
  To: test-report; +Cc: robot

From: robot@bytheb.org

Test-Label: travis-robot
Test-Status: SUCCESS
http://dpdk.org/patch/62741

_Travis build: passed_
Build URL: https://travis-ci.com/ovsrobot/dpdk/builds/135622188

^ permalink raw reply	[flat|nested] 5+ messages in thread

* [dpdk-test-report] |SUCCESS| pw62741 [PATCH] net: replace IP VHL DEF macro with RTE IPV4 VHL DEF
@ 2019-11-08 15:54 dpdklab
  0 siblings, 0 replies; 5+ messages in thread
From: dpdklab @ 2019-11-08 15:54 UTC (permalink / raw)
  To: Ali Alnubani, Test Report; +Cc: dpdk-test-reports

[-- Attachment #1: Type: text/plain, Size: 3912 bytes --]

Test-Label: iol-mellanox-Performance
Test-Status: SUCCESS
http://dpdk.org/patch/62741

_Performance Testing PASS_

Submitter: Reshma Pattan <reshma.pattan@intel.com>
Date: Friday, November 08 2019 10:02:00 
DPDK git baseline: Repo:dpdk
  Branch: master
  CommitID:9a643edb2b74c5993465089aa23178cd9ad612cc

62741 --> performance testing pass

Test environment and result as below:

Ubuntu 18.04
Kernel: 4.15.0-generic
GCC: 7.4
NIC: Mellanox ConnectX-4 Lx 25000 Mbps
Target: x86_64-native-linuxapp-gcc
Fail/Total: 0/6

Detail performance results: 
+------------+---------+-------------------------------------+
| frame_size | txd/rxd | throughput difference from expected |
+============+=========+=====================================+
| 64         | 256     | 0.592                               |
+------------+---------+-------------------------------------+
| 128        | 256     | 0.057                               |
+------------+---------+-------------------------------------+
| 256        | 256     | 0.022                               |
+------------+---------+-------------------------------------+
| 512        | 256     | -0.003                              |
+------------+---------+-------------------------------------+
| 1024       | 256     | 0.014                               |
+------------+---------+-------------------------------------+
| 1518       | 256     | 0                                   |
+------------+---------+-------------------------------------+

Ubuntu 18.04
Kernel: 4.15.0-generic
GCC: 7.4
NIC: Mellanox ConnectX-4 Lx 40000 Mbps
Target: x86_64-native-linuxapp-gcc
Fail/Total: 0/6

Detail performance results: 
+------------+---------+-------------------------------------+
| frame_size | txd/rxd | throughput difference from expected |
+============+=========+=====================================+
| 64         | 256     | 0.220                               |
+------------+---------+-------------------------------------+
| 128        | 256     | 0.238                               |
+------------+---------+-------------------------------------+
| 256        | 256     | -0.005                              |
+------------+---------+-------------------------------------+
| 512        | 256     | -0.049                              |
+------------+---------+-------------------------------------+
| 1024       | 256     | 0.024                               |
+------------+---------+-------------------------------------+
| 1518       | 256     | 0.002                               |
+------------+---------+-------------------------------------+

Ubuntu 18.04
Kernel: 4.15.0-generic
GCC: 7.4
NIC: Mellanox ConnectX-5 100000 Mbps
Target: x86_64-native-linuxapp-gcc
Fail/Total: 0/6

Detail performance results: 
+------------+---------+-------------------------------------+
| frame_size | txd/rxd | throughput difference from expected |
+============+=========+=====================================+
| 64         | 256     | -0.078                              |
+------------+---------+-------------------------------------+
| 128        | 256     | 0.081                               |
+------------+---------+-------------------------------------+
| 256        | 256     | -0.079                              |
+------------+---------+-------------------------------------+
| 512        | 256     | -0.018                              |
+------------+---------+-------------------------------------+
| 1024       | 256     | -0.004                              |
+------------+---------+-------------------------------------+
| 1518       | 256     | -0.014                              |
+------------+---------+-------------------------------------+

https://lab.dpdk.org/results/dashboard/patchsets/8435/

UNH-IOL DPDK Performance Test Lab

To manage your email subscriptions visit: 
https://lab.dpdk.org/results/dashboard/preferences/subscriptions/

^ permalink raw reply	[flat|nested] 5+ messages in thread

* [dpdk-test-report] |SUCCESS| pw62741 [PATCH] net: replace IP VHL DEF macro with RTE IPV4 VHL DEF
@ 2019-11-08 11:12 dpdklab
  0 siblings, 0 replies; 5+ messages in thread
From: dpdklab @ 2019-11-08 11:12 UTC (permalink / raw)
  To: Test Report; +Cc: dpdk-test-reports

[-- Attachment #1: Type: text/plain, Size: 1332 bytes --]

Test-Label: iol-compilation
Test-Status: SUCCESS
http://dpdk.org/patch/62741

_Compile Testing PASS_

Submitter: Reshma Pattan <reshma.pattan@intel.com>
Date: Friday, November 08 2019 10:02:00 
DPDK git baseline: Repo:dpdk
  Branch: master
  CommitID:9a643edb2b74c5993465089aa23178cd9ad612cc

62741 --> compile testing pass

Test environment and result as below:

+--------------+------------------+-------------------+--------------+
| Environment  | dpdk_compile_ovs | dpdk_compile_spdk | dpdk_compile |
+==============+==================+===================+==============+
| Ubuntu 18.04 | PASS             | PASS              | PASS         |
+--------------+------------------+-------------------+--------------+
| CentOS 8     | PASS             |                   | PASS         |
+--------------+------------------+-------------------+--------------+
| FreeBSD 11.2 |                  | PASS              | PASS         |
+--------------+------------------+-------------------+--------------+

Ubuntu 18.04
	Kernel: 4.15.0-generic
	GCC: 7.4

CentOS 8
	Kernel: 4.18.0.el8_0
	GCC: 8.2

FreeBSD 11.2
	Kernel: 11.2
	GCC: 8.3

https://lab.dpdk.org/results/dashboard/patchsets/8435/

UNH-IOL DPDK Performance Test Lab

To manage your email subscriptions visit: 
https://lab.dpdk.org/results/dashboard/preferences/subscriptions/

^ permalink raw reply	[flat|nested] 5+ messages in thread

* [dpdk-test-report] |SUCCESS| pw62741 [PATCH] net: replace IP VHL DEF macro with RTE IPV4 VHL DEF
@ 2019-11-08 11:10 " dpdklab
  0 siblings, 0 replies; 5+ messages in thread
From: dpdklab @ 2019-11-08 11:10 UTC (permalink / raw)
  To: Test Report; +Cc: dpdk-test-reports

[-- Attachment #1: Type: text/plain, Size: 1997 bytes --]

Test-Label: iol-intel-Performance
Test-Status: SUCCESS
http://dpdk.org/patch/62741

_Performance Testing PASS_

Submitter: Reshma Pattan <reshma.pattan@intel.com>
Date: Friday, November 08 2019 10:02:00 
DPDK git baseline: Repo:dpdk
  Branch: master
  CommitID:9a643edb2b74c5993465089aa23178cd9ad612cc

62741 --> performance testing pass

Test environment and result as below:

Ubuntu 18.04
Kernel: 4.15.0-generic
GCC: 7.4
NIC: Intel Corporation Ethernet Converged Network Adapter 82599ES 10000 Mbps
Target: x86_64-native-linuxapp-gcc
Fail/Total: 0/3

Detail performance results: 
+------------+---------+-------------------------------------+
| frame_size | txd/rxd | throughput difference from expected |
+============+=========+=====================================+
| 64         | 128     | -0.135                              |
+------------+---------+-------------------------------------+
| 64         | 512     | -0.469                              |
+------------+---------+-------------------------------------+
| 64         | 2048    | 0.183                               |
+------------+---------+-------------------------------------+

Ubuntu 18.04
Kernel: 4.15.0-generic
GCC: 7.4
NIC: Intel Corporation Ethernet Converged Network Adapter XL710-QDA2 40000 Mbps
Target: x86_64-native-linuxapp-gcc
Fail/Total: 0/2

Detail performance results: 
+------------+---------+-------------------------------------+
| frame_size | txd/rxd | throughput difference from expected |
+============+=========+=====================================+
| 64         | 512     | 0.588                               |
+------------+---------+-------------------------------------+
| 64         | 2048    | 0.174                               |
+------------+---------+-------------------------------------+

https://lab.dpdk.org/results/dashboard/patchsets/8435/

UNH-IOL DPDK Performance Test Lab

To manage your email subscriptions visit: 
https://lab.dpdk.org/results/dashboard/preferences/subscriptions/

^ permalink raw reply	[flat|nested] 5+ messages in thread

end of thread, back to index

Thread overview: 5+ messages (download: mbox.gz / follow: Atom feed)
-- links below jump to the message on this page --
     [not found] <20191108100200.38833-1-reshma.pattan@intel.com>
2019-11-08 10:02 ` [dpdk-test-report] |SUCCESS| pw62741 [PATCH] net: replace IP VHL DEF macro with RTE IPV4 VHL DEF checkpatch
2019-11-09 15:08 ` [dpdk-test-report] |SUCCESS| pw62741 " 0-day Robot
2019-11-08 11:10 [dpdk-test-report] |SUCCESS| pw62741 [PATCH] " dpdklab
2019-11-08 11:12 dpdklab
2019-11-08 15:54 dpdklab

automatic DPDK test reports

Archives are clonable:
	git clone --mirror http://inbox.dpdk.org/test-report/0 test-report/git/0.git

	# If you have public-inbox 1.1+ installed, you may
	# initialize and index your mirror using the following commands:
	public-inbox-init -V2 test-report test-report/ http://inbox.dpdk.org/test-report \
		test-report@dpdk.org
	public-inbox-index test-report


Newsgroup available over NNTP:
	nntp://inbox.dpdk.org/inbox.dpdk.test-report


AGPL code for this site: git clone https://public-inbox.org/ public-inbox