automatic DPDK test reports
 help / color / Atom feed
* [dpdk-test-report] |SUCCESS| pw62704-62708 [PATCH] [v13, 1/5] bus/fslmc: fix the conflicting dmb function
@ 2019-11-08 10:04 dpdklab
  0 siblings, 0 replies; 3+ messages in thread
From: dpdklab @ 2019-11-08 10:04 UTC (permalink / raw)
  To: Ali Alnubani, Test Report; +Cc: dpdk-test-reports

[-- Attachment #1: Type: text/plain, Size: 3923 bytes --]

Test-Label: iol-mellanox-Performance
Test-Status: SUCCESS
http://dpdk.org/patch/62704

_Performance Testing PASS_

Submitter: David Marchand <david.marchand@redhat.com>
Date: Thursday, November 07 2019 21:35:24 
DPDK git baseline: Repo:dpdk
  Branch: master
  CommitID:206b89c742723209569145c95fd61954886f90f1

62704-62708 --> performance testing pass

Test environment and result as below:

Ubuntu 18.04
Kernel: 4.15.0-generic
GCC: 7.4
NIC: Mellanox ConnectX-4 Lx 25000 Mbps
Target: x86_64-native-linuxapp-gcc
Fail/Total: 0/6

Detail performance results: 
+------------+---------+-------------------------------------+
| frame_size | txd/rxd | throughput difference from expected |
+============+=========+=====================================+
| 64         | 256     | 0.154                               |
+------------+---------+-------------------------------------+
| 128        | 256     | -0.024                              |
+------------+---------+-------------------------------------+
| 256        | 256     | 0.016                               |
+------------+---------+-------------------------------------+
| 512        | 256     | -0.002                              |
+------------+---------+-------------------------------------+
| 1024       | 256     | 0.010                               |
+------------+---------+-------------------------------------+
| 1518       | 256     | 0                                   |
+------------+---------+-------------------------------------+

Ubuntu 18.04
Kernel: 4.15.0-generic
GCC: 7.4
NIC: Mellanox ConnectX-4 Lx 40000 Mbps
Target: x86_64-native-linuxapp-gcc
Fail/Total: 0/6

Detail performance results: 
+------------+---------+-------------------------------------+
| frame_size | txd/rxd | throughput difference from expected |
+============+=========+=====================================+
| 64         | 256     | -0.032                              |
+------------+---------+-------------------------------------+
| 128        | 256     | 0.448                               |
+------------+---------+-------------------------------------+
| 256        | 256     | -0.046                              |
+------------+---------+-------------------------------------+
| 512        | 256     | -0.014                              |
+------------+---------+-------------------------------------+
| 1024       | 256     | -0.004                              |
+------------+---------+-------------------------------------+
| 1518       | 256     | 0.008                               |
+------------+---------+-------------------------------------+

Ubuntu 18.04
Kernel: 4.15.0-generic
GCC: 7.4
NIC: Mellanox ConnectX-5 100000 Mbps
Target: x86_64-native-linuxapp-gcc
Fail/Total: 0/6

Detail performance results: 
+------------+---------+-------------------------------------+
| frame_size | txd/rxd | throughput difference from expected |
+============+=========+=====================================+
| 64         | 256     | 0.066                               |
+------------+---------+-------------------------------------+
| 128        | 256     | -0.075                              |
+------------+---------+-------------------------------------+
| 256        | 256     | -0.101                              |
+------------+---------+-------------------------------------+
| 512        | 256     | 0.049                               |
+------------+---------+-------------------------------------+
| 1024       | 256     | -0.017                              |
+------------+---------+-------------------------------------+
| 1518       | 256     | -0.035                              |
+------------+---------+-------------------------------------+

https://lab.dpdk.org/results/dashboard/patchsets/8426/

UNH-IOL DPDK Performance Test Lab

To manage your email subscriptions visit: 
https://lab.dpdk.org/results/dashboard/preferences/subscriptions/

^ permalink raw reply	[flat|nested] 3+ messages in thread

* [dpdk-test-report] |SUCCESS| pw62704-62708 [PATCH] [v13, 1/5] bus/fslmc: fix the conflicting dmb function
@ 2019-11-07 22:22 dpdklab
  0 siblings, 0 replies; 3+ messages in thread
From: dpdklab @ 2019-11-07 22:22 UTC (permalink / raw)
  To: Test Report; +Cc: dpdk-test-reports

[-- Attachment #1: Type: text/plain, Size: 1343 bytes --]

Test-Label: iol-compilation
Test-Status: SUCCESS
http://dpdk.org/patch/62704

_Compile Testing PASS_

Submitter: David Marchand <david.marchand@redhat.com>
Date: Thursday, November 07 2019 21:35:24 
DPDK git baseline: Repo:dpdk
  Branch: master
  CommitID:206b89c742723209569145c95fd61954886f90f1

62704-62708 --> compile testing pass

Test environment and result as below:

+--------------+------------------+-------------------+--------------+
| Environment  | dpdk_compile_ovs | dpdk_compile_spdk | dpdk_compile |
+==============+==================+===================+==============+
| Ubuntu 18.04 | PASS             | PASS              | PASS         |
+--------------+------------------+-------------------+--------------+
| CentOS 8     | PASS             |                   | PASS         |
+--------------+------------------+-------------------+--------------+
| FreeBSD 11.2 |                  | PASS              | PASS         |
+--------------+------------------+-------------------+--------------+

Ubuntu 18.04
	Kernel: 4.15.0-generic
	GCC: 7.4

CentOS 8
	Kernel: 4.18.0.el8_0
	GCC: 8.2

FreeBSD 11.2
	Kernel: 11.2
	GCC: 8.3

https://lab.dpdk.org/results/dashboard/patchsets/8426/

UNH-IOL DPDK Performance Test Lab

To manage your email subscriptions visit: 
https://lab.dpdk.org/results/dashboard/preferences/subscriptions/

^ permalink raw reply	[flat|nested] 3+ messages in thread

* [dpdk-test-report] |SUCCESS| pw62704-62708 [PATCH] [v13, 1/5] bus/fslmc: fix the conflicting dmb function
@ 2019-11-07 22:18 dpdklab
  0 siblings, 0 replies; 3+ messages in thread
From: dpdklab @ 2019-11-07 22:18 UTC (permalink / raw)
  To: Test Report; +Cc: dpdk-test-reports

[-- Attachment #1: Type: text/plain, Size: 2008 bytes --]

Test-Label: iol-intel-Performance
Test-Status: SUCCESS
http://dpdk.org/patch/62704

_Performance Testing PASS_

Submitter: David Marchand <david.marchand@redhat.com>
Date: Thursday, November 07 2019 21:35:24 
DPDK git baseline: Repo:dpdk
  Branch: master
  CommitID:206b89c742723209569145c95fd61954886f90f1

62704-62708 --> performance testing pass

Test environment and result as below:

Ubuntu 18.04
Kernel: 4.15.0-generic
GCC: 7.4
NIC: Intel Corporation Ethernet Converged Network Adapter 82599ES 10000 Mbps
Target: x86_64-native-linuxapp-gcc
Fail/Total: 0/3

Detail performance results: 
+------------+---------+-------------------------------------+
| frame_size | txd/rxd | throughput difference from expected |
+============+=========+=====================================+
| 64         | 128     | 0.194                               |
+------------+---------+-------------------------------------+
| 64         | 512     | 0.087                               |
+------------+---------+-------------------------------------+
| 64         | 2048    | 0.181                               |
+------------+---------+-------------------------------------+

Ubuntu 18.04
Kernel: 4.15.0-generic
GCC: 7.4
NIC: Intel Corporation Ethernet Converged Network Adapter XL710-QDA2 40000 Mbps
Target: x86_64-native-linuxapp-gcc
Fail/Total: 0/2

Detail performance results: 
+------------+---------+-------------------------------------+
| frame_size | txd/rxd | throughput difference from expected |
+============+=========+=====================================+
| 64         | 512     | -0.510                              |
+------------+---------+-------------------------------------+
| 64         | 2048    | 0.161                               |
+------------+---------+-------------------------------------+

https://lab.dpdk.org/results/dashboard/patchsets/8426/

UNH-IOL DPDK Performance Test Lab

To manage your email subscriptions visit: 
https://lab.dpdk.org/results/dashboard/preferences/subscriptions/

^ permalink raw reply	[flat|nested] 3+ messages in thread

end of thread, back to index

Thread overview: 3+ messages (download: mbox.gz / follow: Atom feed)
-- links below jump to the message on this page --
2019-11-08 10:04 [dpdk-test-report] |SUCCESS| pw62704-62708 [PATCH] [v13, 1/5] bus/fslmc: fix the conflicting dmb function dpdklab
  -- strict thread matches above, loose matches on Subject: below --
2019-11-07 22:22 dpdklab
2019-11-07 22:18 dpdklab

automatic DPDK test reports

Archives are clonable:
	git clone --mirror http://inbox.dpdk.org/test-report/0 test-report/git/0.git

	# If you have public-inbox 1.1+ installed, you may
	# initialize and index your mirror using the following commands:
	public-inbox-init -V2 test-report test-report/ http://inbox.dpdk.org/test-report \
		test-report@dpdk.org
	public-inbox-index test-report


Newsgroup available over NNTP:
	nntp://inbox.dpdk.org/inbox.dpdk.test-report


AGPL code for this site: git clone https://public-inbox.org/ public-inbox