automatic DPDK test reports
 help / color / Atom feed
* [dpdk-test-report] |SUCCESS| pw62740 [PATCH] net/ice: net/ice: free the HW tables when close device
@ 2019-11-08 10:25 dpdklab
  0 siblings, 0 replies; 4+ messages in thread
From: dpdklab @ 2019-11-08 10:25 UTC (permalink / raw)
  To: Test Report; +Cc: dpdk-test-reports

[-- Attachment #1: Type: text/plain, Size: 1989 bytes --]

Test-Label: iol-intel-Performance
Test-Status: SUCCESS
http://dpdk.org/patch/62740

_Performance Testing PASS_

Submitter: Qi Zhang <qi.z.zhang@intel.com>
Date: Friday, November 08 2019 09:40:39 
DPDK git baseline: Repo:dpdk
  Branch: master
  CommitID:9a643edb2b74c5993465089aa23178cd9ad612cc

62740 --> performance testing pass

Test environment and result as below:

Ubuntu 18.04
Kernel: 4.15.0-generic
GCC: 7.4
NIC: Intel Corporation Ethernet Converged Network Adapter 82599ES 10000 Mbps
Target: x86_64-native-linuxapp-gcc
Fail/Total: 0/3

Detail performance results: 
+------------+---------+-------------------------------------+
| frame_size | txd/rxd | throughput difference from expected |
+============+=========+=====================================+
| 64         | 128     | 0.260                               |
+------------+---------+-------------------------------------+
| 64         | 512     | -0.265                              |
+------------+---------+-------------------------------------+
| 64         | 2048    | 0.110                               |
+------------+---------+-------------------------------------+

Ubuntu 18.04
Kernel: 4.15.0-generic
GCC: 7.4
NIC: Intel Corporation Ethernet Converged Network Adapter XL710-QDA2 40000 Mbps
Target: x86_64-native-linuxapp-gcc
Fail/Total: 0/2

Detail performance results: 
+------------+---------+-------------------------------------+
| frame_size | txd/rxd | throughput difference from expected |
+============+=========+=====================================+
| 64         | 512     | 0.334                               |
+------------+---------+-------------------------------------+
| 64         | 2048    | -0.001                              |
+------------+---------+-------------------------------------+

https://lab.dpdk.org/results/dashboard/patchsets/8434/

UNH-IOL DPDK Performance Test Lab

To manage your email subscriptions visit: 
https://lab.dpdk.org/results/dashboard/preferences/subscriptions/

^ permalink raw reply	[flat|nested] 4+ messages in thread

* [dpdk-test-report] |SUCCESS| pw62740 [PATCH] net/ice: net/ice: free the HW tables when close device
@ 2019-11-08 13:56 dpdklab
  0 siblings, 0 replies; 4+ messages in thread
From: dpdklab @ 2019-11-08 13:56 UTC (permalink / raw)
  To: Ali Alnubani, Test Report; +Cc: dpdk-test-reports

[-- Attachment #1: Type: text/plain, Size: 3907 bytes --]

Test-Label: iol-mellanox-Performance
Test-Status: SUCCESS
http://dpdk.org/patch/62740

_Performance Testing PASS_

Submitter: Zhang, Qi Z <qi.z.zhang@intel.com>
Date: Friday, November 08 2019 09:40:39 
DPDK git baseline: Repo:dpdk
  Branch: master
  CommitID:9a643edb2b74c5993465089aa23178cd9ad612cc

62740 --> performance testing pass

Test environment and result as below:

Ubuntu 18.04
Kernel: 4.15.0-generic
GCC: 7.4
NIC: Mellanox ConnectX-5 100000 Mbps
Target: x86_64-native-linuxapp-gcc
Fail/Total: 0/6

Detail performance results: 
+------------+---------+-------------------------------------+
| frame_size | txd/rxd | throughput difference from expected |
+============+=========+=====================================+
| 64         | 256     | 0.177                               |
+------------+---------+-------------------------------------+
| 128        | 256     | -0.042                              |
+------------+---------+-------------------------------------+
| 256        | 256     | 0.051                               |
+------------+---------+-------------------------------------+
| 512        | 256     | 0.108                               |
+------------+---------+-------------------------------------+
| 1024       | 256     | 0.022                               |
+------------+---------+-------------------------------------+
| 1518       | 256     | -0.029                              |
+------------+---------+-------------------------------------+

Ubuntu 18.04
Kernel: 4.15.0-generic
GCC: 7.4
NIC: Mellanox ConnectX-4 Lx 25000 Mbps
Target: x86_64-native-linuxapp-gcc
Fail/Total: 0/6

Detail performance results: 
+------------+---------+-------------------------------------+
| frame_size | txd/rxd | throughput difference from expected |
+============+=========+=====================================+
| 64         | 256     | 0.500                               |
+------------+---------+-------------------------------------+
| 128        | 256     | -0.009                              |
+------------+---------+-------------------------------------+
| 256        | 256     | 0.047                               |
+------------+---------+-------------------------------------+
| 512        | 256     | 0.012                               |
+------------+---------+-------------------------------------+
| 1024       | 256     | 0.001                               |
+------------+---------+-------------------------------------+
| 1518       | 256     | 0                                   |
+------------+---------+-------------------------------------+

Ubuntu 18.04
Kernel: 4.15.0-generic
GCC: 7.4
NIC: Mellanox ConnectX-4 Lx 40000 Mbps
Target: x86_64-native-linuxapp-gcc
Fail/Total: 0/6

Detail performance results: 
+------------+---------+-------------------------------------+
| frame_size | txd/rxd | throughput difference from expected |
+============+=========+=====================================+
| 64         | 256     | -0.052                              |
+------------+---------+-------------------------------------+
| 128        | 256     | -0.210                              |
+------------+---------+-------------------------------------+
| 256        | 256     | -0.007                              |
+------------+---------+-------------------------------------+
| 512        | 256     | -0.052                              |
+------------+---------+-------------------------------------+
| 1024       | 256     | 0.029                               |
+------------+---------+-------------------------------------+
| 1518       | 256     | 0.010                               |
+------------+---------+-------------------------------------+

https://lab.dpdk.org/results/dashboard/patchsets/8434/

UNH-IOL DPDK Performance Test Lab

To manage your email subscriptions visit: 
https://lab.dpdk.org/results/dashboard/preferences/subscriptions/

^ permalink raw reply	[flat|nested] 4+ messages in thread

* [dpdk-test-report] |SUCCESS| pw62740 [PATCH] net/ice: net/ice: free the HW tables when close device
@ 2019-11-08 10:27 dpdklab
  0 siblings, 0 replies; 4+ messages in thread
From: dpdklab @ 2019-11-08 10:27 UTC (permalink / raw)
  To: Test Report; +Cc: dpdk-test-reports

[-- Attachment #1: Type: text/plain, Size: 1324 bytes --]

Test-Label: iol-compilation
Test-Status: SUCCESS
http://dpdk.org/patch/62740

_Compile Testing PASS_

Submitter: Qi Zhang <qi.z.zhang@intel.com>
Date: Friday, November 08 2019 09:40:39 
DPDK git baseline: Repo:dpdk
  Branch: master
  CommitID:9a643edb2b74c5993465089aa23178cd9ad612cc

62740 --> compile testing pass

Test environment and result as below:

+--------------+------------------+-------------------+--------------+
| Environment  | dpdk_compile_ovs | dpdk_compile_spdk | dpdk_compile |
+==============+==================+===================+==============+
| Ubuntu 18.04 | PASS             | PASS              | PASS         |
+--------------+------------------+-------------------+--------------+
| CentOS 8     | PASS             |                   | PASS         |
+--------------+------------------+-------------------+--------------+
| FreeBSD 11.2 |                  | PASS              | PASS         |
+--------------+------------------+-------------------+--------------+

Ubuntu 18.04
	Kernel: 4.15.0-generic
	GCC: 7.4

CentOS 8
	Kernel: 4.18.0.el8_0
	GCC: 8.2

FreeBSD 11.2
	Kernel: 11.2
	GCC: 8.3

https://lab.dpdk.org/results/dashboard/patchsets/8434/

UNH-IOL DPDK Performance Test Lab

To manage your email subscriptions visit: 
https://lab.dpdk.org/results/dashboard/preferences/subscriptions/

^ permalink raw reply	[flat|nested] 4+ messages in thread

* [dpdk-test-report] |SUCCESS| pw62740 [PATCH] net/ice: net/ice: free the HW tables when close device
       [not found] <20191108094039.47840-1-qi.z.zhang@intel.com>
@ 2019-11-08  9:39 ` checkpatch
  0 siblings, 0 replies; 4+ messages in thread
From: checkpatch @ 2019-11-08  9:39 UTC (permalink / raw)
  To: test-report

Test-Label: checkpatch
Test-Status: SUCCESS
http://dpdk.org/patch/62740

_coding style OK_



^ permalink raw reply	[flat|nested] 4+ messages in thread

end of thread, back to index

Thread overview: 4+ messages (download: mbox.gz / follow: Atom feed)
-- links below jump to the message on this page --
2019-11-08 10:25 [dpdk-test-report] |SUCCESS| pw62740 [PATCH] net/ice: net/ice: free the HW tables when close device dpdklab
  -- strict thread matches above, loose matches on Subject: below --
2019-11-08 13:56 dpdklab
2019-11-08 10:27 dpdklab
     [not found] <20191108094039.47840-1-qi.z.zhang@intel.com>
2019-11-08  9:39 ` checkpatch

automatic DPDK test reports

Archives are clonable:
	git clone --mirror http://inbox.dpdk.org/test-report/0 test-report/git/0.git

	# If you have public-inbox 1.1+ installed, you may
	# initialize and index your mirror using the following commands:
	public-inbox-init -V2 test-report test-report/ http://inbox.dpdk.org/test-report \
		test-report@dpdk.org
	public-inbox-index test-report


Newsgroup available over NNTP:
	nntp://inbox.dpdk.org/inbox.dpdk.test-report


AGPL code for this site: git clone https://public-inbox.org/ public-inbox