automatic DPDK test reports
 help / color / Atom feed
* [dpdk-test-report] |SUCCESS| pw62766 [PATCH v3] app/test-crypto-perf: support PDCP
       [not found] <20191108104610.7474-1-akhil.goyal@nxp.com>
@ 2019-11-08 11:03 ` checkpatch
  2019-11-09 21:08 ` [dpdk-test-report] |SUCCESS| pw62766 " 0-day Robot
  1 sibling, 0 replies; 5+ messages in thread
From: checkpatch @ 2019-11-08 11:03 UTC (permalink / raw)
  To: test-report

Test-Label: checkpatch
Test-Status: SUCCESS
http://dpdk.org/patch/62766

_coding style OK_



^ permalink raw reply	[flat|nested] 5+ messages in thread

* [dpdk-test-report] |SUCCESS| pw62766 app/test-crypto-perf: support PDCP
       [not found] <20191108104610.7474-1-akhil.goyal@nxp.com>
  2019-11-08 11:03 ` [dpdk-test-report] |SUCCESS| pw62766 [PATCH v3] app/test-crypto-perf: support PDCP checkpatch
@ 2019-11-09 21:08 ` " 0-day Robot
  1 sibling, 0 replies; 5+ messages in thread
From: 0-day Robot @ 2019-11-09 21:08 UTC (permalink / raw)
  To: test-report; +Cc: robot

From: robot@bytheb.org

Test-Label: travis-robot
Test-Status: SUCCESS
http://dpdk.org/patch/62766

_Travis build: passed_
Build URL: https://travis-ci.com/ovsrobot/dpdk/builds/135629783

^ permalink raw reply	[flat|nested] 5+ messages in thread

* [dpdk-test-report] |SUCCESS| pw62766 [PATCH] [v3] app/test-crypto-perf: support PDCP
@ 2019-11-08 16:33 " dpdklab
  0 siblings, 0 replies; 5+ messages in thread
From: dpdklab @ 2019-11-08 16:33 UTC (permalink / raw)
  To: Ali Alnubani, Test Report; +Cc: dpdk-test-reports

[-- Attachment #1: Type: text/plain, Size: 3906 bytes --]

Test-Label: iol-mellanox-Performance
Test-Status: SUCCESS
http://dpdk.org/patch/62766

_Performance Testing PASS_

Submitter: Akhil Goyal <akhil.goyal@nxp.com>
Date: Friday, November 08 2019 10:46:10 
DPDK git baseline: Repo:dpdk
  Branch: master
  CommitID:9a643edb2b74c5993465089aa23178cd9ad612cc

62766 --> performance testing pass

Test environment and result as below:

Ubuntu 18.04
Kernel: 4.15.0-generic
GCC: 7.4
NIC: Mellanox ConnectX-5 100000 Mbps
Target: x86_64-native-linuxapp-gcc
Fail/Total: 0/6

Detail performance results: 
+------------+---------+-------------------------------------+
| frame_size | txd/rxd | throughput difference from expected |
+============+=========+=====================================+
| 64         | 256     | 0.133                               |
+------------+---------+-------------------------------------+
| 128        | 256     | 0.225                               |
+------------+---------+-------------------------------------+
| 256        | 256     | -0.157                              |
+------------+---------+-------------------------------------+
| 512        | 256     | 0.129                               |
+------------+---------+-------------------------------------+
| 1024       | 256     | 0.036                               |
+------------+---------+-------------------------------------+
| 1518       | 256     | -0.025                              |
+------------+---------+-------------------------------------+

Ubuntu 18.04
Kernel: 4.15.0-generic
GCC: 7.4
NIC: Mellanox ConnectX-4 Lx 40000 Mbps
Target: x86_64-native-linuxapp-gcc
Fail/Total: 0/6

Detail performance results: 
+------------+---------+-------------------------------------+
| frame_size | txd/rxd | throughput difference from expected |
+============+=========+=====================================+
| 64         | 256     | -0.017                              |
+------------+---------+-------------------------------------+
| 128        | 256     | -0.168                              |
+------------+---------+-------------------------------------+
| 256        | 256     | 0.011                               |
+------------+---------+-------------------------------------+
| 512        | 256     | -0.042                              |
+------------+---------+-------------------------------------+
| 1024       | 256     | 0.027                               |
+------------+---------+-------------------------------------+
| 1518       | 256     | 0.016                               |
+------------+---------+-------------------------------------+

Ubuntu 18.04
Kernel: 4.15.0-generic
GCC: 7.4
NIC: Mellanox ConnectX-4 Lx 25000 Mbps
Target: x86_64-native-linuxapp-gcc
Fail/Total: 0/6

Detail performance results: 
+------------+---------+-------------------------------------+
| frame_size | txd/rxd | throughput difference from expected |
+============+=========+=====================================+
| 64         | 256     | 0.386                               |
+------------+---------+-------------------------------------+
| 128        | 256     | 0.006                               |
+------------+---------+-------------------------------------+
| 256        | 256     | 0.049                               |
+------------+---------+-------------------------------------+
| 512        | 256     | 0.022                               |
+------------+---------+-------------------------------------+
| 1024       | 256     | 0.015                               |
+------------+---------+-------------------------------------+
| 1518       | 256     | 0.011                               |
+------------+---------+-------------------------------------+

https://lab.dpdk.org/results/dashboard/patchsets/8439/

UNH-IOL DPDK Performance Test Lab

To manage your email subscriptions visit: 
https://lab.dpdk.org/results/dashboard/preferences/subscriptions/

^ permalink raw reply	[flat|nested] 5+ messages in thread

* [dpdk-test-report] |SUCCESS| pw62766 [PATCH] [v3] app/test-crypto-perf: support PDCP
@ 2019-11-08 11:42 dpdklab
  0 siblings, 0 replies; 5+ messages in thread
From: dpdklab @ 2019-11-08 11:42 UTC (permalink / raw)
  To: Test Report; +Cc: dpdk-test-reports

[-- Attachment #1: Type: text/plain, Size: 1326 bytes --]

Test-Label: iol-compilation
Test-Status: SUCCESS
http://dpdk.org/patch/62766

_Compile Testing PASS_

Submitter: Akhil Goyal <akhil.goyal@nxp.com>
Date: Friday, November 08 2019 10:46:10 
DPDK git baseline: Repo:dpdk
  Branch: master
  CommitID:9a643edb2b74c5993465089aa23178cd9ad612cc

62766 --> compile testing pass

Test environment and result as below:

+--------------+------------------+-------------------+--------------+
| Environment  | dpdk_compile_ovs | dpdk_compile_spdk | dpdk_compile |
+==============+==================+===================+==============+
| Ubuntu 18.04 | PASS             | PASS              | PASS         |
+--------------+------------------+-------------------+--------------+
| CentOS 8     | PASS             |                   | PASS         |
+--------------+------------------+-------------------+--------------+
| FreeBSD 11.2 |                  | PASS              | PASS         |
+--------------+------------------+-------------------+--------------+

Ubuntu 18.04
	Kernel: 4.15.0-generic
	GCC: 7.4

CentOS 8
	Kernel: 4.18.0.el8_0
	GCC: 8.2

FreeBSD 11.2
	Kernel: 11.2
	GCC: 8.3

https://lab.dpdk.org/results/dashboard/patchsets/8439/

UNH-IOL DPDK Performance Test Lab

To manage your email subscriptions visit: 
https://lab.dpdk.org/results/dashboard/preferences/subscriptions/

^ permalink raw reply	[flat|nested] 5+ messages in thread

* [dpdk-test-report] |SUCCESS| pw62766 [PATCH] [v3] app/test-crypto-perf: support PDCP
@ 2019-11-08 11:40 dpdklab
  0 siblings, 0 replies; 5+ messages in thread
From: dpdklab @ 2019-11-08 11:40 UTC (permalink / raw)
  To: Test Report; +Cc: dpdk-test-reports

[-- Attachment #1: Type: text/plain, Size: 1991 bytes --]

Test-Label: iol-intel-Performance
Test-Status: SUCCESS
http://dpdk.org/patch/62766

_Performance Testing PASS_

Submitter: Akhil Goyal <akhil.goyal@nxp.com>
Date: Friday, November 08 2019 10:46:10 
DPDK git baseline: Repo:dpdk
  Branch: master
  CommitID:9a643edb2b74c5993465089aa23178cd9ad612cc

62766 --> performance testing pass

Test environment and result as below:

Ubuntu 18.04
Kernel: 4.15.0-generic
GCC: 7.4
NIC: Intel Corporation Ethernet Converged Network Adapter 82599ES 10000 Mbps
Target: x86_64-native-linuxapp-gcc
Fail/Total: 0/3

Detail performance results: 
+------------+---------+-------------------------------------+
| frame_size | txd/rxd | throughput difference from expected |
+============+=========+=====================================+
| 64         | 128     | -0.051                              |
+------------+---------+-------------------------------------+
| 64         | 512     | -0.285                              |
+------------+---------+-------------------------------------+
| 64         | 2048    | 0.169                               |
+------------+---------+-------------------------------------+

Ubuntu 18.04
Kernel: 4.15.0-generic
GCC: 7.4
NIC: Intel Corporation Ethernet Converged Network Adapter XL710-QDA2 40000 Mbps
Target: x86_64-native-linuxapp-gcc
Fail/Total: 0/2

Detail performance results: 
+------------+---------+-------------------------------------+
| frame_size | txd/rxd | throughput difference from expected |
+============+=========+=====================================+
| 64         | 512     | 0.184                               |
+------------+---------+-------------------------------------+
| 64         | 2048    | 0.128                               |
+------------+---------+-------------------------------------+

https://lab.dpdk.org/results/dashboard/patchsets/8439/

UNH-IOL DPDK Performance Test Lab

To manage your email subscriptions visit: 
https://lab.dpdk.org/results/dashboard/preferences/subscriptions/

^ permalink raw reply	[flat|nested] 5+ messages in thread

end of thread, back to index

Thread overview: 5+ messages (download: mbox.gz / follow: Atom feed)
-- links below jump to the message on this page --
     [not found] <20191108104610.7474-1-akhil.goyal@nxp.com>
2019-11-08 11:03 ` [dpdk-test-report] |SUCCESS| pw62766 [PATCH v3] app/test-crypto-perf: support PDCP checkpatch
2019-11-09 21:08 ` [dpdk-test-report] |SUCCESS| pw62766 " 0-day Robot
2019-11-08 16:33 [dpdk-test-report] |SUCCESS| pw62766 [PATCH] [v3] " dpdklab
  -- strict thread matches above, loose matches on Subject: below --
2019-11-08 11:42 dpdklab
2019-11-08 11:40 dpdklab

automatic DPDK test reports

Archives are clonable:
	git clone --mirror http://inbox.dpdk.org/test-report/0 test-report/git/0.git

	# If you have public-inbox 1.1+ installed, you may
	# initialize and index your mirror using the following commands:
	public-inbox-init -V2 test-report test-report/ http://inbox.dpdk.org/test-report \
		test-report@dpdk.org
	public-inbox-index test-report


Newsgroup available over NNTP:
	nntp://inbox.dpdk.org/inbox.dpdk.test-report


AGPL code for this site: git clone https://public-inbox.org/ public-inbox