[-- Attachment #1: Type: text/plain, Size: 1770 bytes --] _Performance Testing PASS_ Branch: dpdk 9a643edb2b74c5993465089aa23178cd9ad612cc --> performance testing pass Test environment and result as below: Ubuntu 18.04 Kernel: 4.15.0-generic GCC: 7.4 NIC: Intel Corporation Ethernet Converged Network Adapter 82599ES 10000 Mbps Target: x86_64-native-linuxapp-gcc Fail/Total: 0/3 Detail performance results: +------------+---------+-------------------------------------+ | frame_size | txd/rxd | throughput difference from expected | +============+=========+=====================================+ | 64 | 128 | 0.203 | +------------+---------+-------------------------------------+ | 64 | 512 | 0.447 | +------------+---------+-------------------------------------+ | 64 | 2048 | -0.142 | +------------+---------+-------------------------------------+ Ubuntu 18.04 Kernel: 4.15.0-generic GCC: 7.4 NIC: Intel Corporation Ethernet Converged Network Adapter XL710-QDA2 40000 Mbps Target: x86_64-native-linuxapp-gcc Fail/Total: 0/2 Detail performance results: +------------+---------+-------------------------------------+ | frame_size | txd/rxd | throughput difference from expected | +============+=========+=====================================+ | 64 | 512 | -0.845 | +------------+---------+-------------------------------------+ | 64 | 2048 | 0.057 | +------------+---------+-------------------------------------+ https://lab.dpdk.org/results/dashboard/tarballs/7000/ UNH-IOL DPDK Performance Test Lab To manage your email subscriptions visit: https://lab.dpdk.org/results/dashboard/preferences/subscriptions/
[-- Attachment #1: Type: text/plain, Size: 1111 bytes --] _Compile Testing PASS_ Branch: dpdk 9a643edb2b74c5993465089aa23178cd9ad612cc --> compile testing pass Test environment and result as below: +--------------+------------------+-------------------+--------------+ | Environment | dpdk_compile_ovs | dpdk_compile_spdk | dpdk_compile | +==============+==================+===================+==============+ | Ubuntu 18.04 | PASS | PASS | PASS | +--------------+------------------+-------------------+--------------+ | CentOS 8 | PASS | | PASS | +--------------+------------------+-------------------+--------------+ | FreeBSD 11.2 | | PASS | PASS | +--------------+------------------+-------------------+--------------+ Ubuntu 18.04 Kernel: 4.15.0-generic GCC: 7.4 CentOS 8 Kernel: 4.18.0.el8_0 GCC: 8.2 FreeBSD 11.2 Kernel: 11.2 GCC: 8.3 https://lab.dpdk.org/results/dashboard/tarballs/7000/ UNH-IOL DPDK Performance Test Lab To manage your email subscriptions visit: https://lab.dpdk.org/results/dashboard/preferences/subscriptions/
[-- Attachment #1: Type: text/plain, Size: 3682 bytes --] _Performance Testing PASS_ Branch: dpdk 9a643edb2b74c5993465089aa23178cd9ad612cc --> performance testing pass Test environment and result as below: Ubuntu 18.04 Kernel: 4.15.0-generic GCC: 7.4 NIC: Mellanox ConnectX-5 100000 Mbps Target: x86_64-native-linuxapp-gcc Fail/Total: 0/6 Detail performance results: +------------+---------+-------------------------------------+ | frame_size | txd/rxd | throughput difference from expected | +============+=========+=====================================+ | 64 | 256 | 0.283 | +------------+---------+-------------------------------------+ | 128 | 256 | -0.075 | +------------+---------+-------------------------------------+ | 256 | 256 | 0.035 | +------------+---------+-------------------------------------+ | 512 | 256 | -0.005 | +------------+---------+-------------------------------------+ | 1024 | 256 | -0.085 | +------------+---------+-------------------------------------+ | 1518 | 256 | -0.021 | +------------+---------+-------------------------------------+ Ubuntu 18.04 Kernel: 4.15.0-generic GCC: 7.4 NIC: Mellanox ConnectX-4 Lx 25000 Mbps Target: x86_64-native-linuxapp-gcc Fail/Total: 0/6 Detail performance results: +------------+---------+-------------------------------------+ | frame_size | txd/rxd | throughput difference from expected | +============+=========+=====================================+ | 64 | 256 | -0.254 | +------------+---------+-------------------------------------+ | 128 | 256 | 0.074 | +------------+---------+-------------------------------------+ | 256 | 256 | 0.002 | +------------+---------+-------------------------------------+ | 512 | 256 | 0.009 | +------------+---------+-------------------------------------+ | 1024 | 256 | -0.009 | +------------+---------+-------------------------------------+ | 1518 | 256 | -0.002 | +------------+---------+-------------------------------------+ Ubuntu 18.04 Kernel: 4.15.0-generic GCC: 7.4 NIC: Mellanox ConnectX-4 Lx 40000 Mbps Target: x86_64-native-linuxapp-gcc Fail/Total: 0/6 Detail performance results: +------------+---------+-------------------------------------+ | frame_size | txd/rxd | throughput difference from expected | +============+=========+=====================================+ | 64 | 256 | -0.011 | +------------+---------+-------------------------------------+ | 128 | 256 | 0.271 | +------------+---------+-------------------------------------+ | 256 | 256 | -0.098 | +------------+---------+-------------------------------------+ | 512 | 256 | 0.040 | +------------+---------+-------------------------------------+ | 1024 | 256 | -0.006 | +------------+---------+-------------------------------------+ | 1518 | 256 | -0.001 | +------------+---------+-------------------------------------+ https://lab.dpdk.org/results/dashboard/tarballs/7000/ UNH-IOL DPDK Performance Test Lab To manage your email subscriptions visit: https://lab.dpdk.org/results/dashboard/preferences/subscriptions/
[-- Attachment #1: Type: text/plain, Size: 606 bytes --] _Performance Testing PASS_ Branch: dpdk 9a643edb2b74c5993465089aa23178cd9ad612cc --> performance testing pass Test environment and result as below: Ubuntu 18.04 Kernel: 4.15.0-generic GCC: 7.4 NIC: Intel Corporation Ethernet Converged Network Adapter 82599ES 10000 Mbps Target: x86_64-native-linuxapp-gcc Fail/Total: 0/1 Detail performance results: See logs from the ci website for more information. https://lab.dpdk.org/results/dashboard/tarballs/7000/ UNH-IOL DPDK Performance Test Lab To manage your email subscriptions visit: https://lab.dpdk.org/results/dashboard/preferences/subscriptions/
[-- Attachment #1: Type: text/plain, Size: 609 bytes --] _Performance Testing PASS_ Branch: dpdk 9a643edb2b74c5993465089aa23178cd9ad612cc --> performance testing pass Test environment and result as below: Ubuntu 18.04 Kernel: 4.15.0-generic GCC: 7.4 NIC: Intel Corporation Ethernet Converged Network Adapter XL710-QDA2 40000 Mbps Target: x86_64-native-linuxapp-gcc Fail/Total: 0/1 Detail performance results: See logs from the ci website for more information. https://lab.dpdk.org/results/dashboard/tarballs/7000/ UNH-IOL DPDK Performance Test Lab To manage your email subscriptions visit: https://lab.dpdk.org/results/dashboard/preferences/subscriptions/
[-- Attachment #1: Type: text/plain, Size: 568 bytes --] _Performance Testing PASS_ Branch: dpdk 9a643edb2b74c5993465089aa23178cd9ad612cc --> performance testing pass Test environment and result as below: Ubuntu 18.04 Kernel: 4.15.0-generic GCC: 7.4 NIC: Mellanox ConnectX-4 Lx 40000 Mbps Target: x86_64-native-linuxapp-gcc Fail/Total: 0/1 Detail performance results: See logs from the ci website for more information. https://lab.dpdk.org/results/dashboard/tarballs/7000/ UNH-IOL DPDK Performance Test Lab To manage your email subscriptions visit: https://lab.dpdk.org/results/dashboard/preferences/subscriptions/
[-- Attachment #1: Type: text/plain, Size: 566 bytes --] _Performance Testing PASS_ Branch: dpdk 9a643edb2b74c5993465089aa23178cd9ad612cc --> performance testing pass Test environment and result as below: Ubuntu 18.04 Kernel: 4.15.0-generic GCC: 7.4 NIC: Mellanox ConnectX-5 100000 Mbps Target: x86_64-native-linuxapp-gcc Fail/Total: 0/1 Detail performance results: See logs from the ci website for more information. https://lab.dpdk.org/results/dashboard/tarballs/7000/ UNH-IOL DPDK Performance Test Lab To manage your email subscriptions visit: https://lab.dpdk.org/results/dashboard/preferences/subscriptions/
[-- Attachment #1: Type: text/plain, Size: 568 bytes --] _Performance Testing PASS_ Branch: dpdk 9a643edb2b74c5993465089aa23178cd9ad612cc --> performance testing pass Test environment and result as below: Ubuntu 18.04 Kernel: 4.15.0-generic GCC: 7.4 NIC: Mellanox ConnectX-4 Lx 25000 Mbps Target: x86_64-native-linuxapp-gcc Fail/Total: 0/1 Detail performance results: See logs from the ci website for more information. https://lab.dpdk.org/results/dashboard/tarballs/7000/ UNH-IOL DPDK Performance Test Lab To manage your email subscriptions visit: https://lab.dpdk.org/results/dashboard/preferences/subscriptions/