automatic DPDK test reports
 help / color / Atom feed
* [dpdk-test-report] |SUCCESS| pw62802 [PATCH] examples/performance-thread: add missing SPDX license tag
@ 2019-11-08 17:41 dpdklab
  0 siblings, 0 replies; 4+ messages in thread
From: dpdklab @ 2019-11-08 17:41 UTC (permalink / raw)
  To: Test Report; +Cc: dpdk-test-reports

[-- Attachment #1: Type: text/plain, Size: 1339 bytes --]

Test-Label: iol-compilation
Test-Status: SUCCESS
http://dpdk.org/patch/62802

_Compile Testing PASS_

Submitter: Stephen Hemminger <stephen@networkplumber.org>
Date: Friday, November 08 2019 17:11:46 
DPDK git baseline: Repo:dpdk
  Branch: master
  CommitID:9a643edb2b74c5993465089aa23178cd9ad612cc

62802 --> compile testing pass

Test environment and result as below:

+--------------+--------------+------------------+-------------------+
| Environment  | dpdk_compile | dpdk_compile_ovs | dpdk_compile_spdk |
+==============+==============+==================+===================+
| Ubuntu 18.04 | PASS         | PASS             | PASS              |
+--------------+--------------+------------------+-------------------+
| FreeBSD 11.2 | PASS         |                  | PASS              |
+--------------+--------------+------------------+-------------------+
| CentOS 8     | PASS         | PASS             |                   |
+--------------+--------------+------------------+-------------------+

Ubuntu 18.04
	Kernel: 4.15.0-generic
	GCC: 7.4

FreeBSD 11.2
	Kernel: 11.2
	GCC: 8.3

CentOS 8
	Kernel: 4.18.0.el8_0
	GCC: 8.2

https://lab.dpdk.org/results/dashboard/patchsets/8452/

UNH-IOL DPDK Performance Test Lab

To manage your email subscriptions visit: 
https://lab.dpdk.org/results/dashboard/preferences/subscriptions/

^ permalink raw reply	[flat|nested] 4+ messages in thread

* [dpdk-test-report] |SUCCESS| pw62802 [PATCH] examples/performance-thread: add missing SPDX license tag
@ 2019-11-08 21:45 dpdklab
  0 siblings, 0 replies; 4+ messages in thread
From: dpdklab @ 2019-11-08 21:45 UTC (permalink / raw)
  To: Ali Alnubani, Test Report; +Cc: dpdk-test-reports

[-- Attachment #1: Type: text/plain, Size: 3919 bytes --]

Test-Label: iol-mellanox-Performance
Test-Status: SUCCESS
http://dpdk.org/patch/62802

_Performance Testing PASS_

Submitter: Stephen Hemminger <stephen@networkplumber.org>
Date: Friday, November 08 2019 17:11:46 
DPDK git baseline: Repo:dpdk
  Branch: master
  CommitID:9a643edb2b74c5993465089aa23178cd9ad612cc

62802 --> performance testing pass

Test environment and result as below:

Ubuntu 18.04
Kernel: 4.15.0-generic
GCC: 7.4
NIC: Mellanox ConnectX-5 100000 Mbps
Target: x86_64-native-linuxapp-gcc
Fail/Total: 0/6

Detail performance results: 
+------------+---------+-------------------------------------+
| frame_size | txd/rxd | throughput difference from expected |
+============+=========+=====================================+
| 64         | 256     | -0.053                              |
+------------+---------+-------------------------------------+
| 128        | 256     | 0.015                               |
+------------+---------+-------------------------------------+
| 256        | 256     | -0.073                              |
+------------+---------+-------------------------------------+
| 512        | 256     | 0.163                               |
+------------+---------+-------------------------------------+
| 1024       | 256     | 0.082                               |
+------------+---------+-------------------------------------+
| 1518       | 256     | -0.012                              |
+------------+---------+-------------------------------------+

Ubuntu 18.04
Kernel: 4.15.0-generic
GCC: 7.4
NIC: Mellanox ConnectX-4 Lx 25000 Mbps
Target: x86_64-native-linuxapp-gcc
Fail/Total: 0/6

Detail performance results: 
+------------+---------+-------------------------------------+
| frame_size | txd/rxd | throughput difference from expected |
+============+=========+=====================================+
| 64         | 256     | 0.306                               |
+------------+---------+-------------------------------------+
| 128        | 256     | -0.029                              |
+------------+---------+-------------------------------------+
| 256        | 256     | 0.012                               |
+------------+---------+-------------------------------------+
| 512        | 256     | 0.029                               |
+------------+---------+-------------------------------------+
| 1024       | 256     | 0.005                               |
+------------+---------+-------------------------------------+
| 1518       | 256     | 0.003                               |
+------------+---------+-------------------------------------+

Ubuntu 18.04
Kernel: 4.15.0-generic
GCC: 7.4
NIC: Mellanox ConnectX-4 Lx 40000 Mbps
Target: x86_64-native-linuxapp-gcc
Fail/Total: 0/6

Detail performance results: 
+------------+---------+-------------------------------------+
| frame_size | txd/rxd | throughput difference from expected |
+============+=========+=====================================+
| 64         | 256     | 0.086                               |
+------------+---------+-------------------------------------+
| 128        | 256     | 0.469                               |
+------------+---------+-------------------------------------+
| 256        | 256     | 0.014                               |
+------------+---------+-------------------------------------+
| 512        | 256     | -0.027                              |
+------------+---------+-------------------------------------+
| 1024       | 256     | 0.011                               |
+------------+---------+-------------------------------------+
| 1518       | 256     | 0.009                               |
+------------+---------+-------------------------------------+

https://lab.dpdk.org/results/dashboard/patchsets/8452/

UNH-IOL DPDK Performance Test Lab

To manage your email subscriptions visit: 
https://lab.dpdk.org/results/dashboard/preferences/subscriptions/

^ permalink raw reply	[flat|nested] 4+ messages in thread

* [dpdk-test-report] |SUCCESS| pw62802 [PATCH] examples/performance-thread: add missing SPDX license tag
@ 2019-11-08 17:40 dpdklab
  0 siblings, 0 replies; 4+ messages in thread
From: dpdklab @ 2019-11-08 17:40 UTC (permalink / raw)
  To: Test Report; +Cc: dpdk-test-reports

[-- Attachment #1: Type: text/plain, Size: 2004 bytes --]

Test-Label: iol-intel-Performance
Test-Status: SUCCESS
http://dpdk.org/patch/62802

_Performance Testing PASS_

Submitter: Stephen Hemminger <stephen@networkplumber.org>
Date: Friday, November 08 2019 17:11:46 
DPDK git baseline: Repo:dpdk
  Branch: master
  CommitID:9a643edb2b74c5993465089aa23178cd9ad612cc

62802 --> performance testing pass

Test environment and result as below:

Ubuntu 18.04
Kernel: 4.15.0-generic
GCC: 7.4
NIC: Intel Corporation Ethernet Converged Network Adapter 82599ES 10000 Mbps
Target: x86_64-native-linuxapp-gcc
Fail/Total: 0/3

Detail performance results: 
+------------+---------+-------------------------------------+
| frame_size | txd/rxd | throughput difference from expected |
+============+=========+=====================================+
| 64         | 128     | -0.028                              |
+------------+---------+-------------------------------------+
| 64         | 512     | -0.449                              |
+------------+---------+-------------------------------------+
| 64         | 2048    | 0.326                               |
+------------+---------+-------------------------------------+

Ubuntu 18.04
Kernel: 4.15.0-generic
GCC: 7.4
NIC: Intel Corporation Ethernet Converged Network Adapter XL710-QDA2 40000 Mbps
Target: x86_64-native-linuxapp-gcc
Fail/Total: 0/2

Detail performance results: 
+------------+---------+-------------------------------------+
| frame_size | txd/rxd | throughput difference from expected |
+============+=========+=====================================+
| 64         | 512     | -0.498                              |
+------------+---------+-------------------------------------+
| 64         | 2048    | -0.115                              |
+------------+---------+-------------------------------------+

https://lab.dpdk.org/results/dashboard/patchsets/8452/

UNH-IOL DPDK Performance Test Lab

To manage your email subscriptions visit: 
https://lab.dpdk.org/results/dashboard/preferences/subscriptions/

^ permalink raw reply	[flat|nested] 4+ messages in thread

* [dpdk-test-report] |SUCCESS| pw62802 [PATCH] examples/performance-thread: add missing SPDX license tag
       [not found] <20191108171146.9345-1-stephen@networkplumber.org>
@ 2019-11-08 17:12 ` checkpatch
  0 siblings, 0 replies; 4+ messages in thread
From: checkpatch @ 2019-11-08 17:12 UTC (permalink / raw)
  To: test-report

Test-Label: checkpatch
Test-Status: SUCCESS
http://dpdk.org/patch/62802

_coding style OK_



^ permalink raw reply	[flat|nested] 4+ messages in thread

end of thread, back to index

Thread overview: 4+ messages (download: mbox.gz / follow: Atom feed)
-- links below jump to the message on this page --
2019-11-08 17:41 [dpdk-test-report] |SUCCESS| pw62802 [PATCH] examples/performance-thread: add missing SPDX license tag dpdklab
  -- strict thread matches above, loose matches on Subject: below --
2019-11-08 21:45 dpdklab
2019-11-08 17:40 dpdklab
     [not found] <20191108171146.9345-1-stephen@networkplumber.org>
2019-11-08 17:12 ` checkpatch

automatic DPDK test reports

Archives are clonable:
	git clone --mirror http://inbox.dpdk.org/test-report/0 test-report/git/0.git

	# If you have public-inbox 1.1+ installed, you may
	# initialize and index your mirror using the following commands:
	public-inbox-init -V2 test-report test-report/ http://inbox.dpdk.org/test-report \
		test-report@dpdk.org
	public-inbox-index test-report


Newsgroup available over NNTP:
	nntp://inbox.dpdk.org/inbox.dpdk.test-report


AGPL code for this site: git clone https://public-inbox.org/ public-inbox