automatic DPDK test reports
 help / color / Atom feed
* [dpdk-test-report] |SUCCESS| pw62804 [PATCH] devtools: add SPDX license tag check script
@ 2019-11-08 17:56 dpdklab
  0 siblings, 0 replies; 4+ messages in thread
From: dpdklab @ 2019-11-08 17:56 UTC (permalink / raw)
  To: Test Report; +Cc: dpdk-test-reports

[-- Attachment #1: Type: text/plain, Size: 2004 bytes --]

Test-Label: iol-intel-Performance
Test-Status: SUCCESS
http://dpdk.org/patch/62804

_Performance Testing PASS_

Submitter: Stephen Hemminger <stephen@networkplumber.org>
Date: Friday, November 08 2019 17:23:43 
DPDK git baseline: Repo:dpdk
  Branch: master
  CommitID:9a643edb2b74c5993465089aa23178cd9ad612cc

62804 --> performance testing pass

Test environment and result as below:

Ubuntu 18.04
Kernel: 4.15.0-generic
GCC: 7.4
NIC: Intel Corporation Ethernet Converged Network Adapter 82599ES 10000 Mbps
Target: x86_64-native-linuxapp-gcc
Fail/Total: 0/3

Detail performance results: 
+------------+---------+-------------------------------------+
| frame_size | txd/rxd | throughput difference from expected |
+============+=========+=====================================+
| 64         | 128     | -0.106                              |
+------------+---------+-------------------------------------+
| 64         | 512     | -0.502                              |
+------------+---------+-------------------------------------+
| 64         | 2048    | 0.061                               |
+------------+---------+-------------------------------------+

Ubuntu 18.04
Kernel: 4.15.0-generic
GCC: 7.4
NIC: Intel Corporation Ethernet Converged Network Adapter XL710-QDA2 40000 Mbps
Target: x86_64-native-linuxapp-gcc
Fail/Total: 0/2

Detail performance results: 
+------------+---------+-------------------------------------+
| frame_size | txd/rxd | throughput difference from expected |
+============+=========+=====================================+
| 64         | 512     | 0.299                               |
+------------+---------+-------------------------------------+
| 64         | 2048    | 0.097                               |
+------------+---------+-------------------------------------+

https://lab.dpdk.org/results/dashboard/patchsets/8454/

UNH-IOL DPDK Performance Test Lab

To manage your email subscriptions visit: 
https://lab.dpdk.org/results/dashboard/preferences/subscriptions/

^ permalink raw reply	[flat|nested] 4+ messages in thread

* [dpdk-test-report] |SUCCESS| pw62804 [PATCH] devtools: add SPDX license tag check script
@ 2019-11-08 22:24 dpdklab
  0 siblings, 0 replies; 4+ messages in thread
From: dpdklab @ 2019-11-08 22:24 UTC (permalink / raw)
  To: Ali Alnubani, Test Report; +Cc: dpdk-test-reports

[-- Attachment #1: Type: text/plain, Size: 3919 bytes --]

Test-Label: iol-mellanox-Performance
Test-Status: SUCCESS
http://dpdk.org/patch/62804

_Performance Testing PASS_

Submitter: Stephen Hemminger <stephen@networkplumber.org>
Date: Friday, November 08 2019 17:23:43 
DPDK git baseline: Repo:dpdk
  Branch: master
  CommitID:9a643edb2b74c5993465089aa23178cd9ad612cc

62804 --> performance testing pass

Test environment and result as below:

Ubuntu 18.04
Kernel: 4.15.0-generic
GCC: 7.4
NIC: Mellanox ConnectX-4 Lx 40000 Mbps
Target: x86_64-native-linuxapp-gcc
Fail/Total: 0/6

Detail performance results: 
+------------+---------+-------------------------------------+
| frame_size | txd/rxd | throughput difference from expected |
+============+=========+=====================================+
| 64         | 256     | -0.110                              |
+------------+---------+-------------------------------------+
| 128        | 256     | 0.050                               |
+------------+---------+-------------------------------------+
| 256        | 256     | 0.042                               |
+------------+---------+-------------------------------------+
| 512        | 256     | -0.042                              |
+------------+---------+-------------------------------------+
| 1024       | 256     | 0.002                               |
+------------+---------+-------------------------------------+
| 1518       | 256     | 0.005                               |
+------------+---------+-------------------------------------+

Ubuntu 18.04
Kernel: 4.15.0-generic
GCC: 7.4
NIC: Mellanox ConnectX-5 100000 Mbps
Target: x86_64-native-linuxapp-gcc
Fail/Total: 0/6

Detail performance results: 
+------------+---------+-------------------------------------+
| frame_size | txd/rxd | throughput difference from expected |
+============+=========+=====================================+
| 64         | 256     | -0.128                              |
+------------+---------+-------------------------------------+
| 128        | 256     | 0.011                               |
+------------+---------+-------------------------------------+
| 256        | 256     | 0.016                               |
+------------+---------+-------------------------------------+
| 512        | 256     | 0.010                               |
+------------+---------+-------------------------------------+
| 1024       | 256     | 0.035                               |
+------------+---------+-------------------------------------+
| 1518       | 256     | -0.021                              |
+------------+---------+-------------------------------------+

Ubuntu 18.04
Kernel: 4.15.0-generic
GCC: 7.4
NIC: Mellanox ConnectX-4 Lx 25000 Mbps
Target: x86_64-native-linuxapp-gcc
Fail/Total: 0/6

Detail performance results: 
+------------+---------+-------------------------------------+
| frame_size | txd/rxd | throughput difference from expected |
+============+=========+=====================================+
| 64         | 256     | 0.309                               |
+------------+---------+-------------------------------------+
| 128        | 256     | 0.010                               |
+------------+---------+-------------------------------------+
| 256        | 256     | 0.003                               |
+------------+---------+-------------------------------------+
| 512        | 256     | 0.034                               |
+------------+---------+-------------------------------------+
| 1024       | 256     | 0.002                               |
+------------+---------+-------------------------------------+
| 1518       | 256     | 0.006                               |
+------------+---------+-------------------------------------+

https://lab.dpdk.org/results/dashboard/patchsets/8454/

UNH-IOL DPDK Performance Test Lab

To manage your email subscriptions visit: 
https://lab.dpdk.org/results/dashboard/preferences/subscriptions/

^ permalink raw reply	[flat|nested] 4+ messages in thread

* [dpdk-test-report] |SUCCESS| pw62804 [PATCH] devtools: add SPDX license tag check script
@ 2019-11-08 17:56 dpdklab
  0 siblings, 0 replies; 4+ messages in thread
From: dpdklab @ 2019-11-08 17:56 UTC (permalink / raw)
  To: Test Report; +Cc: dpdk-test-reports

[-- Attachment #1: Type: text/plain, Size: 1339 bytes --]

Test-Label: iol-compilation
Test-Status: SUCCESS
http://dpdk.org/patch/62804

_Compile Testing PASS_

Submitter: Stephen Hemminger <stephen@networkplumber.org>
Date: Friday, November 08 2019 17:23:43 
DPDK git baseline: Repo:dpdk
  Branch: master
  CommitID:9a643edb2b74c5993465089aa23178cd9ad612cc

62804 --> compile testing pass

Test environment and result as below:

+--------------+--------------+------------------+-------------------+
| Environment  | dpdk_compile | dpdk_compile_ovs | dpdk_compile_spdk |
+==============+==============+==================+===================+
| Ubuntu 18.04 | PASS         | PASS             | PASS              |
+--------------+--------------+------------------+-------------------+
| FreeBSD 11.2 | PASS         |                  | PASS              |
+--------------+--------------+------------------+-------------------+
| CentOS 8     | PASS         | PASS             |                   |
+--------------+--------------+------------------+-------------------+

Ubuntu 18.04
	Kernel: 4.15.0-generic
	GCC: 7.4

FreeBSD 11.2
	Kernel: 11.2
	GCC: 8.3

CentOS 8
	Kernel: 4.18.0.el8_0
	GCC: 8.2

https://lab.dpdk.org/results/dashboard/patchsets/8454/

UNH-IOL DPDK Performance Test Lab

To manage your email subscriptions visit: 
https://lab.dpdk.org/results/dashboard/preferences/subscriptions/

^ permalink raw reply	[flat|nested] 4+ messages in thread

* [dpdk-test-report] |SUCCESS| pw62804 [PATCH] devtools: add SPDX license tag check script
       [not found] <20191108172343.10095-1-stephen@networkplumber.org>
@ 2019-11-08 17:24 ` checkpatch
  0 siblings, 0 replies; 4+ messages in thread
From: checkpatch @ 2019-11-08 17:24 UTC (permalink / raw)
  To: test-report

Test-Label: checkpatch
Test-Status: SUCCESS
http://dpdk.org/patch/62804

_coding style OK_



^ permalink raw reply	[flat|nested] 4+ messages in thread

end of thread, back to index

Thread overview: 4+ messages (download: mbox.gz / follow: Atom feed)
-- links below jump to the message on this page --
2019-11-08 17:56 [dpdk-test-report] |SUCCESS| pw62804 [PATCH] devtools: add SPDX license tag check script dpdklab
  -- strict thread matches above, loose matches on Subject: below --
2019-11-08 22:24 dpdklab
2019-11-08 17:56 dpdklab
     [not found] <20191108172343.10095-1-stephen@networkplumber.org>
2019-11-08 17:24 ` checkpatch

automatic DPDK test reports

Archives are clonable:
	git clone --mirror http://inbox.dpdk.org/test-report/0 test-report/git/0.git

	# If you have public-inbox 1.1+ installed, you may
	# initialize and index your mirror using the following commands:
	public-inbox-init -V2 test-report test-report/ http://inbox.dpdk.org/test-report \
		test-report@dpdk.org
	public-inbox-index test-report


Newsgroup available over NNTP:
	nntp://inbox.dpdk.org/inbox.dpdk.test-report


AGPL code for this site: git clone https://public-inbox.org/ public-inbox