automatic DPDK test reports
 help / color / Atom feed
* [dpdk-test-report] |SUCCESS| [GIT MASTER] ac00c96923bb02b9db7b336aa2c5fba4d563b945
@ 2019-11-08 19:28 dpdklab
  0 siblings, 0 replies; 3+ messages in thread
From: dpdklab @ 2019-11-08 19:28 UTC (permalink / raw)
  To: Test Report; +Cc: dpdk-test-reports

[-- Attachment #1: Type: text/plain, Size: 1120 bytes --]

_Compile Testing PASS_

Branch: dpdk-next-net

ac00c96923bb02b9db7b336aa2c5fba4d563b945 --> compile testing pass

Test environment and result as below:

+--------------+--------------+-------------------+------------------+
| Environment  | dpdk_compile | dpdk_compile_spdk | dpdk_compile_ovs |
+==============+==============+===================+==================+
| Ubuntu 18.04 | PASS         | PASS              | PASS             |
+--------------+--------------+-------------------+------------------+
| FreeBSD 11.2 | PASS         | PASS              |                  |
+--------------+--------------+-------------------+------------------+
| CentOS 8     | PASS         |                   | PASS             |
+--------------+--------------+-------------------+------------------+

Ubuntu 18.04
	Kernel: 4.15.0-generic
	GCC: 7.4

FreeBSD 11.2
	Kernel: 11.2
	GCC: 8.3

CentOS 8
	Kernel: 4.18.0.el8_0
	GCC: 8.2

https://lab.dpdk.org/results/dashboard/tarballs/7022/

UNH-IOL DPDK Performance Test Lab

To manage your email subscriptions visit: 
https://lab.dpdk.org/results/dashboard/preferences/subscriptions/

^ permalink raw reply	[flat|nested] 3+ messages in thread

* [dpdk-test-report] |SUCCESS| [GIT MASTER] ac00c96923bb02b9db7b336aa2c5fba4d563b945
@ 2019-11-09  1:37 dpdklab
  0 siblings, 0 replies; 3+ messages in thread
From: dpdklab @ 2019-11-09  1:37 UTC (permalink / raw)
  To: Ali Alnubani, Test Report; +Cc: dpdk-test-reports

[-- Attachment #1: Type: text/plain, Size: 3691 bytes --]

_Performance Testing PASS_

Branch: dpdk-next-net

ac00c96923bb02b9db7b336aa2c5fba4d563b945 --> performance testing pass

Test environment and result as below:

Ubuntu 18.04
Kernel: 4.15.0-generic
GCC: 7.4
NIC: Mellanox ConnectX-5 100000 Mbps
Target: x86_64-native-linuxapp-gcc
Fail/Total: 0/6

Detail performance results: 
+------------+---------+-------------------------------------+
| frame_size | txd/rxd | throughput difference from expected |
+============+=========+=====================================+
| 64         | 256     | 0.017                               |
+------------+---------+-------------------------------------+
| 128        | 256     | 0.007                               |
+------------+---------+-------------------------------------+
| 256        | 256     | -0.193                              |
+------------+---------+-------------------------------------+
| 512        | 256     | -0.006                              |
+------------+---------+-------------------------------------+
| 1024       | 256     | 0.048                               |
+------------+---------+-------------------------------------+
| 1518       | 256     | -0.025                              |
+------------+---------+-------------------------------------+

Ubuntu 18.04
Kernel: 4.15.0-generic
GCC: 7.4
NIC: Mellanox ConnectX-4 Lx 40000 Mbps
Target: x86_64-native-linuxapp-gcc
Fail/Total: 0/6

Detail performance results: 
+------------+---------+-------------------------------------+
| frame_size | txd/rxd | throughput difference from expected |
+============+=========+=====================================+
| 64         | 256     | 0.026                               |
+------------+---------+-------------------------------------+
| 128        | 256     | 0.233                               |
+------------+---------+-------------------------------------+
| 256        | 256     | 0.055                               |
+------------+---------+-------------------------------------+
| 512        | 256     | -0.031                              |
+------------+---------+-------------------------------------+
| 1024       | 256     | 0.010                               |
+------------+---------+-------------------------------------+
| 1518       | 256     | 0.006                               |
+------------+---------+-------------------------------------+

Ubuntu 18.04
Kernel: 4.15.0-generic
GCC: 7.4
NIC: Mellanox ConnectX-4 Lx 25000 Mbps
Target: x86_64-native-linuxapp-gcc
Fail/Total: 0/6

Detail performance results: 
+------------+---------+-------------------------------------+
| frame_size | txd/rxd | throughput difference from expected |
+============+=========+=====================================+
| 64         | 256     | 0.360                               |
+------------+---------+-------------------------------------+
| 128        | 256     | -0.018                              |
+------------+---------+-------------------------------------+
| 256        | 256     | -0.005                              |
+------------+---------+-------------------------------------+
| 512        | 256     | -0.009                              |
+------------+---------+-------------------------------------+
| 1024       | 256     | 0                                   |
+------------+---------+-------------------------------------+
| 1518       | 256     | 0.007                               |
+------------+---------+-------------------------------------+

https://lab.dpdk.org/results/dashboard/tarballs/7022/

UNH-IOL DPDK Performance Test Lab

To manage your email subscriptions visit: 
https://lab.dpdk.org/results/dashboard/preferences/subscriptions/

^ permalink raw reply	[flat|nested] 3+ messages in thread

* [dpdk-test-report] |SUCCESS| [GIT MASTER] ac00c96923bb02b9db7b336aa2c5fba4d563b945
@ 2019-11-08 19:26 dpdklab
  0 siblings, 0 replies; 3+ messages in thread
From: dpdklab @ 2019-11-08 19:26 UTC (permalink / raw)
  To: Test Report; +Cc: dpdk-test-reports

[-- Attachment #1: Type: text/plain, Size: 1779 bytes --]

_Performance Testing PASS_

Branch: dpdk-next-net

ac00c96923bb02b9db7b336aa2c5fba4d563b945 --> performance testing pass

Test environment and result as below:

Ubuntu 18.04
Kernel: 4.15.0-generic
GCC: 7.4
NIC: Intel Corporation Ethernet Converged Network Adapter 82599ES 10000 Mbps
Target: x86_64-native-linuxapp-gcc
Fail/Total: 0/3

Detail performance results: 
+------------+---------+-------------------------------------+
| frame_size | txd/rxd | throughput difference from expected |
+============+=========+=====================================+
| 64         | 128     | 0.194                               |
+------------+---------+-------------------------------------+
| 64         | 512     | 0.151                               |
+------------+---------+-------------------------------------+
| 64         | 2048    | 0.256                               |
+------------+---------+-------------------------------------+

Ubuntu 18.04
Kernel: 4.15.0-generic
GCC: 7.4
NIC: Intel Corporation Ethernet Converged Network Adapter XL710-QDA2 40000 Mbps
Target: x86_64-native-linuxapp-gcc
Fail/Total: 0/2

Detail performance results: 
+------------+---------+-------------------------------------+
| frame_size | txd/rxd | throughput difference from expected |
+============+=========+=====================================+
| 64         | 512     | 0.110                               |
+------------+---------+-------------------------------------+
| 64         | 2048    | 0.166                               |
+------------+---------+-------------------------------------+

https://lab.dpdk.org/results/dashboard/tarballs/7022/

UNH-IOL DPDK Performance Test Lab

To manage your email subscriptions visit: 
https://lab.dpdk.org/results/dashboard/preferences/subscriptions/

^ permalink raw reply	[flat|nested] 3+ messages in thread

end of thread, back to index

Thread overview: 3+ messages (download: mbox.gz / follow: Atom feed)
-- links below jump to the message on this page --
2019-11-08 19:28 [dpdk-test-report] |SUCCESS| [GIT MASTER] ac00c96923bb02b9db7b336aa2c5fba4d563b945 dpdklab
  -- strict thread matches above, loose matches on Subject: below --
2019-11-09  1:37 dpdklab
2019-11-08 19:26 dpdklab

automatic DPDK test reports

Archives are clonable:
	git clone --mirror http://inbox.dpdk.org/test-report/0 test-report/git/0.git

	# If you have public-inbox 1.1+ installed, you may
	# initialize and index your mirror using the following commands:
	public-inbox-init -V2 test-report test-report/ http://inbox.dpdk.org/test-report \
		test-report@dpdk.org
	public-inbox-index test-report


Newsgroup available over NNTP:
	nntp://inbox.dpdk.org/inbox.dpdk.test-report


AGPL code for this site: git clone https://public-inbox.org/ public-inbox