* [dpdk-test-report] |SUCCESS| pw62808 [PATCH] [v6] ethdev: add max LRO packet size
@ 2019-11-09  2:55 dpdklab
  0 siblings, 0 replies; 4+ messages in thread
From: dpdklab @ 2019-11-09  2:55 UTC (permalink / raw)
  To: Ali Alnubani, Test Report; +Cc: dpdk-test-reports
[-- Attachment #1: Type: text/plain, Size: 3910 bytes --]
Test-Label: iol-mellanox-Performance
Test-Status: SUCCESS
http://dpdk.org/patch/62808
_Performance Testing PASS_
Submitter: Thomas Monjalon <thomas@monjalon.net>
Date: Friday, November 08 2019 23:07:53 
DPDK git baseline: Repo:dpdk
  Branch: master
  CommitID:6bbc5a9236250b708c6d1931e966c74da381b4f2
62808 --> performance testing pass
Test environment and result as below:
Ubuntu 18.04
Kernel: 4.15.0-generic
GCC: 7.4
NIC: Mellanox ConnectX-5 100000 Mbps
Target: x86_64-native-linuxapp-gcc
Fail/Total: 0/6
Detail performance results: 
+------------+---------+-------------------------------------+
| frame_size | txd/rxd | throughput difference from expected |
+============+=========+=====================================+
| 64         | 256     | -0.106                              |
+------------+---------+-------------------------------------+
| 128        | 256     | 0.150                               |
+------------+---------+-------------------------------------+
| 256        | 256     | 0.083                               |
+------------+---------+-------------------------------------+
| 512        | 256     | -0.039                              |
+------------+---------+-------------------------------------+
| 1024       | 256     | -0.025                              |
+------------+---------+-------------------------------------+
| 1518       | 256     | 0.005                               |
+------------+---------+-------------------------------------+
Ubuntu 18.04
Kernel: 4.15.0-generic
GCC: 7.4
NIC: Mellanox ConnectX-4 Lx 40000 Mbps
Target: x86_64-native-linuxapp-gcc
Fail/Total: 0/6
Detail performance results: 
+------------+---------+-------------------------------------+
| frame_size | txd/rxd | throughput difference from expected |
+============+=========+=====================================+
| 64         | 256     | 0.071                               |
+------------+---------+-------------------------------------+
| 128        | 256     | -0.190                              |
+------------+---------+-------------------------------------+
| 256        | 256     | -0.033                              |
+------------+---------+-------------------------------------+
| 512        | 256     | -0.001                              |
+------------+---------+-------------------------------------+
| 1024       | 256     | 0.021                               |
+------------+---------+-------------------------------------+
| 1518       | 256     | 0.006                               |
+------------+---------+-------------------------------------+
Ubuntu 18.04
Kernel: 4.15.0-generic
GCC: 7.4
NIC: Mellanox ConnectX-4 Lx 25000 Mbps
Target: x86_64-native-linuxapp-gcc
Fail/Total: 0/6
Detail performance results: 
+------------+---------+-------------------------------------+
| frame_size | txd/rxd | throughput difference from expected |
+============+=========+=====================================+
| 64         | 256     | 0.124                               |
+------------+---------+-------------------------------------+
| 128        | 256     | 0.022                               |
+------------+---------+-------------------------------------+
| 256        | 256     | 0.013                               |
+------------+---------+-------------------------------------+
| 512        | 256     | -0.014                              |
+------------+---------+-------------------------------------+
| 1024       | 256     | -0.015                              |
+------------+---------+-------------------------------------+
| 1518       | 256     | -0.010                              |
+------------+---------+-------------------------------------+
https://lab.dpdk.org/results/dashboard/patchsets/8457/
UNH-IOL DPDK Performance Test Lab
To manage your email subscriptions visit: 
https://lab.dpdk.org/results/dashboard/preferences/subscriptions/
^ permalink raw reply	[flat|nested] 4+ messages in thread
* [dpdk-test-report] |SUCCESS| pw62808 [PATCH] [v6] ethdev: add max LRO packet size
@ 2019-11-08 23:43 dpdklab
  0 siblings, 0 replies; 4+ messages in thread
From: dpdklab @ 2019-11-08 23:43 UTC (permalink / raw)
  To: Test Report; +Cc: dpdk-test-reports
[-- Attachment #1: Type: text/plain, Size: 1330 bytes --]
Test-Label: iol-compilation
Test-Status: SUCCESS
http://dpdk.org/patch/62808
_Compile Testing PASS_
Submitter: Thomas Monjalon <thomas@monjalon.net>
Date: Friday, November 08 2019 23:07:53 
DPDK git baseline: Repo:dpdk
  Branch: master
  CommitID:6bbc5a9236250b708c6d1931e966c74da381b4f2
62808 --> compile testing pass
Test environment and result as below:
+--------------+--------------+-------------------+------------------+
| Environment  | dpdk_compile | dpdk_compile_spdk | dpdk_compile_ovs |
+==============+==============+===================+==================+
| Ubuntu 18.04 | PASS         | PASS              | PASS             |
+--------------+--------------+-------------------+------------------+
| FreeBSD 11.2 | PASS         | PASS              |                  |
+--------------+--------------+-------------------+------------------+
| CentOS 8     | PASS         |                   | PASS             |
+--------------+--------------+-------------------+------------------+
Ubuntu 18.04
	Kernel: 4.15.0-generic
	GCC: 7.4
FreeBSD 11.2
	Kernel: 11.2
	GCC: 8.3
CentOS 8
	Kernel: 4.18.0.el8_0
	GCC: 8.2
https://lab.dpdk.org/results/dashboard/patchsets/8457/
UNH-IOL DPDK Performance Test Lab
To manage your email subscriptions visit: 
https://lab.dpdk.org/results/dashboard/preferences/subscriptions/
^ permalink raw reply	[flat|nested] 4+ messages in thread
* [dpdk-test-report] |SUCCESS| pw62808 [PATCH] [v6] ethdev: add max LRO packet size
@ 2019-11-08 23:41 dpdklab
  0 siblings, 0 replies; 4+ messages in thread
From: dpdklab @ 2019-11-08 23:41 UTC (permalink / raw)
  To: Test Report; +Cc: dpdk-test-reports
[-- Attachment #1: Type: text/plain, Size: 1995 bytes --]
Test-Label: iol-intel-Performance
Test-Status: SUCCESS
http://dpdk.org/patch/62808
_Performance Testing PASS_
Submitter: Thomas Monjalon <thomas@monjalon.net>
Date: Friday, November 08 2019 23:07:53 
DPDK git baseline: Repo:dpdk
  Branch: master
  CommitID:6bbc5a9236250b708c6d1931e966c74da381b4f2
62808 --> performance testing pass
Test environment and result as below:
Ubuntu 18.04
Kernel: 4.15.0-generic
GCC: 7.4
NIC: Intel Corporation Ethernet Converged Network Adapter 82599ES 10000 Mbps
Target: x86_64-native-linuxapp-gcc
Fail/Total: 0/3
Detail performance results: 
+------------+---------+-------------------------------------+
| frame_size | txd/rxd | throughput difference from expected |
+============+=========+=====================================+
| 64         | 128     | 0.051                               |
+------------+---------+-------------------------------------+
| 64         | 512     | -0.171                              |
+------------+---------+-------------------------------------+
| 64         | 2048    | -0.175                              |
+------------+---------+-------------------------------------+
Ubuntu 18.04
Kernel: 4.15.0-generic
GCC: 7.4
NIC: Intel Corporation Ethernet Converged Network Adapter XL710-QDA2 40000 Mbps
Target: x86_64-native-linuxapp-gcc
Fail/Total: 0/2
Detail performance results: 
+------------+---------+-------------------------------------+
| frame_size | txd/rxd | throughput difference from expected |
+============+=========+=====================================+
| 64         | 512     | -0.279                              |
+------------+---------+-------------------------------------+
| 64         | 2048    | 0.169                               |
+------------+---------+-------------------------------------+
https://lab.dpdk.org/results/dashboard/patchsets/8457/
UNH-IOL DPDK Performance Test Lab
To manage your email subscriptions visit: 
https://lab.dpdk.org/results/dashboard/preferences/subscriptions/
^ permalink raw reply	[flat|nested] 4+ messages in thread
* [dpdk-test-report] |SUCCESS| pw62808 [PATCH v6] ethdev: add max LRO packet size
       [not found] <20191108230753.32221-1-thomas@monjalon.net>
@ 2019-11-08 23:08 ` checkpatch
  0 siblings, 0 replies; 4+ messages in thread
From: checkpatch @ 2019-11-08 23:08 UTC (permalink / raw)
  To: test-report
Test-Label: checkpatch
Test-Status: SUCCESS
http://dpdk.org/patch/62808
_coding style OK_
^ permalink raw reply	[flat|nested] 4+ messages in thread
end of thread, other threads:[~2019-11-09  2:55 UTC | newest]
Thread overview: 4+ messages (download: mbox.gz / follow: Atom feed)
-- links below jump to the message on this page --
2019-11-09  2:55 [dpdk-test-report] |SUCCESS| pw62808 [PATCH] [v6] ethdev: add max LRO packet size dpdklab
  -- strict thread matches above, loose matches on Subject: below --
2019-11-08 23:43 dpdklab
2019-11-08 23:41 dpdklab
     [not found] <20191108230753.32221-1-thomas@monjalon.net>
2019-11-08 23:08 ` [dpdk-test-report] |SUCCESS| pw62808 [PATCH v6] " checkpatch
This is a public inbox, see mirroring instructions
for how to clone and mirror all data and code used for this inbox;
as well as URLs for NNTP newsgroup(s).