* [dpdk-test-report] |SUCCESS| pw62890-62891 [PATCH] [1/2] malloc: fix realloc wrong copy size
@ 2019-11-13 18:52 dpdklab
0 siblings, 0 replies; 2+ messages in thread
From: dpdklab @ 2019-11-13 18:52 UTC (permalink / raw)
To: Ali Alnubani, Test Report; +Cc: dpdk-test-reports
[-- Attachment #1: Type: text/plain, Size: 3914 bytes --]
Test-Label: iol-mellanox-Performance
Test-Status: SUCCESS
http://dpdk.org/patch/62890
_Performance Testing PASS_
Submitter: Xueming Li <xuemingl@mellanox.com>
Date: Tuesday, November 12 2019 14:50:27
DPDK git baseline: Repo:dpdk
Branch: master
CommitID:1c69df45f8c6b727c3b6a78e13f81225c090dde2
62890-62891 --> performance testing pass
Test environment and result as below:
Ubuntu 18.04
Kernel: 4.15.0-generic
GCC: 7.4
NIC: Mellanox ConnectX-4 Lx 40000 Mbps
Target: x86_64-native-linuxapp-gcc
Fail/Total: 0/6
Detail performance results:
+------------+---------+-------------------------------------+
| frame_size | txd/rxd | throughput difference from expected |
+============+=========+=====================================+
| 64 | 256 | -0.038 |
+------------+---------+-------------------------------------+
| 128 | 256 | 0.234 |
+------------+---------+-------------------------------------+
| 256 | 256 | -0.058 |
+------------+---------+-------------------------------------+
| 512 | 256 | 0.001 |
+------------+---------+-------------------------------------+
| 1024 | 256 | 0 |
+------------+---------+-------------------------------------+
| 1518 | 256 | 0.002 |
+------------+---------+-------------------------------------+
Ubuntu 18.04
Kernel: 4.15.0-generic
GCC: 7.4
NIC: Mellanox ConnectX-4 Lx 25000 Mbps
Target: x86_64-native-linuxapp-gcc
Fail/Total: 0/6
Detail performance results:
+------------+---------+-------------------------------------+
| frame_size | txd/rxd | throughput difference from expected |
+============+=========+=====================================+
| 64 | 256 | 0.059 |
+------------+---------+-------------------------------------+
| 128 | 256 | -0.071 |
+------------+---------+-------------------------------------+
| 256 | 256 | 0.007 |
+------------+---------+-------------------------------------+
| 512 | 256 | 0.010 |
+------------+---------+-------------------------------------+
| 1024 | 256 | -0.004 |
+------------+---------+-------------------------------------+
| 1518 | 256 | 0 |
+------------+---------+-------------------------------------+
Ubuntu 18.04
Kernel: 4.15.0-generic
GCC: 7.4
NIC: Mellanox ConnectX-5 100000 Mbps
Target: x86_64-native-linuxapp-gcc
Fail/Total: 0/6
Detail performance results:
+------------+---------+-------------------------------------+
| frame_size | txd/rxd | throughput difference from expected |
+============+=========+=====================================+
| 64 | 256 | 0.126 |
+------------+---------+-------------------------------------+
| 128 | 256 | -0.001 |
+------------+---------+-------------------------------------+
| 256 | 256 | -0.046 |
+------------+---------+-------------------------------------+
| 512 | 256 | -0.091 |
+------------+---------+-------------------------------------+
| 1024 | 256 | -0.010 |
+------------+---------+-------------------------------------+
| 1518 | 256 | -0.017 |
+------------+---------+-------------------------------------+
https://lab.dpdk.org/results/dashboard/patchsets/8501/
UNH-IOL DPDK Performance Test Lab
To manage your email subscriptions visit:
https://lab.dpdk.org/results/dashboard/preferences/subscriptions/
^ permalink raw reply [flat|nested] 2+ messages in thread
* [dpdk-test-report] |SUCCESS| pw62890-62891 [PATCH] [1/2] malloc: fix realloc wrong copy size
@ 2019-11-12 15:27 dpdklab
0 siblings, 0 replies; 2+ messages in thread
From: dpdklab @ 2019-11-12 15:27 UTC (permalink / raw)
To: Test Report; +Cc: dpdk-test-reports
[-- Attachment #1: Type: text/plain, Size: 1334 bytes --]
Test-Label: iol-compilation
Test-Status: SUCCESS
http://dpdk.org/patch/62890
_Compile Testing PASS_
Submitter: Xueming Li <xuemingl@mellanox.com>
Date: Tuesday, November 12 2019 14:50:27
DPDK git baseline: Repo:dpdk
Branch: master
CommitID:1c69df45f8c6b727c3b6a78e13f81225c090dde2
62890-62891 --> compile testing pass
Test environment and result as below:
+--------------+------------------+-------------------+--------------+
| Environment | dpdk_compile_ovs | dpdk_compile_spdk | dpdk_compile |
+==============+==================+===================+==============+
| Ubuntu 18.04 | PASS | PASS | PASS |
+--------------+------------------+-------------------+--------------+
| CentOS 8 | PASS | | PASS |
+--------------+------------------+-------------------+--------------+
| FreeBSD 11.2 | | PASS | PASS |
+--------------+------------------+-------------------+--------------+
Ubuntu 18.04
Kernel: 4.15.0-generic
GCC: 7.4
CentOS 8
Kernel: 4.18.0.el8_0
GCC: 8.2
FreeBSD 11.2
Kernel: 11.2
GCC: 8.3
https://lab.dpdk.org/results/dashboard/patchsets/8501/
UNH-IOL DPDK Performance Test Lab
To manage your email subscriptions visit:
https://lab.dpdk.org/results/dashboard/preferences/subscriptions/
^ permalink raw reply [flat|nested] 2+ messages in thread
end of thread, other threads:[~2019-11-13 18:52 UTC | newest]
Thread overview: 2+ messages (download: mbox.gz / follow: Atom feed)
-- links below jump to the message on this page --
2019-11-13 18:52 [dpdk-test-report] |SUCCESS| pw62890-62891 [PATCH] [1/2] malloc: fix realloc wrong copy size dpdklab
-- strict thread matches above, loose matches on Subject: below --
2019-11-12 15:27 dpdklab
This is a public inbox, see mirroring instructions
for how to clone and mirror all data and code used for this inbox;
as well as URLs for NNTP newsgroup(s).