* [dpdk-test-report] |SUCCESS| pw63136-63135 [PATCH] [1/2] doc: update bnxt feature list
@ 2019-11-20 12:11 dpdklab
0 siblings, 0 replies; 3+ messages in thread
From: dpdklab @ 2019-11-20 12:11 UTC (permalink / raw)
To: Test Report; +Cc: dpdk-test-reports
[-- Attachment #1: Type: text/plain, Size: 2009 bytes --]
Test-Label: iol-intel-Performance
Test-Status: SUCCESS
http://dpdk.org/patch/63136
_Performance Testing PASS_
Submitter: Ajit Khaparde <ajit.khaparde@broadcom.com>
Date: Wednesday, November 20 2019 04:29:06
DPDK git baseline: Repo:dpdk
Branch: master
CommitID:3be76aa9294f3788b4f9c615642e6027f1b7948a
63136-63135 --> performance testing pass
Test environment and result as below:
Ubuntu 18.04
Kernel: 4.15.0-generic
GCC: 7.4
NIC: Intel Corporation Ethernet Converged Network Adapter 82599ES 10000 Mbps
Target: x86_64-native-linuxapp-gcc
Fail/Total: 0/3
Detail performance results:
+------------+---------+-------------------------------------+
| frame_size | txd/rxd | throughput difference from expected |
+============+=========+=====================================+
| 64 | 128 | 0.329 |
+------------+---------+-------------------------------------+
| 64 | 512 | 0.066 |
+------------+---------+-------------------------------------+
| 64 | 2048 | -0.237 |
+------------+---------+-------------------------------------+
Ubuntu 18.04
Kernel: 4.15.0-generic
GCC: 7.4
NIC: Intel Corporation Ethernet Converged Network Adapter XL710-QDA2 40000 Mbps
Target: x86_64-native-linuxapp-gcc
Fail/Total: 0/2
Detail performance results:
+------------+---------+-------------------------------------+
| frame_size | txd/rxd | throughput difference from expected |
+============+=========+=====================================+
| 64 | 512 | 1.416 |
+------------+---------+-------------------------------------+
| 64 | 2048 | 0.469 |
+------------+---------+-------------------------------------+
https://lab.dpdk.org/results/dashboard/patchsets/8619/
UNH-IOL DPDK Performance Test Lab
To manage your email subscriptions visit:
https://lab.dpdk.org/results/dashboard/preferences/subscriptions/
^ permalink raw reply [flat|nested] 3+ messages in thread
* [dpdk-test-report] |SUCCESS| pw63136-63135 [PATCH] [1/2] doc: update bnxt feature list
@ 2019-11-20 12:12 dpdklab
0 siblings, 0 replies; 3+ messages in thread
From: dpdklab @ 2019-11-20 12:12 UTC (permalink / raw)
To: Test Report; +Cc: dpdk-test-reports
[-- Attachment #1: Type: text/plain, Size: 1344 bytes --]
Test-Label: iol-compilation
Test-Status: SUCCESS
http://dpdk.org/patch/63136
_Compile Testing PASS_
Submitter: Ajit Khaparde <ajit.khaparde@broadcom.com>
Date: Wednesday, November 20 2019 04:29:06
DPDK git baseline: Repo:dpdk
Branch: master
CommitID:3be76aa9294f3788b4f9c615642e6027f1b7948a
63136-63135 --> compile testing pass
Test environment and result as below:
+--------------+------------------+-------------------+--------------+
| Environment | dpdk_compile_ovs | dpdk_compile_spdk | dpdk_compile |
+==============+==================+===================+==============+
| Ubuntu 18.04 | PASS | PASS | PASS |
+--------------+------------------+-------------------+--------------+
| CentOS 8 | PASS | SKIPPED | PASS |
+--------------+------------------+-------------------+--------------+
| FreeBSD 11.2 | SKIPPED | PASS | PASS |
+--------------+------------------+-------------------+--------------+
Ubuntu 18.04
Kernel: 4.15.0-generic
GCC: 7.4
CentOS 8
Kernel: 4.18.0.el8_0
GCC: 8.2
FreeBSD 11.2
Kernel: 11.2
GCC: 8.3
https://lab.dpdk.org/results/dashboard/patchsets/8619/
UNH-IOL DPDK Performance Test Lab
To manage your email subscriptions visit:
https://lab.dpdk.org/results/dashboard/preferences/subscriptions/
^ permalink raw reply [flat|nested] 3+ messages in thread
* [dpdk-test-report] |SUCCESS| pw63136-63135 [PATCH] [1/2] doc: update bnxt feature list
@ 2019-11-20 14:53 dpdklab
0 siblings, 0 replies; 3+ messages in thread
From: dpdklab @ 2019-11-20 14:53 UTC (permalink / raw)
To: Ali Alnubani, Test Report; +Cc: dpdk-test-reports
[-- Attachment #1: Type: text/plain, Size: 3924 bytes --]
Test-Label: iol-mellanox-Performance
Test-Status: SUCCESS
http://dpdk.org/patch/63136
_Performance Testing PASS_
Submitter: Ajit Khaparde <ajit.khaparde@broadcom.com>
Date: Wednesday, November 20 2019 04:29:06
DPDK git baseline: Repo:dpdk
Branch: master
CommitID:3be76aa9294f3788b4f9c615642e6027f1b7948a
63136-63135 --> performance testing pass
Test environment and result as below:
Ubuntu 18.04
Kernel: 4.15.0-generic
GCC: 7.4
NIC: Mellanox ConnectX-5 100000 Mbps
Target: x86_64-native-linuxapp-gcc
Fail/Total: 0/6
Detail performance results:
+------------+---------+-------------------------------------+
| frame_size | txd/rxd | throughput difference from expected |
+============+=========+=====================================+
| 64 | 256 | 0.188 |
+------------+---------+-------------------------------------+
| 128 | 256 | 0.064 |
+------------+---------+-------------------------------------+
| 256 | 256 | 0.082 |
+------------+---------+-------------------------------------+
| 512 | 256 | 0.079 |
+------------+---------+-------------------------------------+
| 1024 | 256 | -0.046 |
+------------+---------+-------------------------------------+
| 1518 | 256 | 0.019 |
+------------+---------+-------------------------------------+
Ubuntu 18.04
Kernel: 4.15.0-generic
GCC: 7.4
NIC: Mellanox ConnectX-4 Lx 40000 Mbps
Target: x86_64-native-linuxapp-gcc
Fail/Total: 0/6
Detail performance results:
+------------+---------+-------------------------------------+
| frame_size | txd/rxd | throughput difference from expected |
+============+=========+=====================================+
| 64 | 256 | -0.156 |
+------------+---------+-------------------------------------+
| 128 | 256 | -0.001 |
+------------+---------+-------------------------------------+
| 256 | 256 | -0.088 |
+------------+---------+-------------------------------------+
| 512 | 256 | 0.007 |
+------------+---------+-------------------------------------+
| 1024 | 256 | -0.001 |
+------------+---------+-------------------------------------+
| 1518 | 256 | -0.015 |
+------------+---------+-------------------------------------+
Ubuntu 18.04
Kernel: 4.15.0-generic
GCC: 7.4
NIC: Mellanox ConnectX-4 Lx 25000 Mbps
Target: x86_64-native-linuxapp-gcc
Fail/Total: 0/6
Detail performance results:
+------------+---------+-------------------------------------+
| frame_size | txd/rxd | throughput difference from expected |
+============+=========+=====================================+
| 64 | 256 | -0.026 |
+------------+---------+-------------------------------------+
| 128 | 256 | -0.260 |
+------------+---------+-------------------------------------+
| 256 | 256 | -0.002 |
+------------+---------+-------------------------------------+
| 512 | 256 | 0.025 |
+------------+---------+-------------------------------------+
| 1024 | 256 | 0.002 |
+------------+---------+-------------------------------------+
| 1518 | 256 | -0.006 |
+------------+---------+-------------------------------------+
https://lab.dpdk.org/results/dashboard/patchsets/8619/
UNH-IOL DPDK Performance Test Lab
To manage your email subscriptions visit:
https://lab.dpdk.org/results/dashboard/preferences/subscriptions/
^ permalink raw reply [flat|nested] 3+ messages in thread
end of thread, other threads:[~2019-11-20 14:53 UTC | newest]
Thread overview: 3+ messages (download: mbox.gz / follow: Atom feed)
-- links below jump to the message on this page --
2019-11-20 12:11 [dpdk-test-report] |SUCCESS| pw63136-63135 [PATCH] [1/2] doc: update bnxt feature list dpdklab
2019-11-20 12:12 dpdklab
2019-11-20 14:53 dpdklab
This is a public inbox, see mirroring instructions
for how to clone and mirror all data and code used for this inbox;
as well as URLs for NNTP newsgroup(s).