* [dpdk-test-report] |SUCCESS| pw63326 [PATCH] [v3] eal: fix header file install with meson
@ 2019-11-26 19:47 dpdklab
0 siblings, 0 replies; 4+ messages in thread
From: dpdklab @ 2019-11-26 19:47 UTC (permalink / raw)
To: Ali Alnubani, Test Report; +Cc: dpdk-test-reports
[-- Attachment #1: Type: text/plain, Size: 3909 bytes --]
Test-Label: iol-mellanox-Performance
Test-Status: SUCCESS
http://dpdk.org/patch/63326
_Performance Testing PASS_
Submitter: Ali Alnubani <alialnu@mellanox.com>
Date: Tuesday, November 26 2019 15:38:36
DPDK git baseline: Repo:dpdk
Branch: master
CommitID:39a19ae03d8fe6210f3e7919b29378bd3223621c
63326 --> performance testing pass
Test environment and result as below:
Ubuntu 18.04
Kernel: 4.15.0-generic
GCC: 7.4
NIC: Mellanox ConnectX-4 Lx 25000 Mbps
Target: x86_64-native-linuxapp-gcc
Fail/Total: 0/6
Detail performance results:
+------------+---------+-------------------------------------+
| frame_size | txd/rxd | throughput difference from expected |
+============+=========+=====================================+
| 64 | 256 | -0.608 |
+------------+---------+-------------------------------------+
| 128 | 256 | -0.257 |
+------------+---------+-------------------------------------+
| 256 | 256 | -0.004 |
+------------+---------+-------------------------------------+
| 512 | 256 | 0.002 |
+------------+---------+-------------------------------------+
| 1024 | 256 | 0.014 |
+------------+---------+-------------------------------------+
| 1518 | 256 | 0.005 |
+------------+---------+-------------------------------------+
Ubuntu 18.04
Kernel: 4.15.0-generic
GCC: 7.4
NIC: Mellanox ConnectX-4 Lx 40000 Mbps
Target: x86_64-native-linuxapp-gcc
Fail/Total: 0/6
Detail performance results:
+------------+---------+-------------------------------------+
| frame_size | txd/rxd | throughput difference from expected |
+============+=========+=====================================+
| 64 | 256 | -0.381 |
+------------+---------+-------------------------------------+
| 128 | 256 | 0.123 |
+------------+---------+-------------------------------------+
| 256 | 256 | 0.007 |
+------------+---------+-------------------------------------+
| 512 | 256 | -0.022 |
+------------+---------+-------------------------------------+
| 1024 | 256 | -0.009 |
+------------+---------+-------------------------------------+
| 1518 | 256 | 0 |
+------------+---------+-------------------------------------+
Ubuntu 18.04
Kernel: 4.15.0-generic
GCC: 7.4
NIC: Mellanox ConnectX-5 100000 Mbps
Target: x86_64-native-linuxapp-gcc
Fail/Total: 0/6
Detail performance results:
+------------+---------+-------------------------------------+
| frame_size | txd/rxd | throughput difference from expected |
+============+=========+=====================================+
| 64 | 256 | -0.123 |
+------------+---------+-------------------------------------+
| 128 | 256 | 0.003 |
+------------+---------+-------------------------------------+
| 256 | 256 | -0.042 |
+------------+---------+-------------------------------------+
| 512 | 256 | -0.162 |
+------------+---------+-------------------------------------+
| 1024 | 256 | -0.011 |
+------------+---------+-------------------------------------+
| 1518 | 256 | -0.007 |
+------------+---------+-------------------------------------+
https://lab.dpdk.org/results/dashboard/patchsets/8728/
UNH-IOL DPDK Performance Test Lab
To manage your email subscriptions visit:
https://lab.dpdk.org/results/dashboard/preferences/subscriptions/
^ permalink raw reply [flat|nested] 4+ messages in thread
* [dpdk-test-report] |SUCCESS| pw63326 [PATCH] [v3] eal: fix header file install with meson
@ 2019-11-26 19:05 dpdklab
0 siblings, 0 replies; 4+ messages in thread
From: dpdklab @ 2019-11-26 19:05 UTC (permalink / raw)
To: Test Report; +Cc: dpdk-test-reports
[-- Attachment #1: Type: text/plain, Size: 1994 bytes --]
Test-Label: iol-intel-Performance
Test-Status: SUCCESS
http://dpdk.org/patch/63326
_Performance Testing PASS_
Submitter: Ali Alnubani <alialnu@mellanox.com>
Date: Tuesday, November 26 2019 15:38:36
DPDK git baseline: Repo:dpdk
Branch: master
CommitID:39a19ae03d8fe6210f3e7919b29378bd3223621c
63326 --> performance testing pass
Test environment and result as below:
Ubuntu 18.04
Kernel: 4.15.0-generic
GCC: 7.4
NIC: Intel Corporation Ethernet Converged Network Adapter 82599ES 10000 Mbps
Target: x86_64-native-linuxapp-gcc
Fail/Total: 0/3
Detail performance results:
+------------+---------+-------------------------------------+
| frame_size | txd/rxd | throughput difference from expected |
+============+=========+=====================================+
| 64 | 128 | 0.092 |
+------------+---------+-------------------------------------+
| 64 | 512 | -0.071 |
+------------+---------+-------------------------------------+
| 64 | 2048 | 0.097 |
+------------+---------+-------------------------------------+
Ubuntu 18.04
Kernel: 4.15.0-generic
GCC: 7.4
NIC: Intel Corporation Ethernet Converged Network Adapter XL710-QDA2 40000 Mbps
Target: x86_64-native-linuxapp-gcc
Fail/Total: 0/2
Detail performance results:
+------------+---------+-------------------------------------+
| frame_size | txd/rxd | throughput difference from expected |
+============+=========+=====================================+
| 64 | 512 | -0.753 |
+------------+---------+-------------------------------------+
| 64 | 2048 | -0.057 |
+------------+---------+-------------------------------------+
https://lab.dpdk.org/results/dashboard/patchsets/8728/
UNH-IOL DPDK Performance Test Lab
To manage your email subscriptions visit:
https://lab.dpdk.org/results/dashboard/preferences/subscriptions/
^ permalink raw reply [flat|nested] 4+ messages in thread
* [dpdk-test-report] |SUCCESS| pw63326 [PATCH] [v3] eal: fix header file install with meson
@ 2019-11-26 18:57 dpdklab
0 siblings, 0 replies; 4+ messages in thread
From: dpdklab @ 2019-11-26 18:57 UTC (permalink / raw)
To: Test Report; +Cc: dpdk-test-reports
[-- Attachment #1: Type: text/plain, Size: 1329 bytes --]
Test-Label: iol-compilation
Test-Status: SUCCESS
http://dpdk.org/patch/63326
_Compile Testing PASS_
Submitter: Ali Alnubani <alialnu@mellanox.com>
Date: Tuesday, November 26 2019 15:38:36
DPDK git baseline: Repo:dpdk
Branch: master
CommitID:39a19ae03d8fe6210f3e7919b29378bd3223621c
63326 --> compile testing pass
Test environment and result as below:
+--------------+--------------+-------------------+------------------+
| Environment | dpdk_compile | dpdk_compile_spdk | dpdk_compile_ovs |
+==============+==============+===================+==================+
| Ubuntu 18.04 | PASS | PASS | PASS |
+--------------+--------------+-------------------+------------------+
| FreeBSD 11.2 | PASS | PASS | SKIPPED |
+--------------+--------------+-------------------+------------------+
| CentOS 8 | PASS | SKIPPED | PASS |
+--------------+--------------+-------------------+------------------+
Ubuntu 18.04
Kernel: 4.15.0-generic
GCC: 7.4
FreeBSD 11.2
Kernel: 11.2
GCC: 8.3
CentOS 8
Kernel: 4.18.0.el8_0
GCC: 8.2
https://lab.dpdk.org/results/dashboard/patchsets/8728/
UNH-IOL DPDK Performance Test Lab
To manage your email subscriptions visit:
https://lab.dpdk.org/results/dashboard/preferences/subscriptions/
^ permalink raw reply [flat|nested] 4+ messages in thread
* [dpdk-test-report] |SUCCESS| pw63326 [PATCH v3] eal: fix header file install with meson
[not found] <20191126153814.5798-1-alialnu@mellanox.com>
@ 2019-11-26 15:39 ` checkpatch
0 siblings, 0 replies; 4+ messages in thread
From: checkpatch @ 2019-11-26 15:39 UTC (permalink / raw)
To: test-report
Test-Label: checkpatch
Test-Status: SUCCESS
http://dpdk.org/patch/63326
_coding style OK_
^ permalink raw reply [flat|nested] 4+ messages in thread
end of thread, other threads:[~2019-11-26 19:48 UTC | newest]
Thread overview: 4+ messages (download: mbox.gz / follow: Atom feed)
-- links below jump to the message on this page --
2019-11-26 19:47 [dpdk-test-report] |SUCCESS| pw63326 [PATCH] [v3] eal: fix header file install with meson dpdklab
-- strict thread matches above, loose matches on Subject: below --
2019-11-26 19:05 dpdklab
2019-11-26 18:57 dpdklab
[not found] <20191126153814.5798-1-alialnu@mellanox.com>
2019-11-26 15:39 ` [dpdk-test-report] |SUCCESS| pw63326 [PATCH v3] " checkpatch
This is a public inbox, see mirroring instructions
for how to clone and mirror all data and code used for this inbox;
as well as URLs for NNTP newsgroup(s).