automatic DPDK test reports
 help / color / Atom feed
* [dpdk-test-report] |SUCCESS| pw63498 [PATCH] lib: fix unnecessary boolean casts
@ 2019-12-02  9:55 dpdklab
  0 siblings, 0 replies; 4+ messages in thread
From: dpdklab @ 2019-12-02  9:55 UTC (permalink / raw)
  To: Test Report; +Cc: dpdk-test-reports

[-- Attachment #1: Type: text/plain, Size: 1993 bytes --]

Test-Label: iol-intel-Performance
Test-Status: SUCCESS
http://dpdk.org/patch/63498

_Performance Testing PASS_

Submitter: Ciara Power <ciara.power@intel.com>
Date: Monday, December 02 2019 09:15:17 
DPDK git baseline: Repo:dpdk
  Branch: master
  CommitID:7001c8fdb27357c67147c0a13cb3826e48c0f2bf

63498 --> performance testing pass

Test environment and result as below:

Ubuntu 18.04
Kernel: 4.15.0-generic
GCC: 7.4
NIC: Intel Corporation Ethernet Converged Network Adapter 82599ES 10000 Mbps
Target: x86_64-native-linuxapp-gcc
Fail/Total: 0/3

Detail performance results: 
+------------+---------+-------------------------------------+
| frame_size | txd/rxd | throughput difference from expected |
+============+=========+=====================================+
| 64         | 128     | 0.392                               |
+------------+---------+-------------------------------------+
| 64         | 512     | 0.085                               |
+------------+---------+-------------------------------------+
| 64         | 2048    | 0.234                               |
+------------+---------+-------------------------------------+

Ubuntu 18.04
Kernel: 4.15.0-generic
GCC: 7.4
NIC: Intel Corporation Ethernet Converged Network Adapter XL710-QDA2 40000 Mbps
Target: x86_64-native-linuxapp-gcc
Fail/Total: 0/2

Detail performance results: 
+------------+---------+-------------------------------------+
| frame_size | txd/rxd | throughput difference from expected |
+============+=========+=====================================+
| 64         | 512     | -0.138                              |
+------------+---------+-------------------------------------+
| 64         | 2048    | -0.110                              |
+------------+---------+-------------------------------------+

https://lab.dpdk.org/results/dashboard/patchsets/8783/

UNH-IOL DPDK Performance Test Lab

To manage your email subscriptions visit: 
https://lab.dpdk.org/results/dashboard/preferences/subscriptions/

^ permalink raw reply	[flat|nested] 4+ messages in thread

* [dpdk-test-report] |SUCCESS| pw63498 [PATCH] lib: fix unnecessary boolean casts
@ 2019-12-02 10:22 dpdklab
  0 siblings, 0 replies; 4+ messages in thread
From: dpdklab @ 2019-12-02 10:22 UTC (permalink / raw)
  To: Ali Alnubani, Test Report; +Cc: dpdk-test-reports

[-- Attachment #1: Type: text/plain, Size: 3908 bytes --]

Test-Label: iol-mellanox-Performance
Test-Status: SUCCESS
http://dpdk.org/patch/63498

_Performance Testing PASS_

Submitter: Ciara Power <ciara.power@intel.com>
Date: Monday, December 02 2019 09:15:17 
DPDK git baseline: Repo:dpdk
  Branch: master
  CommitID:7001c8fdb27357c67147c0a13cb3826e48c0f2bf

63498 --> performance testing pass

Test environment and result as below:

Ubuntu 18.04
Kernel: 4.15.0-generic
GCC: 7.4
NIC: Mellanox ConnectX-4 Lx 25000 Mbps
Target: x86_64-native-linuxapp-gcc
Fail/Total: 0/6

Detail performance results: 
+------------+---------+-------------------------------------+
| frame_size | txd/rxd | throughput difference from expected |
+============+=========+=====================================+
| 64         | 256     | 0.166                               |
+------------+---------+-------------------------------------+
| 128        | 256     | 0.046                               |
+------------+---------+-------------------------------------+
| 256        | 256     | 0.044                               |
+------------+---------+-------------------------------------+
| 512        | 256     | -0.001                              |
+------------+---------+-------------------------------------+
| 1024       | 256     | -0.001                              |
+------------+---------+-------------------------------------+
| 1518       | 256     | 0                                   |
+------------+---------+-------------------------------------+

Ubuntu 18.04
Kernel: 4.15.0-generic
GCC: 7.4
NIC: Mellanox ConnectX-4 Lx 40000 Mbps
Target: x86_64-native-linuxapp-gcc
Fail/Total: 0/6

Detail performance results: 
+------------+---------+-------------------------------------+
| frame_size | txd/rxd | throughput difference from expected |
+============+=========+=====================================+
| 64         | 256     | -0.111                              |
+------------+---------+-------------------------------------+
| 128        | 256     | -0.102                              |
+------------+---------+-------------------------------------+
| 256        | 256     | -0.154                              |
+------------+---------+-------------------------------------+
| 512        | 256     | 0.006                               |
+------------+---------+-------------------------------------+
| 1024       | 256     | 0.007                               |
+------------+---------+-------------------------------------+
| 1518       | 256     | 0.001                               |
+------------+---------+-------------------------------------+

Ubuntu 18.04
Kernel: 4.15.0-generic
GCC: 7.4
NIC: Mellanox ConnectX-5 100000 Mbps
Target: x86_64-native-linuxapp-gcc
Fail/Total: 0/6

Detail performance results: 
+------------+---------+-------------------------------------+
| frame_size | txd/rxd | throughput difference from expected |
+============+=========+=====================================+
| 64         | 256     | 0.130                               |
+------------+---------+-------------------------------------+
| 128        | 256     | -0.021                              |
+------------+---------+-------------------------------------+
| 256        | 256     | 0.009                               |
+------------+---------+-------------------------------------+
| 512        | 256     | 0.003                               |
+------------+---------+-------------------------------------+
| 1024       | 256     | 0.026                               |
+------------+---------+-------------------------------------+
| 1518       | 256     | 0.021                               |
+------------+---------+-------------------------------------+

https://lab.dpdk.org/results/dashboard/patchsets/8783/

UNH-IOL DPDK Performance Test Lab

To manage your email subscriptions visit: 
https://lab.dpdk.org/results/dashboard/preferences/subscriptions/

^ permalink raw reply	[flat|nested] 4+ messages in thread

* [dpdk-test-report] |SUCCESS| pw63498 [PATCH] lib: fix unnecessary boolean casts
@ 2019-12-02  9:56 dpdklab
  0 siblings, 0 replies; 4+ messages in thread
From: dpdklab @ 2019-12-02  9:56 UTC (permalink / raw)
  To: Test Report; +Cc: dpdk-test-reports

[-- Attachment #1: Type: text/plain, Size: 1328 bytes --]

Test-Label: iol-compilation
Test-Status: SUCCESS
http://dpdk.org/patch/63498

_Compile Testing PASS_

Submitter: Ciara Power <ciara.power@intel.com>
Date: Monday, December 02 2019 09:15:17 
DPDK git baseline: Repo:dpdk
  Branch: master
  CommitID:7001c8fdb27357c67147c0a13cb3826e48c0f2bf

63498 --> compile testing pass

Test environment and result as below:

+--------------+--------------+------------------+-------------------+
| Environment  | dpdk_compile | dpdk_compile_ovs | dpdk_compile_spdk |
+==============+==============+==================+===================+
| Ubuntu 18.04 | PASS         | PASS             | PASS              |
+--------------+--------------+------------------+-------------------+
| FreeBSD 11.2 | PASS         | SKIPPED          | PASS              |
+--------------+--------------+------------------+-------------------+
| CentOS 8     | PASS         | PASS             | SKIPPED           |
+--------------+--------------+------------------+-------------------+

Ubuntu 18.04
	Kernel: 4.15.0-generic
	GCC: 7.4

FreeBSD 11.2
	Kernel: 11.2
	GCC: 8.3

CentOS 8
	Kernel: 4.18.0.el8_0
	GCC: 8.2

https://lab.dpdk.org/results/dashboard/patchsets/8783/

UNH-IOL DPDK Performance Test Lab

To manage your email subscriptions visit: 
https://lab.dpdk.org/results/dashboard/preferences/subscriptions/

^ permalink raw reply	[flat|nested] 4+ messages in thread

* [dpdk-test-report] |SUCCESS| pw63498 [PATCH] lib: fix unnecessary boolean casts
       [not found] <20191202091517.17461-1-ciara.power@intel.com>
@ 2019-12-02  9:17 ` checkpatch
  0 siblings, 0 replies; 4+ messages in thread
From: checkpatch @ 2019-12-02  9:17 UTC (permalink / raw)
  To: test-report

Test-Label: checkpatch
Test-Status: SUCCESS
http://dpdk.org/patch/63498

_coding style OK_



^ permalink raw reply	[flat|nested] 4+ messages in thread

end of thread, back to index

Thread overview: 4+ messages (download: mbox.gz / follow: Atom feed)
-- links below jump to the message on this page --
2019-12-02  9:55 [dpdk-test-report] |SUCCESS| pw63498 [PATCH] lib: fix unnecessary boolean casts dpdklab
  -- strict thread matches above, loose matches on Subject: below --
2019-12-02 10:22 dpdklab
2019-12-02  9:56 dpdklab
     [not found] <20191202091517.17461-1-ciara.power@intel.com>
2019-12-02  9:17 ` checkpatch

automatic DPDK test reports

Archives are clonable:
	git clone --mirror http://inbox.dpdk.org/test-report/0 test-report/git/0.git

	# If you have public-inbox 1.1+ installed, you may
	# initialize and index your mirror using the following commands:
	public-inbox-init -V2 test-report test-report/ http://inbox.dpdk.org/test-report \
		test-report@dpdk.org
	public-inbox-index test-report


Newsgroup available over NNTP:
	nntp://inbox.dpdk.org/inbox.dpdk.test-report


AGPL code for this site: git clone https://public-inbox.org/ public-inbox