automatic DPDK test reports
 help / color / Atom feed
From: dpdklab@iol.unh.edu
To: Test Report <test-report@dpdk.org>
Cc: dpdk-test-reports@iol.unh.edu
Subject: [dpdk-test-report] |SUCCESS| pw63498 [PATCH] lib: fix unnecessary boolean casts
Date: Mon,  2 Dec 2019 04:56:56 -0500 (EST)
Message-ID: <20191202095656.A31F9328@noxus.dpdklab.iol.unh.edu> (raw)

[-- Attachment #1: Type: text/plain, Size: 1328 bytes --]

Test-Label: iol-compilation
Test-Status: SUCCESS
http://dpdk.org/patch/63498

_Compile Testing PASS_

Submitter: Ciara Power <ciara.power@intel.com>
Date: Monday, December 02 2019 09:15:17 
DPDK git baseline: Repo:dpdk
  Branch: master
  CommitID:7001c8fdb27357c67147c0a13cb3826e48c0f2bf

63498 --> compile testing pass

Test environment and result as below:

+--------------+--------------+------------------+-------------------+
| Environment  | dpdk_compile | dpdk_compile_ovs | dpdk_compile_spdk |
+==============+==============+==================+===================+
| Ubuntu 18.04 | PASS         | PASS             | PASS              |
+--------------+--------------+------------------+-------------------+
| FreeBSD 11.2 | PASS         | SKIPPED          | PASS              |
+--------------+--------------+------------------+-------------------+
| CentOS 8     | PASS         | PASS             | SKIPPED           |
+--------------+--------------+------------------+-------------------+

Ubuntu 18.04
	Kernel: 4.15.0-generic
	GCC: 7.4

FreeBSD 11.2
	Kernel: 11.2
	GCC: 8.3

CentOS 8
	Kernel: 4.18.0.el8_0
	GCC: 8.2

https://lab.dpdk.org/results/dashboard/patchsets/8783/

UNH-IOL DPDK Performance Test Lab

To manage your email subscriptions visit: 
https://lab.dpdk.org/results/dashboard/preferences/subscriptions/

             reply index

Thread overview: 4+ messages / expand[flat|nested]  mbox.gz  Atom feed  top
2019-12-02  9:56 dpdklab [this message]
  -- strict thread matches above, loose matches on Subject: below --
2019-12-02 10:22 dpdklab
2019-12-02  9:55 dpdklab
     [not found] <20191202091517.17461-1-ciara.power@intel.com>
2019-12-02  9:17 ` checkpatch

Reply instructions:

You may reply publically to this message via plain-text email
using any one of the following methods:

* Save the following mbox file, import it into your mail client,
  and reply-to-all from there: mbox

  Avoid top-posting and favor interleaved quoting:
  https://en.wikipedia.org/wiki/Posting_style#Interleaved_style

* Reply using the --to, --cc, and --in-reply-to
  switches of git-send-email(1):

  git send-email \
    --in-reply-to=20191202095656.A31F9328@noxus.dpdklab.iol.unh.edu \
    --to=dpdklab@iol.unh.edu \
    --cc=dpdk-test-reports@iol.unh.edu \
    --cc=test-report@dpdk.org \
    /path/to/YOUR_REPLY

  https://kernel.org/pub/software/scm/git/docs/git-send-email.html

* If your mail client supports setting the In-Reply-To header
  via mailto: links, try the mailto: link

automatic DPDK test reports

Archives are clonable:
	git clone --mirror http://inbox.dpdk.org/test-report/0 test-report/git/0.git

	# If you have public-inbox 1.1+ installed, you may
	# initialize and index your mirror using the following commands:
	public-inbox-init -V2 test-report test-report/ http://inbox.dpdk.org/test-report \
		test-report@dpdk.org
	public-inbox-index test-report


Newsgroup available over NNTP:
	nntp://inbox.dpdk.org/inbox.dpdk.test-report


AGPL code for this site: git clone https://public-inbox.org/ public-inbox