automatic DPDK test reports
 help / color / Atom feed
* [dpdk-test-report] |SUCCESS| pw63501 [PATCH] version: 20.02-rc0
       [not found] <20191202145718.16407-1-thomas@monjalon.net>
@ 2019-12-02 14:58 ` checkpatch
  2019-12-02 18:13 ` [dpdk-test-report] |WARNING| pw63501 " 0-day Robot
  1 sibling, 0 replies; 5+ messages in thread
From: checkpatch @ 2019-12-02 14:58 UTC (permalink / raw)
  To: test-report

Test-Label: checkpatch
Test-Status: SUCCESS
http://dpdk.org/patch/63501

_coding style OK_



^ permalink raw reply	[flat|nested] 5+ messages in thread

* [dpdk-test-report] |WARNING| pw63501 version: 20.02-rc0
       [not found] <20191202145718.16407-1-thomas@monjalon.net>
  2019-12-02 14:58 ` [dpdk-test-report] |SUCCESS| pw63501 [PATCH] version: 20.02-rc0 checkpatch
@ 2019-12-02 18:13 ` " 0-day Robot
  1 sibling, 0 replies; 5+ messages in thread
From: 0-day Robot @ 2019-12-02 18:13 UTC (permalink / raw)
  To: test-report; +Cc: thomas, robot

From: robot@bytheb.org

Test-Label: travis-robot
Test-Status: WARNING
http://dpdk.org/patch/63501

_Travis build: failed_
Build URL: https://travis-ci.com/ovsrobot/dpdk/builds/138995420

^ permalink raw reply	[flat|nested] 5+ messages in thread

* [dpdk-test-report] |SUCCESS| pw63501 [PATCH] version: 20.02-rc0
@ 2019-12-05 17:46 dpdklab
  0 siblings, 0 replies; 5+ messages in thread
From: dpdklab @ 2019-12-05 17:46 UTC (permalink / raw)
  To: Test Report; +Cc: dpdk-test-reports

[-- Attachment #1: Type: text/plain, Size: 1224 bytes --]

Test-Label: iol-intel-Performance
Test-Status: SUCCESS
http://dpdk.org/patch/63501

_Performance Testing PASS_

Submitter: Thomas Monjalon <thomas@monjalon.net>
Date: Monday, December 02 2019 14:57:18 
DPDK git baseline: Repo:dpdk
  Branch: master
  CommitID:7001c8fdb27357c67147c0a13cb3826e48c0f2bf

63501 --> performance testing pass

Test environment and result as below:

Ubuntu 18.04
Kernel: 4.15.0-generic
GCC: 7.4
NIC: Intel Corporation Ethernet Converged Network Adapter XL710-QDA2 40000 Mbps
Target: x86_64-native-linuxapp-gcc
Fail/Total: 0/2

Detail performance results: 
+------------+---------+-------------------------------------+
| frame_size | txd/rxd | throughput difference from expected |
+============+=========+=====================================+
| 64         | 512     | -0.074                              |
+------------+---------+-------------------------------------+
| 64         | 2048    | -0.256                              |
+------------+---------+-------------------------------------+

https://lab.dpdk.org/results/dashboard/patchsets/8786/

UNH-IOL DPDK Performance Test Lab

To manage your email subscriptions visit: 
https://lab.dpdk.org/results/dashboard/preferences/subscriptions/

^ permalink raw reply	[flat|nested] 5+ messages in thread

* [dpdk-test-report] |SUCCESS| pw63501 [PATCH] version: 20.02-rc0
@ 2019-12-02 17:48 dpdklab
  0 siblings, 0 replies; 5+ messages in thread
From: dpdklab @ 2019-12-02 17:48 UTC (permalink / raw)
  To: Ali Alnubani, Test Report; +Cc: dpdk-test-reports

[-- Attachment #1: Type: text/plain, Size: 3910 bytes --]

Test-Label: iol-mellanox-Performance
Test-Status: SUCCESS
http://dpdk.org/patch/63501

_Performance Testing PASS_

Submitter: Thomas Monjalon <thomas@monjalon.net>
Date: Monday, December 02 2019 14:57:18 
DPDK git baseline: Repo:dpdk
  Branch: master
  CommitID:7001c8fdb27357c67147c0a13cb3826e48c0f2bf

63501 --> performance testing pass

Test environment and result as below:

Ubuntu 18.04
Kernel: 4.15.0-generic
GCC: 7.4
NIC: Mellanox ConnectX-4 Lx 40000 Mbps
Target: x86_64-native-linuxapp-gcc
Fail/Total: 0/6

Detail performance results: 
+------------+---------+-------------------------------------+
| frame_size | txd/rxd | throughput difference from expected |
+============+=========+=====================================+
| 64         | 256     | -0.303                              |
+------------+---------+-------------------------------------+
| 128        | 256     | -0.035                              |
+------------+---------+-------------------------------------+
| 256        | 256     | -0.097                              |
+------------+---------+-------------------------------------+
| 512        | 256     | 0.017                               |
+------------+---------+-------------------------------------+
| 1024       | 256     | 0.023                               |
+------------+---------+-------------------------------------+
| 1518       | 256     | 0.017                               |
+------------+---------+-------------------------------------+

Ubuntu 18.04
Kernel: 4.15.0-generic
GCC: 7.4
NIC: Mellanox ConnectX-4 Lx 25000 Mbps
Target: x86_64-native-linuxapp-gcc
Fail/Total: 0/6

Detail performance results: 
+------------+---------+-------------------------------------+
| frame_size | txd/rxd | throughput difference from expected |
+============+=========+=====================================+
| 64         | 256     | 0.045                               |
+------------+---------+-------------------------------------+
| 128        | 256     | -0.051                              |
+------------+---------+-------------------------------------+
| 256        | 256     | 0.029                               |
+------------+---------+-------------------------------------+
| 512        | 256     | 0.005                               |
+------------+---------+-------------------------------------+
| 1024       | 256     | 0.002                               |
+------------+---------+-------------------------------------+
| 1518       | 256     | 0.013                               |
+------------+---------+-------------------------------------+

Ubuntu 18.04
Kernel: 4.15.0-generic
GCC: 7.4
NIC: Mellanox ConnectX-5 100000 Mbps
Target: x86_64-native-linuxapp-gcc
Fail/Total: 0/6

Detail performance results: 
+------------+---------+-------------------------------------+
| frame_size | txd/rxd | throughput difference from expected |
+============+=========+=====================================+
| 64         | 256     | -0.004                              |
+------------+---------+-------------------------------------+
| 128        | 256     | -0.105                              |
+------------+---------+-------------------------------------+
| 256        | 256     | -0.087                              |
+------------+---------+-------------------------------------+
| 512        | 256     | -0.071                              |
+------------+---------+-------------------------------------+
| 1024       | 256     | 0.013                               |
+------------+---------+-------------------------------------+
| 1518       | 256     | 0.017                               |
+------------+---------+-------------------------------------+

https://lab.dpdk.org/results/dashboard/patchsets/8786/

UNH-IOL DPDK Performance Test Lab

To manage your email subscriptions visit: 
https://lab.dpdk.org/results/dashboard/preferences/subscriptions/

^ permalink raw reply	[flat|nested] 5+ messages in thread

* [dpdk-test-report] |SUCCESS| pw63501 [PATCH] version: 20.02-rc0
@ 2019-12-02 16:12 " dpdklab
  0 siblings, 0 replies; 5+ messages in thread
From: dpdklab @ 2019-12-02 16:12 UTC (permalink / raw)
  To: Test Report; +Cc: dpdk-test-reports

[-- Attachment #1: Type: text/plain, Size: 1330 bytes --]

Test-Label: iol-compilation
Test-Status: SUCCESS
http://dpdk.org/patch/63501

_Compile Testing PASS_

Submitter: Thomas Monjalon <thomas@monjalon.net>
Date: Monday, December 02 2019 14:57:18 
DPDK git baseline: Repo:dpdk
  Branch: master
  CommitID:7001c8fdb27357c67147c0a13cb3826e48c0f2bf

63501 --> compile testing pass

Test environment and result as below:

+--------------+------------------+-------------------+--------------+
| Environment  | dpdk_compile_ovs | dpdk_compile_spdk | dpdk_compile |
+==============+==================+===================+==============+
| Ubuntu 18.04 | PASS             | PASS              | PASS         |
+--------------+------------------+-------------------+--------------+
| CentOS 8     | PASS             | SKIPPED           | PASS         |
+--------------+------------------+-------------------+--------------+
| FreeBSD 11.2 | SKIPPED          | PASS              | PASS         |
+--------------+------------------+-------------------+--------------+

Ubuntu 18.04
	Kernel: 4.15.0-generic
	GCC: 7.4

CentOS 8
	Kernel: 4.18.0.el8_0
	GCC: 8.2

FreeBSD 11.2
	Kernel: 11.2
	GCC: 8.3

https://lab.dpdk.org/results/dashboard/patchsets/8786/

UNH-IOL DPDK Performance Test Lab

To manage your email subscriptions visit: 
https://lab.dpdk.org/results/dashboard/preferences/subscriptions/

^ permalink raw reply	[flat|nested] 5+ messages in thread

end of thread, back to index

Thread overview: 5+ messages (download: mbox.gz / follow: Atom feed)
-- links below jump to the message on this page --
     [not found] <20191202145718.16407-1-thomas@monjalon.net>
2019-12-02 14:58 ` [dpdk-test-report] |SUCCESS| pw63501 [PATCH] version: 20.02-rc0 checkpatch
2019-12-02 18:13 ` [dpdk-test-report] |WARNING| pw63501 " 0-day Robot
2019-12-02 16:12 [dpdk-test-report] |SUCCESS| pw63501 [PATCH] " dpdklab
2019-12-02 17:48 dpdklab
2019-12-05 17:46 dpdklab

automatic DPDK test reports

Archives are clonable:
	git clone --mirror http://inbox.dpdk.org/test-report/0 test-report/git/0.git

	# If you have public-inbox 1.1+ installed, you may
	# initialize and index your mirror using the following commands:
	public-inbox-init -V2 test-report test-report/ http://inbox.dpdk.org/test-report \
		test-report@dpdk.org
	public-inbox-index test-report


Newsgroup available over NNTP:
	nntp://inbox.dpdk.org/inbox.dpdk.test-report


AGPL code for this site: git clone https://public-inbox.org/ public-inbox