automatic DPDK test reports
 help / color / Atom feed
* [dpdk-test-report] |SUCCESS| pw63502 [PATCH] mark experimental variables
@ 2019-12-02 15:57 dpdklab
  0 siblings, 0 replies; 3+ messages in thread
From: dpdklab @ 2019-12-02 15:57 UTC (permalink / raw)
  To: Test Report; +Cc: dpdk-test-reports

[-- Attachment #1: Type: text/plain, Size: 1335 bytes --]

Test-Label: iol-compilation
Test-Status: SUCCESS
http://dpdk.org/patch/63502

_Compile Testing PASS_

Submitter: David Marchand <david.marchand@redhat.com>
Date: Monday, December 02 2019 15:20:29 
DPDK git baseline: Repo:dpdk
  Branch: master
  CommitID:7001c8fdb27357c67147c0a13cb3826e48c0f2bf

63502 --> compile testing pass

Test environment and result as below:

+--------------+------------------+-------------------+--------------+
| Environment  | dpdk_compile_ovs | dpdk_compile_spdk | dpdk_compile |
+==============+==================+===================+==============+
| Ubuntu 18.04 | PASS             | PASS              | PASS         |
+--------------+------------------+-------------------+--------------+
| CentOS 8     | PASS             | SKIPPED           | PASS         |
+--------------+------------------+-------------------+--------------+
| FreeBSD 11.2 | SKIPPED          | PASS              | PASS         |
+--------------+------------------+-------------------+--------------+

Ubuntu 18.04
	Kernel: 4.15.0-generic
	GCC: 7.4

CentOS 8
	Kernel: 4.18.0.el8_0
	GCC: 8.2

FreeBSD 11.2
	Kernel: 11.2
	GCC: 8.3

https://lab.dpdk.org/results/dashboard/patchsets/8787/

UNH-IOL DPDK Performance Test Lab

To manage your email subscriptions visit: 
https://lab.dpdk.org/results/dashboard/preferences/subscriptions/

^ permalink raw reply	[flat|nested] 3+ messages in thread

* [dpdk-test-report] |SUCCESS| pw63502 [PATCH] mark experimental variables
@ 2019-12-02 17:09 dpdklab
  0 siblings, 0 replies; 3+ messages in thread
From: dpdklab @ 2019-12-02 17:09 UTC (permalink / raw)
  To: Ali Alnubani, Test Report; +Cc: dpdk-test-reports

[-- Attachment #1: Type: text/plain, Size: 3915 bytes --]

Test-Label: iol-mellanox-Performance
Test-Status: SUCCESS
http://dpdk.org/patch/63502

_Performance Testing PASS_

Submitter: David Marchand <david.marchand@redhat.com>
Date: Monday, December 02 2019 15:20:29 
DPDK git baseline: Repo:dpdk
  Branch: master
  CommitID:7001c8fdb27357c67147c0a13cb3826e48c0f2bf

63502 --> performance testing pass

Test environment and result as below:

Ubuntu 18.04
Kernel: 4.15.0-generic
GCC: 7.4
NIC: Mellanox ConnectX-5 100000 Mbps
Target: x86_64-native-linuxapp-gcc
Fail/Total: 0/6

Detail performance results: 
+------------+---------+-------------------------------------+
| frame_size | txd/rxd | throughput difference from expected |
+============+=========+=====================================+
| 64         | 256     | 0.146                               |
+------------+---------+-------------------------------------+
| 128        | 256     | -0.066                              |
+------------+---------+-------------------------------------+
| 256        | 256     | -0.010                              |
+------------+---------+-------------------------------------+
| 512        | 256     | 0.036                               |
+------------+---------+-------------------------------------+
| 1024       | 256     | -0.008                              |
+------------+---------+-------------------------------------+
| 1518       | 256     | 0.022                               |
+------------+---------+-------------------------------------+

Ubuntu 18.04
Kernel: 4.15.0-generic
GCC: 7.4
NIC: Mellanox ConnectX-4 Lx 25000 Mbps
Target: x86_64-native-linuxapp-gcc
Fail/Total: 0/6

Detail performance results: 
+------------+---------+-------------------------------------+
| frame_size | txd/rxd | throughput difference from expected |
+============+=========+=====================================+
| 64         | 256     | 0.004                               |
+------------+---------+-------------------------------------+
| 128        | 256     | 0.045                               |
+------------+---------+-------------------------------------+
| 256        | 256     | 0.002                               |
+------------+---------+-------------------------------------+
| 512        | 256     | 0.024                               |
+------------+---------+-------------------------------------+
| 1024       | 256     | -0.003                              |
+------------+---------+-------------------------------------+
| 1518       | 256     | 0.012                               |
+------------+---------+-------------------------------------+

Ubuntu 18.04
Kernel: 4.15.0-generic
GCC: 7.4
NIC: Mellanox ConnectX-4 Lx 40000 Mbps
Target: x86_64-native-linuxapp-gcc
Fail/Total: 0/6

Detail performance results: 
+------------+---------+-------------------------------------+
| frame_size | txd/rxd | throughput difference from expected |
+============+=========+=====================================+
| 64         | 256     | -0.495                              |
+------------+---------+-------------------------------------+
| 128        | 256     | -0.441                              |
+------------+---------+-------------------------------------+
| 256        | 256     | -0.142                              |
+------------+---------+-------------------------------------+
| 512        | 256     | 0.004                               |
+------------+---------+-------------------------------------+
| 1024       | 256     | 0.005                               |
+------------+---------+-------------------------------------+
| 1518       | 256     | 0                                   |
+------------+---------+-------------------------------------+

https://lab.dpdk.org/results/dashboard/patchsets/8787/

UNH-IOL DPDK Performance Test Lab

To manage your email subscriptions visit: 
https://lab.dpdk.org/results/dashboard/preferences/subscriptions/

^ permalink raw reply	[flat|nested] 3+ messages in thread

* [dpdk-test-report] |SUCCESS| pw63502 [PATCH] mark experimental variables
@ 2019-12-02 15:55 dpdklab
  0 siblings, 0 replies; 3+ messages in thread
From: dpdklab @ 2019-12-02 15:55 UTC (permalink / raw)
  To: Test Report; +Cc: dpdk-test-reports

[-- Attachment #1: Type: text/plain, Size: 2000 bytes --]

Test-Label: iol-intel-Performance
Test-Status: SUCCESS
http://dpdk.org/patch/63502

_Performance Testing PASS_

Submitter: David Marchand <david.marchand@redhat.com>
Date: Monday, December 02 2019 15:20:29 
DPDK git baseline: Repo:dpdk
  Branch: master
  CommitID:7001c8fdb27357c67147c0a13cb3826e48c0f2bf

63502 --> performance testing pass

Test environment and result as below:

Ubuntu 18.04
Kernel: 4.15.0-generic
GCC: 7.4
NIC: Intel Corporation Ethernet Converged Network Adapter 82599ES 10000 Mbps
Target: x86_64-native-linuxapp-gcc
Fail/Total: 0/3

Detail performance results: 
+------------+---------+-------------------------------------+
| frame_size | txd/rxd | throughput difference from expected |
+============+=========+=====================================+
| 64         | 128     | 0.159                               |
+------------+---------+-------------------------------------+
| 64         | 512     | 0.421                               |
+------------+---------+-------------------------------------+
| 64         | 2048    | 0.019                               |
+------------+---------+-------------------------------------+

Ubuntu 18.04
Kernel: 4.15.0-generic
GCC: 7.4
NIC: Intel Corporation Ethernet Converged Network Adapter XL710-QDA2 40000 Mbps
Target: x86_64-native-linuxapp-gcc
Fail/Total: 0/2

Detail performance results: 
+------------+---------+-------------------------------------+
| frame_size | txd/rxd | throughput difference from expected |
+============+=========+=====================================+
| 64         | 512     | -0.036                              |
+------------+---------+-------------------------------------+
| 64         | 2048    | -0.120                              |
+------------+---------+-------------------------------------+

https://lab.dpdk.org/results/dashboard/patchsets/8787/

UNH-IOL DPDK Performance Test Lab

To manage your email subscriptions visit: 
https://lab.dpdk.org/results/dashboard/preferences/subscriptions/

^ permalink raw reply	[flat|nested] 3+ messages in thread

end of thread, back to index

Thread overview: 3+ messages (download: mbox.gz / follow: Atom feed)
-- links below jump to the message on this page --
2019-12-02 15:57 [dpdk-test-report] |SUCCESS| pw63502 [PATCH] mark experimental variables dpdklab
  -- strict thread matches above, loose matches on Subject: below --
2019-12-02 17:09 dpdklab
2019-12-02 15:55 dpdklab

automatic DPDK test reports

Archives are clonable:
	git clone --mirror http://inbox.dpdk.org/test-report/0 test-report/git/0.git

	# If you have public-inbox 1.1+ installed, you may
	# initialize and index your mirror using the following commands:
	public-inbox-init -V2 test-report test-report/ http://inbox.dpdk.org/test-report \
		test-report@dpdk.org
	public-inbox-index test-report


Newsgroup available over NNTP:
	nntp://inbox.dpdk.org/inbox.dpdk.test-report


AGPL code for this site: git clone https://public-inbox.org/ public-inbox