automatic DPDK test reports
 help / color / Atom feed
* [dpdk-test-report] |SUCCESS| [GIT MASTER] 7001c8fdb27357c67147c0a13cb3826e48c0f2bf
@ 2019-12-02 20:55 dpdklab
  0 siblings, 0 replies; 11+ messages in thread
From: dpdklab @ 2019-12-02 20:55 UTC (permalink / raw)
  To: Ali Alnubani, Test Report; +Cc: dpdk-test-reports

[-- Attachment #1: Type: text/plain, Size: 3696 bytes --]

_Performance Testing PASS_

Branch: dpdk-next-net-brcm

7001c8fdb27357c67147c0a13cb3826e48c0f2bf --> performance testing pass

Test environment and result as below:

Ubuntu 18.04
Kernel: 4.15.0-generic
GCC: 7.4
NIC: Mellanox ConnectX-4 Lx 25000 Mbps
Target: x86_64-native-linuxapp-gcc
Fail/Total: 0/6

Detail performance results: 
+------------+---------+-------------------------------------+
| frame_size | txd/rxd | throughput difference from expected |
+============+=========+=====================================+
| 64         | 256     | 0.065                               |
+------------+---------+-------------------------------------+
| 128        | 256     | 0.029                               |
+------------+---------+-------------------------------------+
| 256        | 256     | 0.028                               |
+------------+---------+-------------------------------------+
| 512        | 256     | 0                                   |
+------------+---------+-------------------------------------+
| 1024       | 256     | -0.001                              |
+------------+---------+-------------------------------------+
| 1518       | 256     | 0.002                               |
+------------+---------+-------------------------------------+

Ubuntu 18.04
Kernel: 4.15.0-generic
GCC: 7.4
NIC: Mellanox ConnectX-5 100000 Mbps
Target: x86_64-native-linuxapp-gcc
Fail/Total: 0/6

Detail performance results: 
+------------+---------+-------------------------------------+
| frame_size | txd/rxd | throughput difference from expected |
+============+=========+=====================================+
| 64         | 256     | 0.020                               |
+------------+---------+-------------------------------------+
| 128        | 256     | -0.132                              |
+------------+---------+-------------------------------------+
| 256        | 256     | 0.019                               |
+------------+---------+-------------------------------------+
| 512        | 256     | 0.020                               |
+------------+---------+-------------------------------------+
| 1024       | 256     | 0.015                               |
+------------+---------+-------------------------------------+
| 1518       | 256     | 0.011                               |
+------------+---------+-------------------------------------+

Ubuntu 18.04
Kernel: 4.15.0-generic
GCC: 7.4
NIC: Mellanox ConnectX-4 Lx 40000 Mbps
Target: x86_64-native-linuxapp-gcc
Fail/Total: 0/6

Detail performance results: 
+------------+---------+-------------------------------------+
| frame_size | txd/rxd | throughput difference from expected |
+============+=========+=====================================+
| 64         | 256     | -0.157                              |
+------------+---------+-------------------------------------+
| 128        | 256     | -0.072                              |
+------------+---------+-------------------------------------+
| 256        | 256     | -0.071                              |
+------------+---------+-------------------------------------+
| 512        | 256     | -0.034                              |
+------------+---------+-------------------------------------+
| 1024       | 256     | 0.007                               |
+------------+---------+-------------------------------------+
| 1518       | 256     | 0.001                               |
+------------+---------+-------------------------------------+

https://lab.dpdk.org/results/dashboard/tarballs/7356/

UNH-IOL DPDK Performance Test Lab

To manage your email subscriptions visit: 
https://lab.dpdk.org/results/dashboard/preferences/subscriptions/

^ permalink raw reply	[flat|nested] 11+ messages in thread

* [dpdk-test-report] |SUCCESS| [GIT MASTER] 7001c8fdb27357c67147c0a13cb3826e48c0f2bf
@ 2019-12-02 20:30 dpdklab
  0 siblings, 0 replies; 11+ messages in thread
From: dpdklab @ 2019-12-02 20:30 UTC (permalink / raw)
  To: Test Report; +Cc: dpdk-test-reports

[-- Attachment #1: Type: text/plain, Size: 1125 bytes --]

_Compile Testing PASS_

Branch: dpdk-next-net-brcm

7001c8fdb27357c67147c0a13cb3826e48c0f2bf --> compile testing pass

Test environment and result as below:

+--------------+--------------+------------------+-------------------+
| Environment  | dpdk_compile | dpdk_compile_ovs | dpdk_compile_spdk |
+==============+==============+==================+===================+
| Ubuntu 18.04 | PASS         | PASS             | PASS              |
+--------------+--------------+------------------+-------------------+
| FreeBSD 11.2 | PASS         | SKIPPED          | PASS              |
+--------------+--------------+------------------+-------------------+
| CentOS 8     | PASS         | PASS             | SKIPPED           |
+--------------+--------------+------------------+-------------------+

Ubuntu 18.04
	Kernel: 4.15.0-generic
	GCC: 7.4

FreeBSD 11.2
	Kernel: 11.2
	GCC: 8.3

CentOS 8
	Kernel: 4.18.0.el8_0
	GCC: 8.2

https://lab.dpdk.org/results/dashboard/tarballs/7356/

UNH-IOL DPDK Performance Test Lab

To manage your email subscriptions visit: 
https://lab.dpdk.org/results/dashboard/preferences/subscriptions/

^ permalink raw reply	[flat|nested] 11+ messages in thread

* [dpdk-test-report] |SUCCESS| [GIT MASTER] 7001c8fdb27357c67147c0a13cb3826e48c0f2bf
@ 2019-12-02 19:05 dpdklab
  0 siblings, 0 replies; 11+ messages in thread
From: dpdklab @ 2019-12-02 19:05 UTC (permalink / raw)
  To: Ali Alnubani, Test Report; +Cc: dpdk-test-reports

[-- Attachment #1: Type: text/plain, Size: 3694 bytes --]

_Performance Testing PASS_

Branch: dpdk-next-crypto

7001c8fdb27357c67147c0a13cb3826e48c0f2bf --> performance testing pass

Test environment and result as below:

Ubuntu 18.04
Kernel: 4.15.0-generic
GCC: 7.4
NIC: Mellanox ConnectX-4 Lx 40000 Mbps
Target: x86_64-native-linuxapp-gcc
Fail/Total: 0/6

Detail performance results: 
+------------+---------+-------------------------------------+
| frame_size | txd/rxd | throughput difference from expected |
+============+=========+=====================================+
| 64         | 256     | -0.348                              |
+------------+---------+-------------------------------------+
| 128        | 256     | -0.037                              |
+------------+---------+-------------------------------------+
| 256        | 256     | -0.185                              |
+------------+---------+-------------------------------------+
| 512        | 256     | 0.014                               |
+------------+---------+-------------------------------------+
| 1024       | 256     | 0.001                               |
+------------+---------+-------------------------------------+
| 1518       | 256     | 0                                   |
+------------+---------+-------------------------------------+

Ubuntu 18.04
Kernel: 4.15.0-generic
GCC: 7.4
NIC: Mellanox ConnectX-4 Lx 25000 Mbps
Target: x86_64-native-linuxapp-gcc
Fail/Total: 0/6

Detail performance results: 
+------------+---------+-------------------------------------+
| frame_size | txd/rxd | throughput difference from expected |
+============+=========+=====================================+
| 64         | 256     | 0.113                               |
+------------+---------+-------------------------------------+
| 128        | 256     | 0.086                               |
+------------+---------+-------------------------------------+
| 256        | 256     | 0.052                               |
+------------+---------+-------------------------------------+
| 512        | 256     | 0.010                               |
+------------+---------+-------------------------------------+
| 1024       | 256     | 0.012                               |
+------------+---------+-------------------------------------+
| 1518       | 256     | 0.009                               |
+------------+---------+-------------------------------------+

Ubuntu 18.04
Kernel: 4.15.0-generic
GCC: 7.4
NIC: Mellanox ConnectX-5 100000 Mbps
Target: x86_64-native-linuxapp-gcc
Fail/Total: 0/6

Detail performance results: 
+------------+---------+-------------------------------------+
| frame_size | txd/rxd | throughput difference from expected |
+============+=========+=====================================+
| 64         | 256     | 0.095                               |
+------------+---------+-------------------------------------+
| 128        | 256     | -0.039                              |
+------------+---------+-------------------------------------+
| 256        | 256     | 0.051                               |
+------------+---------+-------------------------------------+
| 512        | 256     | 0.025                               |
+------------+---------+-------------------------------------+
| 1024       | 256     | -0.041                              |
+------------+---------+-------------------------------------+
| 1518       | 256     | 0.023                               |
+------------+---------+-------------------------------------+

https://lab.dpdk.org/results/dashboard/tarballs/7355/

UNH-IOL DPDK Performance Test Lab

To manage your email subscriptions visit: 
https://lab.dpdk.org/results/dashboard/preferences/subscriptions/

^ permalink raw reply	[flat|nested] 11+ messages in thread

* [dpdk-test-report] |SUCCESS| [GIT MASTER] 7001c8fdb27357c67147c0a13cb3826e48c0f2bf
@ 2019-12-02 16:46 dpdklab
  0 siblings, 0 replies; 11+ messages in thread
From: dpdklab @ 2019-12-02 16:46 UTC (permalink / raw)
  To: Test Report; +Cc: dpdk-test-reports

[-- Attachment #1: Type: text/plain, Size: 1123 bytes --]

_Compile Testing PASS_

Branch: dpdk-next-crypto

7001c8fdb27357c67147c0a13cb3826e48c0f2bf --> compile testing pass

Test environment and result as below:

+--------------+------------------+-------------------+--------------+
| Environment  | dpdk_compile_ovs | dpdk_compile_spdk | dpdk_compile |
+==============+==================+===================+==============+
| Ubuntu 18.04 | PASS             | PASS              | PASS         |
+--------------+------------------+-------------------+--------------+
| CentOS 8     | PASS             | SKIPPED           | PASS         |
+--------------+------------------+-------------------+--------------+
| FreeBSD 11.2 | SKIPPED          | PASS              | PASS         |
+--------------+------------------+-------------------+--------------+

Ubuntu 18.04
	Kernel: 4.15.0-generic
	GCC: 7.4

CentOS 8
	Kernel: 4.18.0.el8_0
	GCC: 8.2

FreeBSD 11.2
	Kernel: 11.2
	GCC: 8.3

https://lab.dpdk.org/results/dashboard/tarballs/7355/

UNH-IOL DPDK Performance Test Lab

To manage your email subscriptions visit: 
https://lab.dpdk.org/results/dashboard/preferences/subscriptions/

^ permalink raw reply	[flat|nested] 11+ messages in thread

* [dpdk-test-report] |SUCCESS| [GIT MASTER] 7001c8fdb27357c67147c0a13cb3826e48c0f2bf
@ 2019-12-02 16:45 dpdklab
  0 siblings, 0 replies; 11+ messages in thread
From: dpdklab @ 2019-12-02 16:45 UTC (permalink / raw)
  To: Test Report; +Cc: dpdk-test-reports

[-- Attachment #1: Type: text/plain, Size: 1782 bytes --]

_Performance Testing PASS_

Branch: dpdk-next-crypto

7001c8fdb27357c67147c0a13cb3826e48c0f2bf --> performance testing pass

Test environment and result as below:

Ubuntu 18.04
Kernel: 4.15.0-generic
GCC: 7.4
NIC: Intel Corporation Ethernet Converged Network Adapter 82599ES 10000 Mbps
Target: x86_64-native-linuxapp-gcc
Fail/Total: 0/3

Detail performance results: 
+------------+---------+-------------------------------------+
| frame_size | txd/rxd | throughput difference from expected |
+============+=========+=====================================+
| 64         | 128     | 0.174                               |
+------------+---------+-------------------------------------+
| 64         | 512     | 0.434                               |
+------------+---------+-------------------------------------+
| 64         | 2048    | -0.012                              |
+------------+---------+-------------------------------------+

Ubuntu 18.04
Kernel: 4.15.0-generic
GCC: 7.4
NIC: Intel Corporation Ethernet Converged Network Adapter XL710-QDA2 40000 Mbps
Target: x86_64-native-linuxapp-gcc
Fail/Total: 0/2

Detail performance results: 
+------------+---------+-------------------------------------+
| frame_size | txd/rxd | throughput difference from expected |
+============+=========+=====================================+
| 64         | 512     | -0.482                              |
+------------+---------+-------------------------------------+
| 64         | 2048    | -0.267                              |
+------------+---------+-------------------------------------+

https://lab.dpdk.org/results/dashboard/tarballs/7355/

UNH-IOL DPDK Performance Test Lab

To manage your email subscriptions visit: 
https://lab.dpdk.org/results/dashboard/preferences/subscriptions/

^ permalink raw reply	[flat|nested] 11+ messages in thread

* [dpdk-test-report] |SUCCESS| [GIT MASTER] 7001c8fdb27357c67147c0a13cb3826e48c0f2bf
@ 2019-12-01 16:03 dpdklab
  0 siblings, 0 replies; 11+ messages in thread
From: dpdklab @ 2019-12-01 16:03 UTC (permalink / raw)
  To: Ali Alnubani, Test Report; +Cc: dpdk-test-reports

[-- Attachment #1: Type: text/plain, Size: 3695 bytes --]

_Performance Testing PASS_

Branch: dpdk-next-net-mlx

7001c8fdb27357c67147c0a13cb3826e48c0f2bf --> performance testing pass

Test environment and result as below:

Ubuntu 18.04
Kernel: 4.15.0-generic
GCC: 7.4
NIC: Mellanox ConnectX-5 100000 Mbps
Target: x86_64-native-linuxapp-gcc
Fail/Total: 0/6

Detail performance results: 
+------------+---------+-------------------------------------+
| frame_size | txd/rxd | throughput difference from expected |
+============+=========+=====================================+
| 64         | 256     | 0.229                               |
+------------+---------+-------------------------------------+
| 128        | 256     | -0.139                              |
+------------+---------+-------------------------------------+
| 256        | 256     | 0.123                               |
+------------+---------+-------------------------------------+
| 512        | 256     | 0.140                               |
+------------+---------+-------------------------------------+
| 1024       | 256     | -0.011                              |
+------------+---------+-------------------------------------+
| 1518       | 256     | -0.002                              |
+------------+---------+-------------------------------------+

Ubuntu 18.04
Kernel: 4.15.0-generic
GCC: 7.4
NIC: Mellanox ConnectX-4 Lx 25000 Mbps
Target: x86_64-native-linuxapp-gcc
Fail/Total: 0/6

Detail performance results: 
+------------+---------+-------------------------------------+
| frame_size | txd/rxd | throughput difference from expected |
+============+=========+=====================================+
| 64         | 256     | 0.054                               |
+------------+---------+-------------------------------------+
| 128        | 256     | -0.045                              |
+------------+---------+-------------------------------------+
| 256        | 256     | 0.001                               |
+------------+---------+-------------------------------------+
| 512        | 256     | 0.025                               |
+------------+---------+-------------------------------------+
| 1024       | 256     | 0.008                               |
+------------+---------+-------------------------------------+
| 1518       | 256     | 0                                   |
+------------+---------+-------------------------------------+

Ubuntu 18.04
Kernel: 4.15.0-generic
GCC: 7.4
NIC: Mellanox ConnectX-4 Lx 40000 Mbps
Target: x86_64-native-linuxapp-gcc
Fail/Total: 0/6

Detail performance results: 
+------------+---------+-------------------------------------+
| frame_size | txd/rxd | throughput difference from expected |
+============+=========+=====================================+
| 64         | 256     | -0.375                              |
+------------+---------+-------------------------------------+
| 128        | 256     | -0.099                              |
+------------+---------+-------------------------------------+
| 256        | 256     | -0.105                              |
+------------+---------+-------------------------------------+
| 512        | 256     | 0.010                               |
+------------+---------+-------------------------------------+
| 1024       | 256     | 0.001                               |
+------------+---------+-------------------------------------+
| 1518       | 256     | 0.004                               |
+------------+---------+-------------------------------------+

https://lab.dpdk.org/results/dashboard/tarballs/7344/

UNH-IOL DPDK Performance Test Lab

To manage your email subscriptions visit: 
https://lab.dpdk.org/results/dashboard/preferences/subscriptions/

^ permalink raw reply	[flat|nested] 11+ messages in thread

* [dpdk-test-report] |SUCCESS| [GIT MASTER] 7001c8fdb27357c67147c0a13cb3826e48c0f2bf
@ 2019-12-01 15:37 dpdklab
  0 siblings, 0 replies; 11+ messages in thread
From: dpdklab @ 2019-12-01 15:37 UTC (permalink / raw)
  To: Test Report; +Cc: dpdk-test-reports

[-- Attachment #1: Type: text/plain, Size: 1124 bytes --]

_Compile Testing PASS_

Branch: dpdk-next-net-mlx

7001c8fdb27357c67147c0a13cb3826e48c0f2bf --> compile testing pass

Test environment and result as below:

+--------------+------------------+-------------------+--------------+
| Environment  | dpdk_compile_ovs | dpdk_compile_spdk | dpdk_compile |
+==============+==================+===================+==============+
| Ubuntu 18.04 | PASS             | PASS              | PASS         |
+--------------+------------------+-------------------+--------------+
| CentOS 8     | PASS             | SKIPPED           | PASS         |
+--------------+------------------+-------------------+--------------+
| FreeBSD 11.2 | SKIPPED          | PASS              | PASS         |
+--------------+------------------+-------------------+--------------+

Ubuntu 18.04
	Kernel: 4.15.0-generic
	GCC: 7.4

CentOS 8
	Kernel: 4.18.0.el8_0
	GCC: 8.2

FreeBSD 11.2
	Kernel: 11.2
	GCC: 8.3

https://lab.dpdk.org/results/dashboard/tarballs/7344/

UNH-IOL DPDK Performance Test Lab

To manage your email subscriptions visit: 
https://lab.dpdk.org/results/dashboard/preferences/subscriptions/

^ permalink raw reply	[flat|nested] 11+ messages in thread

* [dpdk-test-report] |SUCCESS| [GIT MASTER] 7001c8fdb27357c67147c0a13cb3826e48c0f2bf
@ 2019-11-29 19:54 dpdklab
  0 siblings, 0 replies; 11+ messages in thread
From: dpdklab @ 2019-11-29 19:54 UTC (permalink / raw)
  To: Ali Alnubani, Test Report; +Cc: dpdk-test-reports

[-- Attachment #1: Type: text/plain, Size: 3691 bytes --]

_Performance Testing PASS_

Branch: dpdk-next-net

7001c8fdb27357c67147c0a13cb3826e48c0f2bf --> performance testing pass

Test environment and result as below:

Ubuntu 18.04
Kernel: 4.15.0-generic
GCC: 7.4
NIC: Mellanox ConnectX-4 Lx 25000 Mbps
Target: x86_64-native-linuxapp-gcc
Fail/Total: 0/6

Detail performance results: 
+------------+---------+-------------------------------------+
| frame_size | txd/rxd | throughput difference from expected |
+============+=========+=====================================+
| 64         | 256     | 0.103                               |
+------------+---------+-------------------------------------+
| 128        | 256     | 0.025                               |
+------------+---------+-------------------------------------+
| 256        | 256     | 0.013                               |
+------------+---------+-------------------------------------+
| 512        | 256     | 0.023                               |
+------------+---------+-------------------------------------+
| 1024       | 256     | -0.002                              |
+------------+---------+-------------------------------------+
| 1518       | 256     | 0.006                               |
+------------+---------+-------------------------------------+

Ubuntu 18.04
Kernel: 4.15.0-generic
GCC: 7.4
NIC: Mellanox ConnectX-5 100000 Mbps
Target: x86_64-native-linuxapp-gcc
Fail/Total: 0/6

Detail performance results: 
+------------+---------+-------------------------------------+
| frame_size | txd/rxd | throughput difference from expected |
+============+=========+=====================================+
| 64         | 256     | 0.139                               |
+------------+---------+-------------------------------------+
| 128        | 256     | -0.094                              |
+------------+---------+-------------------------------------+
| 256        | 256     | 0.003                               |
+------------+---------+-------------------------------------+
| 512        | 256     | 0.120                               |
+------------+---------+-------------------------------------+
| 1024       | 256     | -0.014                              |
+------------+---------+-------------------------------------+
| 1518       | 256     | -0.004                              |
+------------+---------+-------------------------------------+

Ubuntu 18.04
Kernel: 4.15.0-generic
GCC: 7.4
NIC: Mellanox ConnectX-4 Lx 40000 Mbps
Target: x86_64-native-linuxapp-gcc
Fail/Total: 0/6

Detail performance results: 
+------------+---------+-------------------------------------+
| frame_size | txd/rxd | throughput difference from expected |
+============+=========+=====================================+
| 64         | 256     | -0.310                              |
+------------+---------+-------------------------------------+
| 128        | 256     | -0.248                              |
+------------+---------+-------------------------------------+
| 256        | 256     | -0.091                              |
+------------+---------+-------------------------------------+
| 512        | 256     | 0.013                               |
+------------+---------+-------------------------------------+
| 1024       | 256     | -0.003                              |
+------------+---------+-------------------------------------+
| 1518       | 256     | -0.007                              |
+------------+---------+-------------------------------------+

https://lab.dpdk.org/results/dashboard/tarballs/7340/

UNH-IOL DPDK Performance Test Lab

To manage your email subscriptions visit: 
https://lab.dpdk.org/results/dashboard/preferences/subscriptions/

^ permalink raw reply	[flat|nested] 11+ messages in thread

* [dpdk-test-report] |SUCCESS| [GIT MASTER] 7001c8fdb27357c67147c0a13cb3826e48c0f2bf
@ 2019-11-29 19:29 dpdklab
  0 siblings, 0 replies; 11+ messages in thread
From: dpdklab @ 2019-11-29 19:29 UTC (permalink / raw)
  To: Test Report; +Cc: dpdk-test-reports

[-- Attachment #1: Type: text/plain, Size: 1120 bytes --]

_Compile Testing PASS_

Branch: dpdk-next-net

7001c8fdb27357c67147c0a13cb3826e48c0f2bf --> compile testing pass

Test environment and result as below:

+--------------+------------------+-------------------+--------------+
| Environment  | dpdk_compile_ovs | dpdk_compile_spdk | dpdk_compile |
+==============+==================+===================+==============+
| Ubuntu 18.04 | PASS             | PASS              | PASS         |
+--------------+------------------+-------------------+--------------+
| CentOS 8     | PASS             | SKIPPED           | PASS         |
+--------------+------------------+-------------------+--------------+
| FreeBSD 11.2 | SKIPPED          | PASS              | PASS         |
+--------------+------------------+-------------------+--------------+

Ubuntu 18.04
	Kernel: 4.15.0-generic
	GCC: 7.4

CentOS 8
	Kernel: 4.18.0.el8_0
	GCC: 8.2

FreeBSD 11.2
	Kernel: 11.2
	GCC: 8.3

https://lab.dpdk.org/results/dashboard/tarballs/7340/

UNH-IOL DPDK Performance Test Lab

To manage your email subscriptions visit: 
https://lab.dpdk.org/results/dashboard/preferences/subscriptions/

^ permalink raw reply	[flat|nested] 11+ messages in thread

* [dpdk-test-report] |SUCCESS| [GIT MASTER] 7001c8fdb27357c67147c0a13cb3826e48c0f2bf
@ 2019-11-28 23:25 dpdklab
  0 siblings, 0 replies; 11+ messages in thread
From: dpdklab @ 2019-11-28 23:25 UTC (permalink / raw)
  To: Ali Alnubani, Test Report; +Cc: dpdk-test-reports

[-- Attachment #1: Type: text/plain, Size: 3682 bytes --]

_Performance Testing PASS_

Branch: dpdk

7001c8fdb27357c67147c0a13cb3826e48c0f2bf --> performance testing pass

Test environment and result as below:

Ubuntu 18.04
Kernel: 4.15.0-generic
GCC: 7.4
NIC: Mellanox ConnectX-5 100000 Mbps
Target: x86_64-native-linuxapp-gcc
Fail/Total: 0/6

Detail performance results: 
+------------+---------+-------------------------------------+
| frame_size | txd/rxd | throughput difference from expected |
+============+=========+=====================================+
| 64         | 256     | -0.122                              |
+------------+---------+-------------------------------------+
| 128        | 256     | 0.094                               |
+------------+---------+-------------------------------------+
| 256        | 256     | 0.104                               |
+------------+---------+-------------------------------------+
| 512        | 256     | -0.005                              |
+------------+---------+-------------------------------------+
| 1024       | 256     | 0.049                               |
+------------+---------+-------------------------------------+
| 1518       | 256     | -0.002                              |
+------------+---------+-------------------------------------+

Ubuntu 18.04
Kernel: 4.15.0-generic
GCC: 7.4
NIC: Mellanox ConnectX-4 Lx 25000 Mbps
Target: x86_64-native-linuxapp-gcc
Fail/Total: 0/6

Detail performance results: 
+------------+---------+-------------------------------------+
| frame_size | txd/rxd | throughput difference from expected |
+============+=========+=====================================+
| 64         | 256     | 0.005                               |
+------------+---------+-------------------------------------+
| 128        | 256     | -0.054                              |
+------------+---------+-------------------------------------+
| 256        | 256     | -0.024                              |
+------------+---------+-------------------------------------+
| 512        | 256     | 0.004                               |
+------------+---------+-------------------------------------+
| 1024       | 256     | -0.019                              |
+------------+---------+-------------------------------------+
| 1518       | 256     | -0.003                              |
+------------+---------+-------------------------------------+

Ubuntu 18.04
Kernel: 4.15.0-generic
GCC: 7.4
NIC: Mellanox ConnectX-4 Lx 40000 Mbps
Target: x86_64-native-linuxapp-gcc
Fail/Total: 0/6

Detail performance results: 
+------------+---------+-------------------------------------+
| frame_size | txd/rxd | throughput difference from expected |
+============+=========+=====================================+
| 64         | 256     | 0.130                               |
+------------+---------+-------------------------------------+
| 128        | 256     | 0.042                               |
+------------+---------+-------------------------------------+
| 256        | 256     | 0.201                               |
+------------+---------+-------------------------------------+
| 512        | 256     | -0.005                              |
+------------+---------+-------------------------------------+
| 1024       | 256     | -0.023                              |
+------------+---------+-------------------------------------+
| 1518       | 256     | 0                                   |
+------------+---------+-------------------------------------+

https://lab.dpdk.org/results/dashboard/tarballs/7336/

UNH-IOL DPDK Performance Test Lab

To manage your email subscriptions visit: 
https://lab.dpdk.org/results/dashboard/preferences/subscriptions/

^ permalink raw reply	[flat|nested] 11+ messages in thread

* [dpdk-test-report] |SUCCESS| [GIT MASTER] 7001c8fdb27357c67147c0a13cb3826e48c0f2bf
@ 2019-11-28 22:58 dpdklab
  0 siblings, 0 replies; 11+ messages in thread
From: dpdklab @ 2019-11-28 22:58 UTC (permalink / raw)
  To: Test Report; +Cc: dpdk-test-reports

[-- Attachment #1: Type: text/plain, Size: 1770 bytes --]

_Performance Testing PASS_

Branch: dpdk

7001c8fdb27357c67147c0a13cb3826e48c0f2bf --> performance testing pass

Test environment and result as below:

Ubuntu 18.04
Kernel: 4.15.0-generic
GCC: 7.4
NIC: Intel Corporation Ethernet Converged Network Adapter 82599ES 10000 Mbps
Target: x86_64-native-linuxapp-gcc
Fail/Total: 0/3

Detail performance results: 
+------------+---------+-------------------------------------+
| frame_size | txd/rxd | throughput difference from expected |
+============+=========+=====================================+
| 64         | 128     | -0.311                              |
+------------+---------+-------------------------------------+
| 64         | 512     | 0.208                               |
+------------+---------+-------------------------------------+
| 64         | 2048    | -0.027                              |
+------------+---------+-------------------------------------+

Ubuntu 18.04
Kernel: 4.15.0-generic
GCC: 7.4
NIC: Intel Corporation Ethernet Converged Network Adapter XL710-QDA2 40000 Mbps
Target: x86_64-native-linuxapp-gcc
Fail/Total: 0/2

Detail performance results: 
+------------+---------+-------------------------------------+
| frame_size | txd/rxd | throughput difference from expected |
+============+=========+=====================================+
| 64         | 512     | 0.385                               |
+------------+---------+-------------------------------------+
| 64         | 2048    | 0.161                               |
+------------+---------+-------------------------------------+

https://lab.dpdk.org/results/dashboard/tarballs/7336/

UNH-IOL DPDK Performance Test Lab

To manage your email subscriptions visit: 
https://lab.dpdk.org/results/dashboard/preferences/subscriptions/

^ permalink raw reply	[flat|nested] 11+ messages in thread

end of thread, back to index

Thread overview: 11+ messages (download: mbox.gz / follow: Atom feed)
-- links below jump to the message on this page --
2019-12-02 20:55 [dpdk-test-report] |SUCCESS| [GIT MASTER] 7001c8fdb27357c67147c0a13cb3826e48c0f2bf dpdklab
  -- strict thread matches above, loose matches on Subject: below --
2019-12-02 20:30 dpdklab
2019-12-02 19:05 dpdklab
2019-12-02 16:46 dpdklab
2019-12-02 16:45 dpdklab
2019-12-01 16:03 dpdklab
2019-12-01 15:37 dpdklab
2019-11-29 19:54 dpdklab
2019-11-29 19:29 dpdklab
2019-11-28 23:25 dpdklab
2019-11-28 22:58 dpdklab

automatic DPDK test reports

Archives are clonable:
	git clone --mirror http://inbox.dpdk.org/test-report/0 test-report/git/0.git

	# If you have public-inbox 1.1+ installed, you may
	# initialize and index your mirror using the following commands:
	public-inbox-init -V2 test-report test-report/ http://inbox.dpdk.org/test-report \
		test-report@dpdk.org
	public-inbox-index test-report


Newsgroup available over NNTP:
	nntp://inbox.dpdk.org/inbox.dpdk.test-report


AGPL code for this site: git clone https://public-inbox.org/ public-inbox