automatic DPDK test reports
 help / color / Atom feed
* [dpdk-test-report] |SUCCESS| [GIT MASTER] d51827a9815d1e1b97828013ea2ef4760cf61dc9
@ 2019-12-02 23:01 dpdklab
  0 siblings, 0 replies; 8+ messages in thread
From: dpdklab @ 2019-12-02 23:01 UTC (permalink / raw)
  To: Test Report; +Cc: dpdk-test-reports

[-- Attachment #1: Type: text/plain, Size: 1111 bytes --]

_Compile Testing PASS_

Branch: dpdk

d51827a9815d1e1b97828013ea2ef4760cf61dc9 --> compile testing pass

Test environment and result as below:

+--------------+-------------------+--------------+------------------+
| Environment  | dpdk_compile_spdk | dpdk_compile | dpdk_compile_ovs |
+==============+===================+==============+==================+
| FreeBSD 11.2 | PASS              | PASS         | SKIPPED          |
+--------------+-------------------+--------------+------------------+
| Ubuntu 18.04 | PASS              | PASS         | PASS             |
+--------------+-------------------+--------------+------------------+
| CentOS 8     | SKIPPED           | PASS         | PASS             |
+--------------+-------------------+--------------+------------------+

FreeBSD 11.2
	Kernel: 11.2
	GCC: 8.3

Ubuntu 18.04
	Kernel: 4.15.0-generic
	GCC: 7.4

CentOS 8
	Kernel: 4.18.0.el8_0
	GCC: 8.2

https://lab.dpdk.org/results/dashboard/tarballs/7357/

UNH-IOL DPDK Performance Test Lab

To manage your email subscriptions visit: 
https://lab.dpdk.org/results/dashboard/preferences/subscriptions/

^ permalink raw reply	[flat|nested] 8+ messages in thread

* [dpdk-test-report] |SUCCESS| [GIT MASTER] d51827a9815d1e1b97828013ea2ef4760cf61dc9
@ 2019-12-04 21:07 dpdklab
  0 siblings, 0 replies; 8+ messages in thread
From: dpdklab @ 2019-12-04 21:07 UTC (permalink / raw)
  To: Test Report; +Cc: dpdk-test-reports

[-- Attachment #1: Type: text/plain, Size: 1428 bytes --]

_Testing PASS_

Branch: dpdk

d51827a9815d1e1b97828013ea2ef4760cf61dc9 --> testing pass

Test environment and result as below:

+-------------+------------+------------+------------+------------+------------+
| Environment | dpdk_compi | dpdk_unit_ | dpdk_compi | dpdk_compi | dpdk_meson |
|             |  le_spdk   |    test    |     le     |   le_ovs   |  _compile  |
+=============+============+============+============+============+============+
| FreeBSD     | PASS       | SKIPPED    | PASS       | SKIPPED    | PASS       |
| 11.2        |            |            |            |            |            |
+-------------+------------+------------+------------+------------+------------+
| Ubuntu      | PASS       | PASS       | PASS       | PASS       | PASS       |
| 18.04       |            |            |            |            |            |
+-------------+------------+------------+------------+------------+------------+
| CentOS 8    | SKIPPED    | SKIPPED    | PASS       | PASS       | PASS       |
+-------------+------------+------------+------------+------------+------------+

FreeBSD 11.2
	Kernel: 11.2
	GCC: 8.3

Ubuntu 18.04
	Kernel: 4.15.0-generic
	GCC: 7.4

CentOS 8
	Kernel: 4.18.0.el8_0
	GCC: 8.2

https://lab.dpdk.org/results/dashboard/tarballs/7357/

UNH-IOL DPDK Performance Test Lab

To manage your email subscriptions visit: 
https://lab.dpdk.org/results/dashboard/preferences/subscriptions/

^ permalink raw reply	[flat|nested] 8+ messages in thread

* [dpdk-test-report] |SUCCESS| [GIT MASTER] d51827a9815d1e1b97828013ea2ef4760cf61dc9
@ 2019-12-04 15:51 dpdklab
  0 siblings, 0 replies; 8+ messages in thread
From: dpdklab @ 2019-12-04 15:51 UTC (permalink / raw)
  To: Ali Alnubani, Test Report; +Cc: dpdk-test-reports

[-- Attachment #1: Type: text/plain, Size: 3695 bytes --]

_Performance Testing PASS_

Branch: dpdk-next-net-mlx

d51827a9815d1e1b97828013ea2ef4760cf61dc9 --> performance testing pass

Test environment and result as below:

Ubuntu 18.04
Kernel: 4.15.0-generic
GCC: 7.4
NIC: Mellanox ConnectX-5 100000 Mbps
Target: x86_64-native-linuxapp-gcc
Fail/Total: 0/6

Detail performance results: 
+------------+---------+-------------------------------------+
| frame_size | txd/rxd | throughput difference from expected |
+============+=========+=====================================+
| 64         | 256     | -0.139                              |
+------------+---------+-------------------------------------+
| 128        | 256     | -0.087                              |
+------------+---------+-------------------------------------+
| 256        | 256     | 0.077                               |
+------------+---------+-------------------------------------+
| 512        | 256     | -0.036                              |
+------------+---------+-------------------------------------+
| 1024       | 256     | 0.022                               |
+------------+---------+-------------------------------------+
| 1518       | 256     | 0.009                               |
+------------+---------+-------------------------------------+

Ubuntu 18.04
Kernel: 4.15.0-generic
GCC: 7.4
NIC: Mellanox ConnectX-4 Lx 25000 Mbps
Target: x86_64-native-linuxapp-gcc
Fail/Total: 0/6

Detail performance results: 
+------------+---------+-------------------------------------+
| frame_size | txd/rxd | throughput difference from expected |
+============+=========+=====================================+
| 64         | 256     | -0.216                              |
+------------+---------+-------------------------------------+
| 128        | 256     | -0.042                              |
+------------+---------+-------------------------------------+
| 256        | 256     | 0.003                               |
+------------+---------+-------------------------------------+
| 512        | 256     | 0.004                               |
+------------+---------+-------------------------------------+
| 1024       | 256     | -0.002                              |
+------------+---------+-------------------------------------+
| 1518       | 256     | 0.007                               |
+------------+---------+-------------------------------------+

Ubuntu 18.04
Kernel: 4.15.0-generic
GCC: 7.4
NIC: Mellanox ConnectX-4 Lx 40000 Mbps
Target: x86_64-native-linuxapp-gcc
Fail/Total: 0/6

Detail performance results: 
+------------+---------+-------------------------------------+
| frame_size | txd/rxd | throughput difference from expected |
+============+=========+=====================================+
| 64         | 256     | -0.076                              |
+------------+---------+-------------------------------------+
| 128        | 256     | -0.054                              |
+------------+---------+-------------------------------------+
| 256        | 256     | -0.049                              |
+------------+---------+-------------------------------------+
| 512        | 256     | 0.010                               |
+------------+---------+-------------------------------------+
| 1024       | 256     | -0.008                              |
+------------+---------+-------------------------------------+
| 1518       | 256     | -0.007                              |
+------------+---------+-------------------------------------+

https://lab.dpdk.org/results/dashboard/tarballs/7360/

UNH-IOL DPDK Performance Test Lab

To manage your email subscriptions visit: 
https://lab.dpdk.org/results/dashboard/preferences/subscriptions/

^ permalink raw reply	[flat|nested] 8+ messages in thread

* [dpdk-test-report] |SUCCESS| [GIT MASTER] d51827a9815d1e1b97828013ea2ef4760cf61dc9
@ 2019-12-03 21:29 dpdklab
  0 siblings, 0 replies; 8+ messages in thread
From: dpdklab @ 2019-12-03 21:29 UTC (permalink / raw)
  To: Test Report; +Cc: dpdk-test-reports

[-- Attachment #1: Type: text/plain, Size: 1282 bytes --]

_Compile Testing PASS_

Branch: dpdk

d51827a9815d1e1b97828013ea2ef4760cf61dc9 --> compile testing pass

Test environment and result as below:

+--------------+----------------+--------------+---------------+---------------+
| Environment  | dpdk_compile_s | dpdk_compile | dpdk_compile_ | dpdk_meson_co |
|              |      pdk       |              |      ovs      |     mpile     |
+==============+================+==============+===============+===============+
| FreeBSD 11.2 | PASS           | PASS         | SKIPPED       | PASS          |
+--------------+----------------+--------------+---------------+---------------+
| Ubuntu 18.04 | PASS           | PASS         | PASS          | PASS          |
+--------------+----------------+--------------+---------------+---------------+
| CentOS 8     | SKIPPED        | PASS         | PASS          | PASS          |
+--------------+----------------+--------------+---------------+---------------+

FreeBSD 11.2
	Kernel: 11.2
	GCC: 8.3

Ubuntu 18.04
	Kernel: 4.15.0-generic
	GCC: 7.4

CentOS 8
	Kernel: 4.18.0.el8_0
	GCC: 8.2

https://lab.dpdk.org/results/dashboard/tarballs/7357/

UNH-IOL DPDK Performance Test Lab

To manage your email subscriptions visit: 
https://lab.dpdk.org/results/dashboard/preferences/subscriptions/

^ permalink raw reply	[flat|nested] 8+ messages in thread

* [dpdk-test-report] |SUCCESS| [GIT MASTER] d51827a9815d1e1b97828013ea2ef4760cf61dc9
@ 2019-12-03 15:38 dpdklab
  0 siblings, 0 replies; 8+ messages in thread
From: dpdklab @ 2019-12-03 15:38 UTC (permalink / raw)
  To: Test Report; +Cc: dpdk-test-reports

[-- Attachment #1: Type: text/plain, Size: 1124 bytes --]

_Compile Testing PASS_

Branch: dpdk-next-net-mlx

d51827a9815d1e1b97828013ea2ef4760cf61dc9 --> compile testing pass

Test environment and result as below:

+--------------+------------------+-------------------+--------------+
| Environment  | dpdk_compile_ovs | dpdk_compile_spdk | dpdk_compile |
+==============+==================+===================+==============+
| Ubuntu 18.04 | PASS             | PASS              | PASS         |
+--------------+------------------+-------------------+--------------+
| CentOS 8     | PASS             | SKIPPED           | PASS         |
+--------------+------------------+-------------------+--------------+
| FreeBSD 11.2 | SKIPPED          | PASS              | PASS         |
+--------------+------------------+-------------------+--------------+

Ubuntu 18.04
	Kernel: 4.15.0-generic
	GCC: 7.4

CentOS 8
	Kernel: 4.18.0.el8_0
	GCC: 8.2

FreeBSD 11.2
	Kernel: 11.2
	GCC: 8.3

https://lab.dpdk.org/results/dashboard/tarballs/7360/

UNH-IOL DPDK Performance Test Lab

To manage your email subscriptions visit: 
https://lab.dpdk.org/results/dashboard/preferences/subscriptions/

^ permalink raw reply	[flat|nested] 8+ messages in thread

* [dpdk-test-report] |SUCCESS| [GIT MASTER] d51827a9815d1e1b97828013ea2ef4760cf61dc9
@ 2019-12-03 15:36 dpdklab
  0 siblings, 0 replies; 8+ messages in thread
From: dpdklab @ 2019-12-03 15:36 UTC (permalink / raw)
  To: Test Report; +Cc: dpdk-test-reports

[-- Attachment #1: Type: text/plain, Size: 1783 bytes --]

_Performance Testing PASS_

Branch: dpdk-next-net-mlx

d51827a9815d1e1b97828013ea2ef4760cf61dc9 --> performance testing pass

Test environment and result as below:

Ubuntu 18.04
Kernel: 4.15.0-generic
GCC: 7.4
NIC: Intel Corporation Ethernet Converged Network Adapter 82599ES 10000 Mbps
Target: x86_64-native-linuxapp-gcc
Fail/Total: 0/3

Detail performance results: 
+------------+---------+-------------------------------------+
| frame_size | txd/rxd | throughput difference from expected |
+============+=========+=====================================+
| 64         | 128     | -0.052                              |
+------------+---------+-------------------------------------+
| 64         | 512     | 0.555                               |
+------------+---------+-------------------------------------+
| 64         | 2048    | -0.183                              |
+------------+---------+-------------------------------------+

Ubuntu 18.04
Kernel: 4.15.0-generic
GCC: 7.4
NIC: Intel Corporation Ethernet Converged Network Adapter XL710-QDA2 40000 Mbps
Target: x86_64-native-linuxapp-gcc
Fail/Total: 0/2

Detail performance results: 
+------------+---------+-------------------------------------+
| frame_size | txd/rxd | throughput difference from expected |
+============+=========+=====================================+
| 64         | 512     | 0.237                               |
+------------+---------+-------------------------------------+
| 64         | 2048    | -0.054                              |
+------------+---------+-------------------------------------+

https://lab.dpdk.org/results/dashboard/tarballs/7360/

UNH-IOL DPDK Performance Test Lab

To manage your email subscriptions visit: 
https://lab.dpdk.org/results/dashboard/preferences/subscriptions/

^ permalink raw reply	[flat|nested] 8+ messages in thread

* [dpdk-test-report] |SUCCESS| [GIT MASTER] d51827a9815d1e1b97828013ea2ef4760cf61dc9
@ 2019-12-02 23:25 dpdklab
  0 siblings, 0 replies; 8+ messages in thread
From: dpdklab @ 2019-12-02 23:25 UTC (permalink / raw)
  To: Ali Alnubani, Test Report; +Cc: dpdk-test-reports

[-- Attachment #1: Type: text/plain, Size: 3682 bytes --]

_Performance Testing PASS_

Branch: dpdk

d51827a9815d1e1b97828013ea2ef4760cf61dc9 --> performance testing pass

Test environment and result as below:

Ubuntu 18.04
Kernel: 4.15.0-generic
GCC: 7.4
NIC: Mellanox ConnectX-4 Lx 40000 Mbps
Target: x86_64-native-linuxapp-gcc
Fail/Total: 0/6

Detail performance results: 
+------------+---------+-------------------------------------+
| frame_size | txd/rxd | throughput difference from expected |
+============+=========+=====================================+
| 64         | 256     | -0.261                              |
+------------+---------+-------------------------------------+
| 128        | 256     | -0.080                              |
+------------+---------+-------------------------------------+
| 256        | 256     | -0.082                              |
+------------+---------+-------------------------------------+
| 512        | 256     | 0.003                               |
+------------+---------+-------------------------------------+
| 1024       | 256     | 0.008                               |
+------------+---------+-------------------------------------+
| 1518       | 256     | 0.009                               |
+------------+---------+-------------------------------------+

Ubuntu 18.04
Kernel: 4.15.0-generic
GCC: 7.4
NIC: Mellanox ConnectX-5 100000 Mbps
Target: x86_64-native-linuxapp-gcc
Fail/Total: 0/6

Detail performance results: 
+------------+---------+-------------------------------------+
| frame_size | txd/rxd | throughput difference from expected |
+============+=========+=====================================+
| 64         | 256     | -0.100                              |
+------------+---------+-------------------------------------+
| 128        | 256     | -0.056                              |
+------------+---------+-------------------------------------+
| 256        | 256     | -0.117                              |
+------------+---------+-------------------------------------+
| 512        | 256     | 0.219                               |
+------------+---------+-------------------------------------+
| 1024       | 256     | 0.008                               |
+------------+---------+-------------------------------------+
| 1518       | 256     | -0.004                              |
+------------+---------+-------------------------------------+

Ubuntu 18.04
Kernel: 4.15.0-generic
GCC: 7.4
NIC: Mellanox ConnectX-4 Lx 25000 Mbps
Target: x86_64-native-linuxapp-gcc
Fail/Total: 0/6

Detail performance results: 
+------------+---------+-------------------------------------+
| frame_size | txd/rxd | throughput difference from expected |
+============+=========+=====================================+
| 64         | 256     | 0.055                               |
+------------+---------+-------------------------------------+
| 128        | 256     | 0.024                               |
+------------+---------+-------------------------------------+
| 256        | 256     | 0.021                               |
+------------+---------+-------------------------------------+
| 512        | 256     | 0.003                               |
+------------+---------+-------------------------------------+
| 1024       | 256     | 0.008                               |
+------------+---------+-------------------------------------+
| 1518       | 256     | -0.001                              |
+------------+---------+-------------------------------------+

https://lab.dpdk.org/results/dashboard/tarballs/7357/

UNH-IOL DPDK Performance Test Lab

To manage your email subscriptions visit: 
https://lab.dpdk.org/results/dashboard/preferences/subscriptions/

^ permalink raw reply	[flat|nested] 8+ messages in thread

* [dpdk-test-report] |SUCCESS| [GIT MASTER] d51827a9815d1e1b97828013ea2ef4760cf61dc9
@ 2019-12-02 22:59 dpdklab
  0 siblings, 0 replies; 8+ messages in thread
From: dpdklab @ 2019-12-02 22:59 UTC (permalink / raw)
  To: Test Report; +Cc: dpdk-test-reports

[-- Attachment #1: Type: text/plain, Size: 1770 bytes --]

_Performance Testing PASS_

Branch: dpdk

d51827a9815d1e1b97828013ea2ef4760cf61dc9 --> performance testing pass

Test environment and result as below:

Ubuntu 18.04
Kernel: 4.15.0-generic
GCC: 7.4
NIC: Intel Corporation Ethernet Converged Network Adapter 82599ES 10000 Mbps
Target: x86_64-native-linuxapp-gcc
Fail/Total: 0/3

Detail performance results: 
+------------+---------+-------------------------------------+
| frame_size | txd/rxd | throughput difference from expected |
+============+=========+=====================================+
| 64         | 128     | 0.140                               |
+------------+---------+-------------------------------------+
| 64         | 512     | -0.195                              |
+------------+---------+-------------------------------------+
| 64         | 2048    | 0.215                               |
+------------+---------+-------------------------------------+

Ubuntu 18.04
Kernel: 4.15.0-generic
GCC: 7.4
NIC: Intel Corporation Ethernet Converged Network Adapter XL710-QDA2 40000 Mbps
Target: x86_64-native-linuxapp-gcc
Fail/Total: 0/2

Detail performance results: 
+------------+---------+-------------------------------------+
| frame_size | txd/rxd | throughput difference from expected |
+============+=========+=====================================+
| 64         | 512     | -0.386                              |
+------------+---------+-------------------------------------+
| 64         | 2048    | -0.085                              |
+------------+---------+-------------------------------------+

https://lab.dpdk.org/results/dashboard/tarballs/7357/

UNH-IOL DPDK Performance Test Lab

To manage your email subscriptions visit: 
https://lab.dpdk.org/results/dashboard/preferences/subscriptions/

^ permalink raw reply	[flat|nested] 8+ messages in thread

end of thread, back to index

Thread overview: 8+ messages (download: mbox.gz / follow: Atom feed)
-- links below jump to the message on this page --
2019-12-02 23:01 [dpdk-test-report] |SUCCESS| [GIT MASTER] d51827a9815d1e1b97828013ea2ef4760cf61dc9 dpdklab
  -- strict thread matches above, loose matches on Subject: below --
2019-12-04 21:07 dpdklab
2019-12-04 15:51 dpdklab
2019-12-03 21:29 dpdklab
2019-12-03 15:38 dpdklab
2019-12-03 15:36 dpdklab
2019-12-02 23:25 dpdklab
2019-12-02 22:59 dpdklab

automatic DPDK test reports

Archives are clonable:
	git clone --mirror http://inbox.dpdk.org/test-report/0 test-report/git/0.git

	# If you have public-inbox 1.1+ installed, you may
	# initialize and index your mirror using the following commands:
	public-inbox-init -V2 test-report test-report/ http://inbox.dpdk.org/test-report \
		test-report@dpdk.org
	public-inbox-index test-report


Newsgroup available over NNTP:
	nntp://inbox.dpdk.org/inbox.dpdk.test-report


AGPL code for this site: git clone https://public-inbox.org/ public-inbox