automatic DPDK test reports
 help / color / Atom feed
* [dpdk-test-report] |SUCCESS| pw63510 [PATCH v2] kernel/linux: fix kernel dir for meson
       [not found] <20191203052917.19820-1-xiaolong.ye@intel.com>
@ 2019-12-03  5:35 ` checkpatch
  2019-12-03  7:55 ` [dpdk-test-report] |SUCCESS| pw63510 " 0-day Robot
  1 sibling, 0 replies; 5+ messages in thread
From: checkpatch @ 2019-12-03  5:35 UTC (permalink / raw)
  To: test-report

Test-Label: checkpatch
Test-Status: SUCCESS
http://dpdk.org/patch/63510

_coding style OK_



^ permalink raw reply	[flat|nested] 5+ messages in thread

* [dpdk-test-report] |SUCCESS| pw63510 kernel/linux: fix kernel dir for meson
       [not found] <20191203052917.19820-1-xiaolong.ye@intel.com>
  2019-12-03  5:35 ` [dpdk-test-report] |SUCCESS| pw63510 [PATCH v2] kernel/linux: fix kernel dir for meson checkpatch
@ 2019-12-03  7:55 ` " 0-day Robot
  1 sibling, 0 replies; 5+ messages in thread
From: 0-day Robot @ 2019-12-03  7:55 UTC (permalink / raw)
  To: test-report; +Cc: robot

From: robot@bytheb.org

Test-Label: travis-robot
Test-Status: SUCCESS
http://dpdk.org/patch/63510

_Travis build: passed_
Build URL: https://travis-ci.com/ovsrobot/dpdk/builds/139090253

^ permalink raw reply	[flat|nested] 5+ messages in thread

* [dpdk-test-report] |SUCCESS| pw63510 [PATCH] [v2] kernel/linux: fix kernel dir for meson
@ 2019-12-03 22:56 dpdklab
  0 siblings, 0 replies; 5+ messages in thread
From: dpdklab @ 2019-12-03 22:56 UTC (permalink / raw)
  To: Ali Alnubani, Test Report; +Cc: dpdk-test-reports

[-- Attachment #1: Type: text/plain, Size: 3909 bytes --]

Test-Label: iol-mellanox-Performance
Test-Status: SUCCESS
http://dpdk.org/patch/63510

_Performance Testing PASS_

Submitter: Xiaolong Ye <xiaolong.ye@intel.com>
Date: Tuesday, December 03 2019 05:29:17 
DPDK git baseline: Repo:dpdk
  Branch: master
  CommitID:d51827a9815d1e1b97828013ea2ef4760cf61dc9

63510 --> performance testing pass

Test environment and result as below:

Ubuntu 18.04
Kernel: 4.15.0-generic
GCC: 7.4
NIC: Mellanox ConnectX-4 Lx 25000 Mbps
Target: x86_64-native-linuxapp-gcc
Fail/Total: 0/6

Detail performance results: 
+------------+---------+-------------------------------------+
| frame_size | txd/rxd | throughput difference from expected |
+============+=========+=====================================+
| 64         | 256     | -0.091                              |
+------------+---------+-------------------------------------+
| 128        | 256     | -0.025                              |
+------------+---------+-------------------------------------+
| 256        | 256     | 0.024                               |
+------------+---------+-------------------------------------+
| 512        | 256     | -0.017                              |
+------------+---------+-------------------------------------+
| 1024       | 256     | 0.004                               |
+------------+---------+-------------------------------------+
| 1518       | 256     | 0.004                               |
+------------+---------+-------------------------------------+

Ubuntu 18.04
Kernel: 4.15.0-generic
GCC: 7.4
NIC: Mellanox ConnectX-4 Lx 40000 Mbps
Target: x86_64-native-linuxapp-gcc
Fail/Total: 0/6

Detail performance results: 
+------------+---------+-------------------------------------+
| frame_size | txd/rxd | throughput difference from expected |
+============+=========+=====================================+
| 64         | 256     | -0.016                              |
+------------+---------+-------------------------------------+
| 128        | 256     | 0.083                               |
+------------+---------+-------------------------------------+
| 256        | 256     | -0.042                              |
+------------+---------+-------------------------------------+
| 512        | 256     | -0.004                              |
+------------+---------+-------------------------------------+
| 1024       | 256     | -0.011                              |
+------------+---------+-------------------------------------+
| 1518       | 256     | 0.005                               |
+------------+---------+-------------------------------------+

Ubuntu 18.04
Kernel: 4.15.0-generic
GCC: 7.4
NIC: Mellanox ConnectX-5 100000 Mbps
Target: x86_64-native-linuxapp-gcc
Fail/Total: 0/6

Detail performance results: 
+------------+---------+-------------------------------------+
| frame_size | txd/rxd | throughput difference from expected |
+============+=========+=====================================+
| 64         | 256     | -0.150                              |
+------------+---------+-------------------------------------+
| 128        | 256     | 0.015                               |
+------------+---------+-------------------------------------+
| 256        | 256     | 0.102                               |
+------------+---------+-------------------------------------+
| 512        | 256     | -0.164                              |
+------------+---------+-------------------------------------+
| 1024       | 256     | 0.015                               |
+------------+---------+-------------------------------------+
| 1518       | 256     | -0.006                              |
+------------+---------+-------------------------------------+

https://lab.dpdk.org/results/dashboard/patchsets/8791/

UNH-IOL DPDK Performance Test Lab

To manage your email subscriptions visit: 
https://lab.dpdk.org/results/dashboard/preferences/subscriptions/

^ permalink raw reply	[flat|nested] 5+ messages in thread

* [dpdk-test-report] |SUCCESS| pw63510 [PATCH] [v2] kernel/linux: fix kernel dir for meson
@ 2019-12-03 18:57 dpdklab
  0 siblings, 0 replies; 5+ messages in thread
From: dpdklab @ 2019-12-03 18:57 UTC (permalink / raw)
  To: Test Report; +Cc: dpdk-test-reports

[-- Attachment #1: Type: text/plain, Size: 1329 bytes --]

Test-Label: iol-compilation
Test-Status: SUCCESS
http://dpdk.org/patch/63510

_Compile Testing PASS_

Submitter: Xiaolong Ye <xiaolong.ye@intel.com>
Date: Tuesday, December 03 2019 05:29:17 
DPDK git baseline: Repo:dpdk
  Branch: master
  CommitID:d51827a9815d1e1b97828013ea2ef4760cf61dc9

63510 --> compile testing pass

Test environment and result as below:

+--------------+--------------+-------------------+------------------+
| Environment  | dpdk_compile | dpdk_compile_spdk | dpdk_compile_ovs |
+==============+==============+===================+==================+
| Ubuntu 18.04 | PASS         | PASS              | PASS             |
+--------------+--------------+-------------------+------------------+
| FreeBSD 11.2 | PASS         | PASS              | SKIPPED          |
+--------------+--------------+-------------------+------------------+
| CentOS 8     | PASS         | SKIPPED           | PASS             |
+--------------+--------------+-------------------+------------------+

Ubuntu 18.04
	Kernel: 4.15.0-generic
	GCC: 7.4

FreeBSD 11.2
	Kernel: 11.2
	GCC: 8.3

CentOS 8
	Kernel: 4.18.0.el8_0
	GCC: 8.2

https://lab.dpdk.org/results/dashboard/patchsets/8791/

UNH-IOL DPDK Performance Test Lab

To manage your email subscriptions visit: 
https://lab.dpdk.org/results/dashboard/preferences/subscriptions/

^ permalink raw reply	[flat|nested] 5+ messages in thread

* [dpdk-test-report] |SUCCESS| pw63510 [PATCH] [v2] kernel/linux: fix kernel dir for meson
@ 2019-12-03 18:55 " dpdklab
  0 siblings, 0 replies; 5+ messages in thread
From: dpdklab @ 2019-12-03 18:55 UTC (permalink / raw)
  To: Test Report; +Cc: dpdk-test-reports

[-- Attachment #1: Type: text/plain, Size: 1994 bytes --]

Test-Label: iol-intel-Performance
Test-Status: SUCCESS
http://dpdk.org/patch/63510

_Performance Testing PASS_

Submitter: Xiaolong Ye <xiaolong.ye@intel.com>
Date: Tuesday, December 03 2019 05:29:17 
DPDK git baseline: Repo:dpdk
  Branch: master
  CommitID:d51827a9815d1e1b97828013ea2ef4760cf61dc9

63510 --> performance testing pass

Test environment and result as below:

Ubuntu 18.04
Kernel: 4.15.0-generic
GCC: 7.4
NIC: Intel Corporation Ethernet Converged Network Adapter 82599ES 10000 Mbps
Target: x86_64-native-linuxapp-gcc
Fail/Total: 0/3

Detail performance results: 
+------------+---------+-------------------------------------+
| frame_size | txd/rxd | throughput difference from expected |
+============+=========+=====================================+
| 64         | 128     | 0.078                               |
+------------+---------+-------------------------------------+
| 64         | 512     | -0.056                              |
+------------+---------+-------------------------------------+
| 64         | 2048    | -0.252                              |
+------------+---------+-------------------------------------+

Ubuntu 18.04
Kernel: 4.15.0-generic
GCC: 7.4
NIC: Intel Corporation Ethernet Converged Network Adapter XL710-QDA2 40000 Mbps
Target: x86_64-native-linuxapp-gcc
Fail/Total: 0/2

Detail performance results: 
+------------+---------+-------------------------------------+
| frame_size | txd/rxd | throughput difference from expected |
+============+=========+=====================================+
| 64         | 512     | -0.199                              |
+------------+---------+-------------------------------------+
| 64         | 2048    | -0.139                              |
+------------+---------+-------------------------------------+

https://lab.dpdk.org/results/dashboard/patchsets/8791/

UNH-IOL DPDK Performance Test Lab

To manage your email subscriptions visit: 
https://lab.dpdk.org/results/dashboard/preferences/subscriptions/

^ permalink raw reply	[flat|nested] 5+ messages in thread

end of thread, back to index

Thread overview: 5+ messages (download: mbox.gz / follow: Atom feed)
-- links below jump to the message on this page --
     [not found] <20191203052917.19820-1-xiaolong.ye@intel.com>
2019-12-03  5:35 ` [dpdk-test-report] |SUCCESS| pw63510 [PATCH v2] kernel/linux: fix kernel dir for meson checkpatch
2019-12-03  7:55 ` [dpdk-test-report] |SUCCESS| pw63510 " 0-day Robot
2019-12-03 18:55 [dpdk-test-report] |SUCCESS| pw63510 [PATCH] [v2] " dpdklab
2019-12-03 18:57 dpdklab
2019-12-03 22:56 dpdklab

automatic DPDK test reports

Archives are clonable:
	git clone --mirror http://inbox.dpdk.org/test-report/0 test-report/git/0.git

	# If you have public-inbox 1.1+ installed, you may
	# initialize and index your mirror using the following commands:
	public-inbox-init -V2 test-report test-report/ http://inbox.dpdk.org/test-report \
		test-report@dpdk.org
	public-inbox-index test-report


Newsgroup available over NNTP:
	nntp://inbox.dpdk.org/inbox.dpdk.test-report


AGPL code for this site: git clone https://public-inbox.org/ public-inbox