automatic DPDK test reports
 help / color / Atom feed
* [dpdk-test-report] |SUCCESS| pw63519 [PATCH] net/iavf: add TSO offload use basic path
       [not found] <20191203152825.51664-1-taox.zhu@intel.com>
@ 2019-12-03  6:47 ` checkpatch
  2019-12-03 11:55 ` [dpdk-test-report] |SUCCESS| pw63519 " 0-day Robot
  1 sibling, 0 replies; 5+ messages in thread
From: checkpatch @ 2019-12-03  6:47 UTC (permalink / raw)
  To: test-report

Test-Label: checkpatch
Test-Status: SUCCESS
http://dpdk.org/patch/63519

_coding style OK_



^ permalink raw reply	[flat|nested] 5+ messages in thread

* [dpdk-test-report] |SUCCESS| pw63519 net/iavf: add TSO offload use basic path
       [not found] <20191203152825.51664-1-taox.zhu@intel.com>
  2019-12-03  6:47 ` [dpdk-test-report] |SUCCESS| pw63519 [PATCH] net/iavf: add TSO offload use basic path checkpatch
@ 2019-12-03 11:55 ` " 0-day Robot
  1 sibling, 0 replies; 5+ messages in thread
From: 0-day Robot @ 2019-12-03 11:55 UTC (permalink / raw)
  To: test-report; +Cc: robot

From: robot@bytheb.org

Test-Label: travis-robot
Test-Status: SUCCESS
http://dpdk.org/patch/63519

_Travis build: passed_
Build URL: https://travis-ci.com/ovsrobot/dpdk/builds/139095004

^ permalink raw reply	[flat|nested] 5+ messages in thread

* [dpdk-test-report] |SUCCESS| pw63519 [PATCH] net/iavf: add TSO offload use basic path
@ 2019-12-04 18:25 dpdklab
  0 siblings, 0 replies; 5+ messages in thread
From: dpdklab @ 2019-12-04 18:25 UTC (permalink / raw)
  To: Ali Alnubani, Test Report; +Cc: dpdk-test-reports

[-- Attachment #1: Type: text/plain, Size: 3904 bytes --]

Test-Label: iol-mellanox-Performance
Test-Status: SUCCESS
http://dpdk.org/patch/63519

_Performance Testing PASS_

Submitter: Zhu, TaoX <taox.zhu@intel.com>
Date: Tuesday, December 03 2019 15:28:25 
DPDK git baseline: Repo:dpdk
  Branch: master
  CommitID:d51827a9815d1e1b97828013ea2ef4760cf61dc9

63519 --> performance testing pass

Test environment and result as below:

Ubuntu 18.04
Kernel: 4.15.0-generic
GCC: 7.4
NIC: Mellanox ConnectX-5 100000 Mbps
Target: x86_64-native-linuxapp-gcc
Fail/Total: 0/6

Detail performance results: 
+------------+---------+-------------------------------------+
| frame_size | txd/rxd | throughput difference from expected |
+============+=========+=====================================+
| 64         | 256     | 0.068                               |
+------------+---------+-------------------------------------+
| 128        | 256     | -0.219                              |
+------------+---------+-------------------------------------+
| 256        | 256     | 0.067                               |
+------------+---------+-------------------------------------+
| 512        | 256     | -0.068                              |
+------------+---------+-------------------------------------+
| 1024       | 256     | -0.001                              |
+------------+---------+-------------------------------------+
| 1518       | 256     | -0.006                              |
+------------+---------+-------------------------------------+

Ubuntu 18.04
Kernel: 4.15.0-generic
GCC: 7.4
NIC: Mellanox ConnectX-4 Lx 25000 Mbps
Target: x86_64-native-linuxapp-gcc
Fail/Total: 0/6

Detail performance results: 
+------------+---------+-------------------------------------+
| frame_size | txd/rxd | throughput difference from expected |
+============+=========+=====================================+
| 64         | 256     | -0.083                              |
+------------+---------+-------------------------------------+
| 128        | 256     | -0.212                              |
+------------+---------+-------------------------------------+
| 256        | 256     | -0.016                              |
+------------+---------+-------------------------------------+
| 512        | 256     | 0.020                               |
+------------+---------+-------------------------------------+
| 1024       | 256     | -0.008                              |
+------------+---------+-------------------------------------+
| 1518       | 256     | 0.013                               |
+------------+---------+-------------------------------------+

Ubuntu 18.04
Kernel: 4.15.0-generic
GCC: 7.4
NIC: Mellanox ConnectX-4 Lx 40000 Mbps
Target: x86_64-native-linuxapp-gcc
Fail/Total: 0/6

Detail performance results: 
+------------+---------+-------------------------------------+
| frame_size | txd/rxd | throughput difference from expected |
+============+=========+=====================================+
| 64         | 256     | 0.159                               |
+------------+---------+-------------------------------------+
| 128        | 256     | -0.002                              |
+------------+---------+-------------------------------------+
| 256        | 256     | 0.019                               |
+------------+---------+-------------------------------------+
| 512        | 256     | 0.001                               |
+------------+---------+-------------------------------------+
| 1024       | 256     | 0.015                               |
+------------+---------+-------------------------------------+
| 1518       | 256     | -0.009                              |
+------------+---------+-------------------------------------+

https://lab.dpdk.org/results/dashboard/patchsets/8794/

UNH-IOL DPDK Performance Test Lab

To manage your email subscriptions visit: 
https://lab.dpdk.org/results/dashboard/preferences/subscriptions/

^ permalink raw reply	[flat|nested] 5+ messages in thread

* [dpdk-test-report] |SUCCESS| pw63519 [PATCH] net/iavf: add TSO offload use basic path
@ 2019-12-03 17:27 dpdklab
  0 siblings, 0 replies; 5+ messages in thread
From: dpdklab @ 2019-12-03 17:27 UTC (permalink / raw)
  To: Test Report; +Cc: dpdk-test-reports

[-- Attachment #1: Type: text/plain, Size: 1324 bytes --]

Test-Label: iol-compilation
Test-Status: SUCCESS
http://dpdk.org/patch/63519

_Compile Testing PASS_

Submitter: Zhu, TaoX <taox.zhu@intel.com>
Date: Tuesday, December 03 2019 15:28:25 
DPDK git baseline: Repo:dpdk
  Branch: master
  CommitID:d51827a9815d1e1b97828013ea2ef4760cf61dc9

63519 --> compile testing pass

Test environment and result as below:

+--------------+--------------+-------------------+------------------+
| Environment  | dpdk_compile | dpdk_compile_spdk | dpdk_compile_ovs |
+==============+==============+===================+==================+
| Ubuntu 18.04 | PASS         | PASS              | PASS             |
+--------------+--------------+-------------------+------------------+
| FreeBSD 11.2 | PASS         | PASS              | SKIPPED          |
+--------------+--------------+-------------------+------------------+
| CentOS 8     | PASS         | SKIPPED           | PASS             |
+--------------+--------------+-------------------+------------------+

Ubuntu 18.04
	Kernel: 4.15.0-generic
	GCC: 7.4

FreeBSD 11.2
	Kernel: 11.2
	GCC: 8.3

CentOS 8
	Kernel: 4.18.0.el8_0
	GCC: 8.2

https://lab.dpdk.org/results/dashboard/patchsets/8794/

UNH-IOL DPDK Performance Test Lab

To manage your email subscriptions visit: 
https://lab.dpdk.org/results/dashboard/preferences/subscriptions/

^ permalink raw reply	[flat|nested] 5+ messages in thread

* [dpdk-test-report] |SUCCESS| pw63519 [PATCH] net/iavf: add TSO offload use basic path
@ 2019-12-03 17:25 " dpdklab
  0 siblings, 0 replies; 5+ messages in thread
From: dpdklab @ 2019-12-03 17:25 UTC (permalink / raw)
  To: Test Report; +Cc: dpdk-test-reports

[-- Attachment #1: Type: text/plain, Size: 1989 bytes --]

Test-Label: iol-intel-Performance
Test-Status: SUCCESS
http://dpdk.org/patch/63519

_Performance Testing PASS_

Submitter: Zhu, TaoX <taox.zhu@intel.com>
Date: Tuesday, December 03 2019 15:28:25 
DPDK git baseline: Repo:dpdk
  Branch: master
  CommitID:d51827a9815d1e1b97828013ea2ef4760cf61dc9

63519 --> performance testing pass

Test environment and result as below:

Ubuntu 18.04
Kernel: 4.15.0-generic
GCC: 7.4
NIC: Intel Corporation Ethernet Converged Network Adapter 82599ES 10000 Mbps
Target: x86_64-native-linuxapp-gcc
Fail/Total: 0/3

Detail performance results: 
+------------+---------+-------------------------------------+
| frame_size | txd/rxd | throughput difference from expected |
+============+=========+=====================================+
| 64         | 128     | 0.137                               |
+------------+---------+-------------------------------------+
| 64         | 512     | 0.460                               |
+------------+---------+-------------------------------------+
| 64         | 2048    | 0.045                               |
+------------+---------+-------------------------------------+

Ubuntu 18.04
Kernel: 4.15.0-generic
GCC: 7.4
NIC: Intel Corporation Ethernet Converged Network Adapter XL710-QDA2 40000 Mbps
Target: x86_64-native-linuxapp-gcc
Fail/Total: 0/2

Detail performance results: 
+------------+---------+-------------------------------------+
| frame_size | txd/rxd | throughput difference from expected |
+============+=========+=====================================+
| 64         | 512     | 0.029                               |
+------------+---------+-------------------------------------+
| 64         | 2048    | -0.224                              |
+------------+---------+-------------------------------------+

https://lab.dpdk.org/results/dashboard/patchsets/8794/

UNH-IOL DPDK Performance Test Lab

To manage your email subscriptions visit: 
https://lab.dpdk.org/results/dashboard/preferences/subscriptions/

^ permalink raw reply	[flat|nested] 5+ messages in thread

end of thread, back to index

Thread overview: 5+ messages (download: mbox.gz / follow: Atom feed)
-- links below jump to the message on this page --
     [not found] <20191203152825.51664-1-taox.zhu@intel.com>
2019-12-03  6:47 ` [dpdk-test-report] |SUCCESS| pw63519 [PATCH] net/iavf: add TSO offload use basic path checkpatch
2019-12-03 11:55 ` [dpdk-test-report] |SUCCESS| pw63519 " 0-day Robot
2019-12-03 17:25 [dpdk-test-report] |SUCCESS| pw63519 [PATCH] " dpdklab
2019-12-03 17:27 dpdklab
2019-12-04 18:25 dpdklab

automatic DPDK test reports

Archives are clonable:
	git clone --mirror http://inbox.dpdk.org/test-report/0 test-report/git/0.git

	# If you have public-inbox 1.1+ installed, you may
	# initialize and index your mirror using the following commands:
	public-inbox-init -V2 test-report test-report/ http://inbox.dpdk.org/test-report \
		test-report@dpdk.org
	public-inbox-index test-report


Newsgroup available over NNTP:
	nntp://inbox.dpdk.org/inbox.dpdk.test-report


AGPL code for this site: git clone https://public-inbox.org/ public-inbox