* [dpdk-test-report] |SUCCESS| pw63546 [PATCH] [v2] vhost: add config change slave msg support
@ 2019-12-04 6:46 dpdklab
0 siblings, 0 replies; 3+ messages in thread
From: dpdklab @ 2019-12-04 6:46 UTC (permalink / raw)
To: Ali Alnubani, Test Report; +Cc: dpdk-test-reports
[-- Attachment #1: Type: text/plain, Size: 3903 bytes --]
Test-Label: iol-mellanox-Performance
Test-Status: SUCCESS
http://dpdk.org/patch/63546
_Performance Testing PASS_
Submitter: Li Feng <fengli@smartx.com>
Date: Wednesday, December 04 2019 05:01:11
DPDK git baseline: Repo:dpdk
Branch: master
CommitID:d51827a9815d1e1b97828013ea2ef4760cf61dc9
63546 --> performance testing pass
Test environment and result as below:
Ubuntu 18.04
Kernel: 4.15.0-generic
GCC: 7.4
NIC: Mellanox ConnectX-4 Lx 40000 Mbps
Target: x86_64-native-linuxapp-gcc
Fail/Total: 0/6
Detail performance results:
+------------+---------+-------------------------------------+
| frame_size | txd/rxd | throughput difference from expected |
+============+=========+=====================================+
| 64 | 256 | 0.109 |
+------------+---------+-------------------------------------+
| 128 | 256 | -0.337 |
+------------+---------+-------------------------------------+
| 256 | 256 | -0.009 |
+------------+---------+-------------------------------------+
| 512 | 256 | 0.025 |
+------------+---------+-------------------------------------+
| 1024 | 256 | -0.003 |
+------------+---------+-------------------------------------+
| 1518 | 256 | -0.006 |
+------------+---------+-------------------------------------+
Ubuntu 18.04
Kernel: 4.15.0-generic
GCC: 7.4
NIC: Mellanox ConnectX-4 Lx 25000 Mbps
Target: x86_64-native-linuxapp-gcc
Fail/Total: 0/6
Detail performance results:
+------------+---------+-------------------------------------+
| frame_size | txd/rxd | throughput difference from expected |
+============+=========+=====================================+
| 64 | 256 | -0.161 |
+------------+---------+-------------------------------------+
| 128 | 256 | 0.004 |
+------------+---------+-------------------------------------+
| 256 | 256 | 0.010 |
+------------+---------+-------------------------------------+
| 512 | 256 | 0.029 |
+------------+---------+-------------------------------------+
| 1024 | 256 | -0.009 |
+------------+---------+-------------------------------------+
| 1518 | 256 | 0.011 |
+------------+---------+-------------------------------------+
Ubuntu 18.04
Kernel: 4.15.0-generic
GCC: 7.4
NIC: Mellanox ConnectX-5 100000 Mbps
Target: x86_64-native-linuxapp-gcc
Fail/Total: 0/6
Detail performance results:
+------------+---------+-------------------------------------+
| frame_size | txd/rxd | throughput difference from expected |
+============+=========+=====================================+
| 64 | 256 | 0.218 |
+------------+---------+-------------------------------------+
| 128 | 256 | 0.041 |
+------------+---------+-------------------------------------+
| 256 | 256 | 0.110 |
+------------+---------+-------------------------------------+
| 512 | 256 | -0.272 |
+------------+---------+-------------------------------------+
| 1024 | 256 | -0.050 |
+------------+---------+-------------------------------------+
| 1518 | 256 | 0.030 |
+------------+---------+-------------------------------------+
https://lab.dpdk.org/results/dashboard/patchsets/8802/
UNH-IOL DPDK Performance Test Lab
To manage your email subscriptions visit:
https://lab.dpdk.org/results/dashboard/preferences/subscriptions/
^ permalink raw reply [flat|nested] 3+ messages in thread
* [dpdk-test-report] |SUCCESS| pw63546 [PATCH] [v2] vhost: add config change slave msg support
@ 2019-12-04 6:02 dpdklab
0 siblings, 0 replies; 3+ messages in thread
From: dpdklab @ 2019-12-04 6:02 UTC (permalink / raw)
To: Test Report; +Cc: dpdk-test-reports
[-- Attachment #1: Type: text/plain, Size: 1494 bytes --]
Test-Label: iol-compilation
Test-Status: SUCCESS
http://dpdk.org/patch/63546
_Compile Testing PASS_
Submitter: Li Feng <fengli@smartx.com>
Date: Wednesday, December 04 2019 05:01:11
DPDK git baseline: Repo:dpdk
Branch: master
CommitID:d51827a9815d1e1b97828013ea2ef4760cf61dc9
63546 --> compile testing pass
Test environment and result as below:
+--------------+----------------+---------------+--------------+---------------+
| Environment | dpdk_compile_s | dpdk_meson_co | dpdk_compile | dpdk_compile_ |
| | pdk | mpile | | ovs |
+==============+================+===============+==============+===============+
| Ubuntu 18.04 | PASS | PASS | PASS | PASS |
+--------------+----------------+---------------+--------------+---------------+
| FreeBSD 11.2 | PASS | PASS | PASS | SKIPPED |
+--------------+----------------+---------------+--------------+---------------+
| CentOS 8 | SKIPPED | PASS | PASS | PASS |
+--------------+----------------+---------------+--------------+---------------+
Ubuntu 18.04
Kernel: 4.15.0-generic
GCC: 7.4
FreeBSD 11.2
Kernel: 11.2
GCC: 8.3
CentOS 8
Kernel: 4.18.0.el8_0
GCC: 8.2
https://lab.dpdk.org/results/dashboard/patchsets/8802/
UNH-IOL DPDK Performance Test Lab
To manage your email subscriptions visit:
https://lab.dpdk.org/results/dashboard/preferences/subscriptions/
^ permalink raw reply [flat|nested] 3+ messages in thread
* [dpdk-test-report] |SUCCESS| pw63546 [PATCH] [v2] vhost: add config change slave msg support
@ 2019-12-04 5:57 dpdklab
0 siblings, 0 replies; 3+ messages in thread
From: dpdklab @ 2019-12-04 5:57 UTC (permalink / raw)
To: Test Report; +Cc: dpdk-test-reports
[-- Attachment #1: Type: text/plain, Size: 1988 bytes --]
Test-Label: iol-intel-Performance
Test-Status: SUCCESS
http://dpdk.org/patch/63546
_Performance Testing PASS_
Submitter: Li Feng <fengli@smartx.com>
Date: Wednesday, December 04 2019 05:01:11
DPDK git baseline: Repo:dpdk
Branch: master
CommitID:d51827a9815d1e1b97828013ea2ef4760cf61dc9
63546 --> performance testing pass
Test environment and result as below:
Ubuntu 18.04
Kernel: 4.15.0-generic
GCC: 7.4
NIC: Intel Corporation Ethernet Converged Network Adapter 82599ES 10000 Mbps
Target: x86_64-native-linuxapp-gcc
Fail/Total: 0/3
Detail performance results:
+------------+---------+-------------------------------------+
| frame_size | txd/rxd | throughput difference from expected |
+============+=========+=====================================+
| 64 | 128 | -0.045 |
+------------+---------+-------------------------------------+
| 64 | 512 | -0.049 |
+------------+---------+-------------------------------------+
| 64 | 2048 | -0.077 |
+------------+---------+-------------------------------------+
Ubuntu 18.04
Kernel: 4.15.0-generic
GCC: 7.4
NIC: Intel Corporation Ethernet Converged Network Adapter XL710-QDA2 40000 Mbps
Target: x86_64-native-linuxapp-gcc
Fail/Total: 0/2
Detail performance results:
+------------+---------+-------------------------------------+
| frame_size | txd/rxd | throughput difference from expected |
+============+=========+=====================================+
| 64 | 512 | -0.292 |
+------------+---------+-------------------------------------+
| 64 | 2048 | -0.044 |
+------------+---------+-------------------------------------+
https://lab.dpdk.org/results/dashboard/patchsets/8802/
UNH-IOL DPDK Performance Test Lab
To manage your email subscriptions visit:
https://lab.dpdk.org/results/dashboard/preferences/subscriptions/
^ permalink raw reply [flat|nested] 3+ messages in thread
end of thread, other threads:[~2019-12-04 6:46 UTC | newest]
Thread overview: 3+ messages (download: mbox.gz / follow: Atom feed)
-- links below jump to the message on this page --
2019-12-04 6:46 [dpdk-test-report] |SUCCESS| pw63546 [PATCH] [v2] vhost: add config change slave msg support dpdklab
-- strict thread matches above, loose matches on Subject: below --
2019-12-04 6:02 dpdklab
2019-12-04 5:57 dpdklab
This is a public inbox, see mirroring instructions
for how to clone and mirror all data and code used for this inbox;
as well as URLs for NNTP newsgroup(s).