automatic DPDK test reports
 help / color / Atom feed
From: dpdklab@iol.unh.edu
To: Test Report <test-report@dpdk.org>
Cc: dpdk-test-reports@iol.unh.edu
Subject: [dpdk-test-report] |SUCCESS| [GIT MASTER] d51827a9815d1e1b97828013ea2ef4760cf61dc9
Date: Wed,  4 Dec 2019 16:07:39 -0500 (EST)
Message-ID: <20191204210739.EE8FB4AD@noxus.dpdklab.iol.unh.edu> (raw)

[-- Attachment #1: Type: text/plain, Size: 1428 bytes --]

_Testing PASS_

Branch: dpdk

d51827a9815d1e1b97828013ea2ef4760cf61dc9 --> testing pass

Test environment and result as below:

+-------------+------------+------------+------------+------------+------------+
| Environment | dpdk_compi | dpdk_unit_ | dpdk_compi | dpdk_compi | dpdk_meson |
|             |  le_spdk   |    test    |     le     |   le_ovs   |  _compile  |
+=============+============+============+============+============+============+
| FreeBSD     | PASS       | SKIPPED    | PASS       | SKIPPED    | PASS       |
| 11.2        |            |            |            |            |            |
+-------------+------------+------------+------------+------------+------------+
| Ubuntu      | PASS       | PASS       | PASS       | PASS       | PASS       |
| 18.04       |            |            |            |            |            |
+-------------+------------+------------+------------+------------+------------+
| CentOS 8    | SKIPPED    | SKIPPED    | PASS       | PASS       | PASS       |
+-------------+------------+------------+------------+------------+------------+

FreeBSD 11.2
	Kernel: 11.2
	GCC: 8.3

Ubuntu 18.04
	Kernel: 4.15.0-generic
	GCC: 7.4

CentOS 8
	Kernel: 4.18.0.el8_0
	GCC: 8.2

https://lab.dpdk.org/results/dashboard/tarballs/7357/

UNH-IOL DPDK Performance Test Lab

To manage your email subscriptions visit: 
https://lab.dpdk.org/results/dashboard/preferences/subscriptions/

             reply index

Thread overview: 8+ messages / expand[flat|nested]  mbox.gz  Atom feed  top
2019-12-04 21:07 dpdklab [this message]
  -- strict thread matches above, loose matches on Subject: below --
2019-12-04 15:51 dpdklab
2019-12-03 21:29 dpdklab
2019-12-03 15:38 dpdklab
2019-12-03 15:36 dpdklab
2019-12-02 23:25 dpdklab
2019-12-02 23:01 dpdklab
2019-12-02 22:59 dpdklab

Reply instructions:

You may reply publically to this message via plain-text email
using any one of the following methods:

* Save the following mbox file, import it into your mail client,
  and reply-to-all from there: mbox

  Avoid top-posting and favor interleaved quoting:
  https://en.wikipedia.org/wiki/Posting_style#Interleaved_style

* Reply using the --to, --cc, and --in-reply-to
  switches of git-send-email(1):

  git send-email \
    --in-reply-to=20191204210739.EE8FB4AD@noxus.dpdklab.iol.unh.edu \
    --to=dpdklab@iol.unh.edu \
    --cc=dpdk-test-reports@iol.unh.edu \
    --cc=test-report@dpdk.org \
    /path/to/YOUR_REPLY

  https://kernel.org/pub/software/scm/git/docs/git-send-email.html

* If your mail client supports setting the In-Reply-To header
  via mailto: links, try the mailto: link

automatic DPDK test reports

Archives are clonable:
	git clone --mirror http://inbox.dpdk.org/test-report/0 test-report/git/0.git

	# If you have public-inbox 1.1+ installed, you may
	# initialize and index your mirror using the following commands:
	public-inbox-init -V2 test-report test-report/ http://inbox.dpdk.org/test-report \
		test-report@dpdk.org
	public-inbox-index test-report


Newsgroup available over NNTP:
	nntp://inbox.dpdk.org/inbox.dpdk.test-report


AGPL code for this site: git clone https://public-inbox.org/ public-inbox