* [dpdk-test-report] |SUCCESS| pw63548 [PATCH] [DPDK] net/virtio: packed ring notification data feature support
@ 2019-12-04 21:51 dpdklab
0 siblings, 0 replies; 3+ messages in thread
From: dpdklab @ 2019-12-04 21:51 UTC (permalink / raw)
To: Test Report; +Cc: dpdk-test-reports
[-- Attachment #1: Type: text/plain, Size: 1501 bytes --]
Test-Label: iol-testing
Test-Status: SUCCESS
http://dpdk.org/patch/63548
_Testing PASS_
Submitter: Cheng Jiang <Cheng1.jiang@intel.com>
Date: Wednesday, December 04 2019 15:03:12
DPDK git baseline: Repo:dpdk
Branch: master
CommitID:d51827a9815d1e1b97828013ea2ef4760cf61dc9
63548 --> testing pass
Test environment and result as below:
+--------------+--------------+-------------------+------------------+--------------------+
| Environment | dpdk_compile | dpdk_compile_spdk | dpdk_compile_ovs | dpdk_meson_compile |
+==============+==============+===================+==================+====================+
| FreeBSD 11.2 | PASS | PASS | SKIPPED | PASS |
+--------------+--------------+-------------------+------------------+--------------------+
| CentOS 8 | PASS | SKIPPED | PASS | PASS |
+--------------+--------------+-------------------+------------------+--------------------+
| Ubuntu 18.04 | PASS | PASS | PASS | PASS |
+--------------+--------------+-------------------+------------------+--------------------+
FreeBSD 11.2
Kernel: 11.2
GCC: 8.3
CentOS 8
Kernel: 4.18.0.el8_0
GCC: 8.2
Ubuntu 18.04
Kernel: 4.15.0-generic
GCC: 7.4
https://lab.dpdk.org/results/dashboard/patchsets/8804/
UNH-IOL DPDK Performance Test Lab
To manage your email subscriptions visit:
https://lab.dpdk.org/results/dashboard/preferences/subscriptions/
^ permalink raw reply [flat|nested] 3+ messages in thread
* [dpdk-test-report] |SUCCESS| pw63548 [PATCH] [DPDK] net/virtio: packed ring notification data feature support
@ 2019-12-04 8:23 dpdklab
0 siblings, 0 replies; 3+ messages in thread
From: dpdklab @ 2019-12-04 8:23 UTC (permalink / raw)
To: Ali Alnubani, Test Report; +Cc: dpdk-test-reports
[-- Attachment #1: Type: text/plain, Size: 3912 bytes --]
Test-Label: iol-mellanox-Performance
Test-Status: SUCCESS
http://dpdk.org/patch/63548
_Performance Testing PASS_
Submitter: Cheng Jiang <Cheng1.jiang@intel.com>
Date: Wednesday, December 04 2019 15:03:12
DPDK git baseline: Repo:dpdk
Branch: master
CommitID:d51827a9815d1e1b97828013ea2ef4760cf61dc9
63548 --> performance testing pass
Test environment and result as below:
Ubuntu 18.04
Kernel: 4.15.0-generic
GCC: 7.4
NIC: Mellanox ConnectX-4 Lx 25000 Mbps
Target: x86_64-native-linuxapp-gcc
Fail/Total: 0/6
Detail performance results:
+------------+---------+-------------------------------------+
| frame_size | txd/rxd | throughput difference from expected |
+============+=========+=====================================+
| 64 | 256 | -0.024 |
+------------+---------+-------------------------------------+
| 128 | 256 | 0.059 |
+------------+---------+-------------------------------------+
| 256 | 256 | 0.013 |
+------------+---------+-------------------------------------+
| 512 | 256 | 0.035 |
+------------+---------+-------------------------------------+
| 1024 | 256 | -0.017 |
+------------+---------+-------------------------------------+
| 1518 | 256 | 0.001 |
+------------+---------+-------------------------------------+
Ubuntu 18.04
Kernel: 4.15.0-generic
GCC: 7.4
NIC: Mellanox ConnectX-4 Lx 40000 Mbps
Target: x86_64-native-linuxapp-gcc
Fail/Total: 0/6
Detail performance results:
+------------+---------+-------------------------------------+
| frame_size | txd/rxd | throughput difference from expected |
+============+=========+=====================================+
| 64 | 256 | 0.016 |
+------------+---------+-------------------------------------+
| 128 | 256 | -0.058 |
+------------+---------+-------------------------------------+
| 256 | 256 | -0.054 |
+------------+---------+-------------------------------------+
| 512 | 256 | 0.001 |
+------------+---------+-------------------------------------+
| 1024 | 256 | -0.004 |
+------------+---------+-------------------------------------+
| 1518 | 256 | -0.009 |
+------------+---------+-------------------------------------+
Ubuntu 18.04
Kernel: 4.15.0-generic
GCC: 7.4
NIC: Mellanox ConnectX-5 100000 Mbps
Target: x86_64-native-linuxapp-gcc
Fail/Total: 0/6
Detail performance results:
+------------+---------+-------------------------------------+
| frame_size | txd/rxd | throughput difference from expected |
+============+=========+=====================================+
| 64 | 256 | 0.110 |
+------------+---------+-------------------------------------+
| 128 | 256 | 0.016 |
+------------+---------+-------------------------------------+
| 256 | 256 | 0.089 |
+------------+---------+-------------------------------------+
| 512 | 256 | -0.104 |
+------------+---------+-------------------------------------+
| 1024 | 256 | -0.095 |
+------------+---------+-------------------------------------+
| 1518 | 256 | 0.003 |
+------------+---------+-------------------------------------+
https://lab.dpdk.org/results/dashboard/patchsets/8804/
UNH-IOL DPDK Performance Test Lab
To manage your email subscriptions visit:
https://lab.dpdk.org/results/dashboard/preferences/subscriptions/
^ permalink raw reply [flat|nested] 3+ messages in thread
* [dpdk-test-report] |SUCCESS| pw63548 [PATCH] [DPDK] net/virtio: packed ring notification data feature support
@ 2019-12-04 7:56 dpdklab
0 siblings, 0 replies; 3+ messages in thread
From: dpdklab @ 2019-12-04 7:56 UTC (permalink / raw)
To: Test Report; +Cc: dpdk-test-reports
[-- Attachment #1: Type: text/plain, Size: 1997 bytes --]
Test-Label: iol-intel-Performance
Test-Status: SUCCESS
http://dpdk.org/patch/63548
_Performance Testing PASS_
Submitter: Cheng Jiang <Cheng1.jiang@intel.com>
Date: Wednesday, December 04 2019 15:03:12
DPDK git baseline: Repo:dpdk
Branch: master
CommitID:d51827a9815d1e1b97828013ea2ef4760cf61dc9
63548 --> performance testing pass
Test environment and result as below:
Ubuntu 18.04
Kernel: 4.15.0-generic
GCC: 7.4
NIC: Intel Corporation Ethernet Converged Network Adapter 82599ES 10000 Mbps
Target: x86_64-native-linuxapp-gcc
Fail/Total: 0/3
Detail performance results:
+------------+---------+-------------------------------------+
| frame_size | txd/rxd | throughput difference from expected |
+============+=========+=====================================+
| 64 | 128 | 0.018 |
+------------+---------+-------------------------------------+
| 64 | 512 | 0.188 |
+------------+---------+-------------------------------------+
| 64 | 2048 | -0.247 |
+------------+---------+-------------------------------------+
Ubuntu 18.04
Kernel: 4.15.0-generic
GCC: 7.4
NIC: Intel Corporation Ethernet Converged Network Adapter XL710-QDA2 40000 Mbps
Target: x86_64-native-linuxapp-gcc
Fail/Total: 0/2
Detail performance results:
+------------+---------+-------------------------------------+
| frame_size | txd/rxd | throughput difference from expected |
+============+=========+=====================================+
| 64 | 512 | 0.325 |
+------------+---------+-------------------------------------+
| 64 | 2048 | 0.015 |
+------------+---------+-------------------------------------+
https://lab.dpdk.org/results/dashboard/patchsets/8804/
UNH-IOL DPDK Performance Test Lab
To manage your email subscriptions visit:
https://lab.dpdk.org/results/dashboard/preferences/subscriptions/
^ permalink raw reply [flat|nested] 3+ messages in thread
end of thread, other threads:[~2019-12-04 21:51 UTC | newest]
Thread overview: 3+ messages (download: mbox.gz / follow: Atom feed)
-- links below jump to the message on this page --
2019-12-04 21:51 [dpdk-test-report] |SUCCESS| pw63548 [PATCH] [DPDK] net/virtio: packed ring notification data feature support dpdklab
-- strict thread matches above, loose matches on Subject: below --
2019-12-04 8:23 dpdklab
2019-12-04 7:56 dpdklab
This is a public inbox, see mirroring instructions
for how to clone and mirror all data and code used for this inbox;
as well as URLs for NNTP newsgroup(s).