* [dpdk-test-report] |SUCCESS| pw63549 [PATCH] drivers/net: fix mlx* glue libraries ABI version
@ 2019-12-05 1:31 dpdklab
0 siblings, 0 replies; 3+ messages in thread
From: dpdklab @ 2019-12-05 1:31 UTC (permalink / raw)
To: Ali Alnubani, Test Report; +Cc: dpdk-test-reports
[-- Attachment #1: Type: text/plain, Size: 3918 bytes --]
Test-Label: iol-mellanox-Performance
Test-Status: SUCCESS
http://dpdk.org/patch/63549
_Performance Testing PASS_
Submitter: David Marchand <david.marchand@redhat.com>
Date: Wednesday, December 04 2019 10:05:46
DPDK git baseline: Repo:dpdk
Branch: master
CommitID:d51827a9815d1e1b97828013ea2ef4760cf61dc9
63549 --> performance testing pass
Test environment and result as below:
Ubuntu 18.04
Kernel: 4.15.0-generic
GCC: 7.4
NIC: Mellanox ConnectX-5 100000 Mbps
Target: x86_64-native-linuxapp-gcc
Fail/Total: 0/6
Detail performance results:
+------------+---------+-------------------------------------+
| frame_size | txd/rxd | throughput difference from expected |
+============+=========+=====================================+
| 64 | 256 | 0.077 |
+------------+---------+-------------------------------------+
| 128 | 256 | -0.118 |
+------------+---------+-------------------------------------+
| 256 | 256 | 0.081 |
+------------+---------+-------------------------------------+
| 512 | 256 | -0.192 |
+------------+---------+-------------------------------------+
| 1024 | 256 | 0.024 |
+------------+---------+-------------------------------------+
| 1518 | 256 | 0.017 |
+------------+---------+-------------------------------------+
Ubuntu 18.04
Kernel: 4.15.0-generic
GCC: 7.4
NIC: Mellanox ConnectX-4 Lx 40000 Mbps
Target: x86_64-native-linuxapp-gcc
Fail/Total: 0/6
Detail performance results:
+------------+---------+-------------------------------------+
| frame_size | txd/rxd | throughput difference from expected |
+============+=========+=====================================+
| 64 | 256 | 0.249 |
+------------+---------+-------------------------------------+
| 128 | 256 | 0.034 |
+------------+---------+-------------------------------------+
| 256 | 256 | -0.046 |
+------------+---------+-------------------------------------+
| 512 | 256 | 0.050 |
+------------+---------+-------------------------------------+
| 1024 | 256 | -0.008 |
+------------+---------+-------------------------------------+
| 1518 | 256 | -0.010 |
+------------+---------+-------------------------------------+
Ubuntu 18.04
Kernel: 4.15.0-generic
GCC: 7.4
NIC: Mellanox ConnectX-4 Lx 25000 Mbps
Target: x86_64-native-linuxapp-gcc
Fail/Total: 0/6
Detail performance results:
+------------+---------+-------------------------------------+
| frame_size | txd/rxd | throughput difference from expected |
+============+=========+=====================================+
| 64 | 256 | -0.047 |
+------------+---------+-------------------------------------+
| 128 | 256 | -0.133 |
+------------+---------+-------------------------------------+
| 256 | 256 | -0.029 |
+------------+---------+-------------------------------------+
| 512 | 256 | 0.006 |
+------------+---------+-------------------------------------+
| 1024 | 256 | 0.006 |
+------------+---------+-------------------------------------+
| 1518 | 256 | 0.001 |
+------------+---------+-------------------------------------+
https://lab.dpdk.org/results/dashboard/patchsets/8805/
UNH-IOL DPDK Performance Test Lab
To manage your email subscriptions visit:
https://lab.dpdk.org/results/dashboard/preferences/subscriptions/
^ permalink raw reply [flat|nested] 3+ messages in thread
* [dpdk-test-report] |SUCCESS| pw63549 [PATCH] drivers/net: fix mlx* glue libraries ABI version
@ 2019-12-04 17:57 dpdklab
0 siblings, 0 replies; 3+ messages in thread
From: dpdklab @ 2019-12-04 17:57 UTC (permalink / raw)
To: Test Report; +Cc: dpdk-test-reports
[-- Attachment #1: Type: text/plain, Size: 1338 bytes --]
Test-Label: iol-compilation
Test-Status: SUCCESS
http://dpdk.org/patch/63549
_Compile Testing PASS_
Submitter: David Marchand <david.marchand@redhat.com>
Date: Wednesday, December 04 2019 10:05:46
DPDK git baseline: Repo:dpdk
Branch: master
CommitID:d51827a9815d1e1b97828013ea2ef4760cf61dc9
63549 --> compile testing pass
Test environment and result as below:
+--------------+--------------+-------------------+------------------+
| Environment | dpdk_compile | dpdk_compile_spdk | dpdk_compile_ovs |
+==============+==============+===================+==================+
| Ubuntu 18.04 | PASS | PASS | PASS |
+--------------+--------------+-------------------+------------------+
| FreeBSD 11.2 | PASS | PASS | SKIPPED |
+--------------+--------------+-------------------+------------------+
| CentOS 8 | PASS | SKIPPED | PASS |
+--------------+--------------+-------------------+------------------+
Ubuntu 18.04
Kernel: 4.15.0-generic
GCC: 7.4
FreeBSD 11.2
Kernel: 11.2
GCC: 8.3
CentOS 8
Kernel: 4.18.0.el8_0
GCC: 8.2
https://lab.dpdk.org/results/dashboard/patchsets/8805/
UNH-IOL DPDK Performance Test Lab
To manage your email subscriptions visit:
https://lab.dpdk.org/results/dashboard/preferences/subscriptions/
^ permalink raw reply [flat|nested] 3+ messages in thread
[parent not found: <20191204100546.32095-1-david.marchand@redhat.com>]
end of thread, other threads:[~2019-12-05 1:31 UTC | newest]
Thread overview: 3+ messages (download: mbox.gz / follow: Atom feed)
-- links below jump to the message on this page --
2019-12-05 1:31 [dpdk-test-report] |SUCCESS| pw63549 [PATCH] drivers/net: fix mlx* glue libraries ABI version dpdklab
-- strict thread matches above, loose matches on Subject: below --
2019-12-04 17:57 dpdklab
[not found] <20191204100546.32095-1-david.marchand@redhat.com>
2019-12-04 10:07 ` checkpatch
This is a public inbox, see mirroring instructions
for how to clone and mirror all data and code used for this inbox;
as well as URLs for NNTP newsgroup(s).